Workbook

Sheet KPIs
A1: Fecha | B1: Ventas (COP) | C1: Margen bruto (%) | D1: Producción (unid) | E1: Mermas (unid) | F1: % Mermas | G1: Cumpl. hornadas (%) | H1: NPS | I1: CSAT (1-5) | J1: % Combos | K1: % Pago digital | L1: Alcance RRSS | M1: Hallazgos BPM (críticos)
F2: =IF(D2>0,E2/D2,0)
F3: =IF(D3>0,E3/D3,0)
F4: =IF(D4>0,E4/D4,0)
F5: =IF(D5>0,E5/D5,0)
F6: =IF(D6>0,E6/D6,0)
F7: =IF(D7>0,E7/D7,0)
F8: =IF(D8>0,E8/D8,0)
F9: =IF(D9>0,E9/D9,0)
F10: =IF(D10>0,E10/D10,0)
F11: =IF(D11>0,E11/D11,0)
F12: =IF(D12>0,E12/D12,0)
F13: =IF(D13>0,E13/D13,0)
... F91: =IF(D91>0,E91/D91,0)

Sheet Dashboard
A1: Indicador | B1: Meta 90 días | C1: Actual | D1: Semáforo
A2: Ventas mensuales (COP) | B2: +10% vs base | C2: =SUM(KPIs!B2:B91)
A3: Margen bruto (%) | B3: +3 pp | C3: =AVERAGE(KPIs!C2:C91)
A4: % Mermas | B4: -20% | C4: =AVERAGE(KPIs!F2:F91)
A5: Cumpl. hornadas (%) | B5: >=90% | C5: =AVERAGE(KPIs!G2:G91)
A6: NPS | B6: >=+40 | C6: =AVERAGE(KPIs!H2:H91)
A7: CSAT (1-5) | B7: >=4.5 | C7: =AVERAGE(KPIs!I2:I91)
A8: % Combos | B8: >=15% | C8: =AVERAGE(KPIs!J2:J91)
A9: % Pago digital | B9: >=5% | C9: =AVERAGE(KPIs!K2:K91)
A10: Alcance RRSS | B10: >=2000/mes | C10: =SUM(KPIs!L2:L91)
A11: Hallazgos críticos | B11: 0 | C11: =SUM(KPIs!M2:M91)
