Workbook
Name _Toc371412829: ClasCriterios!#REF!
Name _Toc371412829: ComProyectos!#REF!
Name _Toc371412829: 'Valoración Belalcazar'!#REF!
Name _Toc371412829: 'Valoración Gaviria.'!#REF!

Sheet ClasCriterios
D2: Selección multicriterio de proyectos en la secretaría de integración social de palmira
C6: Encuesta 1: Ranking de criterios selección
C8: Fecha de aplicación: 30/04/14
C9: Encuestados: Martha Lucy Gaviria
D10: Jhon Gregory Belalcazar
C11: Procedimiento | D11: Proponente | E11: Criterios | F11: Clasificación
C12: Clasificar los criterios considerados más importantes en la selección de proyectos del PEIS. En una escala de 1-8. Siendo 1 el critero más importante. | D12: Comité Técnico | E12: Necesidad de la comunidad | F12: 2
E14: Iniciativa o solicitud de la comunidad | F14: 5
E16: Cumplimientos con Politicas locales o nacionales | F16: 8
E18: Costo beneficio | F18: 3
D20: Revisión bibliográfica | E20: Reducción en indicadores de pobreza | F20: 1
E22: Técnico | F22: 4
E24: Económicos | F24: 6
E26: Institucional | F26: 7

Sheet Escala de preferencia
B3: Escala Saaty | C3: Escala difusa | D3: Representación | E3: Escala Verbal | F3: Explicación
B4: 1 | C4: (1,1,2) | D4: M1 | E4: Igual importancia de ambos elementos | F4: Los dos elementos contribuyen de igual forma al objetivo
B6: 3 | C6: (2,3,4) | D6: M3 | E6: Moderada importancia de un elemento sobre otro | F6: La experiencia y el juicio favorecen levemente a un elemento sobre el otro
B8: 5 | C8: (4,5,6) | D8: M5 | E8: Fuerte importancia de un elemento sobre otro | F8: Uno de los elementos es fuertemente favorecido
B10: 7 | C10: (6,7,8) | D10: M7 | E10: Muy fuerte importancia de un elemento sobre otro | F10: Uno de los elementos es fuertemente dominante
B12: 9 | C12: (8,9,9) | D12: M9 | E12: Extrema importancia de un elemento sobre otro | F12: La evidencia que favorece a uno de los elementos es del mayor orden de afirmación
B14: 2,4,6,8 | C14: (1,1,2), (2,3,4), (4,5,6), (6,7,8), (8,9,9) | D14: M2,M4,M6,M8 | E14: Valores intermedios entre dos juicios adyacentes | F14: Usados como valores de consenso entre dos juicios
B18: Rep Gráfica | C18: Rep Gráfica
B19: Elemento 1 | C19: 5
B20: Elemento 2 | C20: 5
B21: Elemento 1 | C21: 6
B22: Elemento 2 | C22: 4
B23: Elemento 1 | C23: 7
B24: Elemento 2 | C24: 3
B25: Elemento 1 | C25: 8
B26: Elemento 2 | C26: 2
B27: Elemento 1 | C27: 9
B28: Elemento 2 | C28: 1

Sheet Valoración Gaviria.
D2: Selección multicriterio de proyectos en la secretaría de integración social de palmira
C7: Encuesta 2: Calificación de Criterios
C9: Fecha de aplicación: 29 de Abril de 2014
C11: Encuestado: Martha Lucy Gaviria
E13: Indicadores de pobreza | F13: Necesidad de la comunidad | G13: Costo beneficio | H13: Técnico
C14: Indicadores de pobreza | E14: (1,1,1) | F14: (1,1,2) | G14: (1/4,1/3,1/2) | H14: (1/4,1/3,1/2)
C15: Necesidad de la comunidad | E15: (1/2,1,1) | F15: (1,1,1) | G15: (1/4,1/3,1/2) | H15: (1/6,1/5,1/4)
C16: Costo beneficio | E16: (2,3,4) | F16: (2,3,4) | G16: (1,1,1) | H16: (1/4,1/3,1/2)
C17: Técnico | E17: (2,3,4) | F17: (4,5,6) | G17: (2,3,4) | H17: (1,1,1)
D21: Selección multicriterio de proyectos en la secretaría de integración social de palmira
C26: Encuesta 3: Calificación de Subcriterios
C28: Fecha de aplicación: 29 de Abril de 2014
C30: Encuestado: Martha Lucy Gaviria
F32: Pertinencia | G32: Focalización
E33: Pertinencia | F33: (1,1,1) | G33: (1,1,2)
E34: Focalización | F34: (1/2,1,1) | G34: (1,1,1)
F36: Coordinación | G36: Eficacia
E37: Coordinación | F37: (1,1,1) | G37: (1/4,1/3,1/2)
E38: Eficacia | F38: (2,3,4) | G38: (1,1,1)
D42: Selección multicriterio de proyectos en la secretaría de integración social de palmira
C47: Encuesta 4: Calificación pareada entre criterios, subriterios y proyectos
C49: Fecha de aplicación: 29 de Abril de 2014
C51: Encuestado: Martha Lucy Gaviria
C53: PERTINENCIA | E53: Formación en baile y danza | F53: Jornadas Complementarias | G53: Ludotecas Comunitarias | H53: Ajedrez Infantil
C54: Formación en baile y danza | E54: (1,1,1) | F54: (1/4,1/3,1/2) | G54: (1,1,2) | H54: (1,1,2)
C55: Jornadas Complementarias | E55: (2,3,4) | F55: (1,1,1) | G55: (2,3,4) | H55: (4,5,6)
C56: Ludotecas Comunitarias | E56: (1/2,1,1) | F56: (1/4,1/3,1/2) | G56: (1,1,1) | H56: (1,1,2)
C57: Ajedrez Infantil | E57: (1/2,1,1) | F57: (1/6,1/5,1/4) | G57: (1/2,1,1) | H57: (1,1,1)
C60: FOCALIZACIÓN | E60: Formación en baile y danza | F60: Jornadas Complementarias | G60: Ludotecas Comunitarias | H60: Ajedrez Infantil
C61: Formación en baile y danza | E61: (1,1,1) | F61: (1/4,1/3,1/2) | G61: (1,1,2) | H61: (1/4,1/3,1/2)
C62: Jornadas Complementarias | E62: (2,3,4) | F62: (1,1,1) | G62: (2,3,4) | H62: (1,1,2)
C63: Ludotecas Comunitarias | E63: (1/2,1,1) | F63: (1/4,1/3,1/2) | G63: (1,1,1) | H63: (2,3,4)
C64: Ajedrez Infantil | E64: (2,3,4) | F64: (1/2,1,1) | G64: (1/4,1/3,1/2) | H64: (1,1,1)
C67: COORDINACIÓN | E67: Formación en baile y danza | F67: Jornadas Complementarias | G67: Ludotecas Comunitarias | H67: Ajedrez Infantil
C68: Formación en baile y danza | E68: (1,1,1) | F68: (1/6,1/5,1/4) | G68: (1,1,2) | H68: (1/4,1/3,1/2)
... C92: Ajedrez Infantil | E92: (2,3,4) | F92: (1/4,1/3,1/2) | G92: (1/2,1,1) | H92: (1,1,1)

Sheet Valoración Belalcazar
D2: Selección multicriterio de proyectos en la secretaría de integración social de palmira
C7: Encuesta 2: Calificación de Criterios
C9: Fecha de aplicación: 30 de Abril de 2014
C11: Encuestado: Jhon Gregory Belalcazar
E13: Indicadores de pobreza | F13: Necesidad de la comunidad | G13: Costo beneficio | H13: Técnico
C14: Indicadores de pobreza | E14: (1,1,1) | F14: (1/6,1/5,1/4) | G14: (2,3,4) | H14: (1,1,2)
C15: Necesidad de la comunidad | E15: (4,5,6) | F15: (1,1,1) | G15: (4,5,6) | H15: (4,5,6)
C16: Costo beneficio | E16: (1/4,1/3,1/2) | F16: (1/6,1/5,1/4) | G16: (1,1,1) | H16: (1/4,1/3,1/2)
C17: Técnico | E17: (1/2,1,1) | F17: (1/6,1/5,1/4) | G17: (2,3,4) | H17: (1,1,1)
D20: Selección multicriterio de proyectos en la secretaría de integración social de palmira
C25: Encuesta 3: Calificación de Subcriterios
C27: Fecha de aplicación: 30 de Abril de 2014
C29: Encuestado: Jhon Gregory Belalcazar
F31: Pertinencia | G31: Focalización
E32: Pertinencia | F32: (1,1,1) | G32: (1/4,1/3,1/2)
E33: Focalización | F33: (2,3,4) | G33: (1,1,1)
F35: Coordinación | G35: Eficacia
E36: Coordinación | F36: (1,1,1) | G36: (1/6,1/5,1/4)
E37: Eficacia | F37: (4,5,6) | G37: (1,1,1)
D40: Selección multicriterio de proyectos en la secretaría de integración social de palmira
C45: Encuesta 4: Calificación pareada entre criterios, subriterios y proyectos
C47: Fecha de aplicación: 30 de Abril de 2014
C49: Encuestado: Jhon Gregory Belalcazar
C51: PERTINENCIA | E51: Formación en baile y danza | F51: Jornadas Complementarias | G51: Ludotecas Comunitarias | H51: Ajedrez Infantil
C52: Formación en baile y danza | E52: (1,1,1) | F52: (1/4,1/3,1/2) | G52: (1/8,1/7,1/6) | H52: (1,1,2)
C53: Jornadas Complementarias | E53: (2,3,4) | F53: (1,1,1) | G53: (1,1,2) | H53: (6,7,8)
C54: Ludotecas Comunitarias | E54: (6,7,8) | F54: (1/2,1,1) | G54: (1,1,1) | H54: (6,7,8)
C55: Ajedrez Infantil | E55: (1/2,1,1) | F55: (1/8,1/7,1/6) | G55: (1/8,1/7,1/6) | H55: (1,1,1)
C58: FOCALIZACIÓN | E58: Formación en baile y danza | F58: Jornadas Complementarias | G58: Ludotecas Comunitarias | H58: Ajedrez Infantil
C59: Formación en baile y danza | E59: (1,1,1) | F59: (2,3,4) | G59: (1,1,2) | H59: (2,3,4)
C60: Jornadas Complementarias | E60: (1/4,1/3,1/2) | F60: (1,1,1) | G60: (1/4,1/3,1/2) | H60: (2,3,4)
C61: Ludotecas Comunitarias | E61: (1/2,1,1) | F61: (2,3,4) | G61: (1,1,1) | H61: (6,7,8)
C62: Ajedrez Infantil | E62: (1/4,1/3,1/2) | F62: (1/4,1/3,1/2) | G62: (1/8,1/7,1/6) | H62: (1,1,1)
C65: COORDINACIÓN | E65: Formación en baile y danza | F65: Jornadas Complementarias | G65: Ludotecas Comunitarias | H65: Ajedrez Infantil
C66: Formación en baile y danza | E66: (1,1,1) | F66: (1/9,1/9,1/8) | G66: (1/6,1/5,1/4) | H66: (1,1,2)
... C90: Ajedrez Infantil | E90: (1/2,1,1) | F90: (1/8,1/7,1/6) | G90: (1/8,1/7,1/6) | H90: (1,1,1)

Sheet ComProyectos
D2: Selección multicriterio de proyectos en la secretaría de integración social de palmira
C7: Encuesta 4: Calificación pareada entre Subriterios y proyectos
C9: Fecha de aplicación:______________________
C11: Encuestado: Mesa técnica del PEIS
E13: Formación en baile y danza | F13: Jornadas Complementarias | G13: Ludotecas Comunitarias | H13: Ajedrez Infantil
C14: Formación en baile y danza | E14: (1,1,1)
C15: Jornadas Complementarias | F15: (1,1,1)
C16: Ludotecas Comunitarias | G16: (1,1,1)
C17: Ajedrez Infantil | H17: (1,1,1)
E20: Formación en baile y danza | F20: Jornadas Complementarias | G20: Ludotecas Comunitarias | H20: Ajedrez Infantil
C21: Formación en baile y danza | E21: (1,1,1)
C22: Jornadas Complementarias | F22: (1,1,1)
C23: Ludotecas Comunitarias | G23: (1,1,1)
C24: Ajedrez Infantil | H24: (1,1,1)
E27: Formación en baile y danza | F27: Jornadas Complementarias | G27: Ludotecas Comunitarias | H27: Ajedrez Infantil
C28: Formación en baile y danza | E28: (1,1,1)
C29: Jornadas Complementarias | F29: (1,1,1)
C30: Ludotecas Comunitarias | G30: (1,1,1)
C31: Ajedrez Infantil | H31: (1,1,1)
E34: Formación en baile y danza | F34: Jornadas Complementarias | G34: Ludotecas Comunitarias | H34: Ajedrez Infantil
C35: Formación en baile y danza | E35: (1,1,1)
C36: Jornadas Complementarias | F36: (1,1,1)
C37: Ludotecas Comunitarias | G37: (1,1,1)
C38: Ajedrez Infantil | H38: (1,1,1)

Sheet Matrices Gaviria M
B5: MATRICES DE COMPARACIÓN POR PARES DE CRITERIOS
B7: Nivel Uno | U7: Matriz defuzzificada | AA7: Matriz normalizada | AG7: Vector prioridad | AJ7: Nuevo vector | AM7: Vector prueba | AP7: Lambda máx | AR7: IC | AT7: IA | AV7: CC | AX7: Vector suma de la matriz | BC7: Vector suma de las filas | BL7: Grado sintetico difuso | BQ7: Comparacion | BZ7: Vector peso | CC7: Vector peso
B9: Criterios | D9: Indicadores de pobreza | H9: Necesidad de la comunidad | L9: Costo beneficio | P9: Técnico | V9: Indicadores de pobreza | W9: Necesidad de la comunidad | X9: Costo beneficio | Y9: Técnico | AB9: Indicadores de pobreza | AC9: Necesidad de la comunidad | AD9: Costo beneficio | AE9: Técnico
W10: Necesidad de la comunidad | X10: Costo beneficio | Y10: Ténico | AC10: Necesidad de la comunidad | AD10: Costo beneficio | AE10: Ténico
B11: Indicadores de pobreza | D11: 1 | E11: 1 | F11: 1 | H11: 1 | I11: 1 | J11: 2 | L11: 0.25 | M11: 0.33333333 | N11: 0.5 | P11: 0.25 | Q11: 0.33333333 | R11: 0.5 | U11: Indicadores de pobreza | V11: =(4*E11+D11+F11)/6 -> 1 | W11: =(4*I11+H11+J11)/6 -> 1.1666667 | X11: =(4*M11+L11+N11)/6 -> 0.34722222 | Y11: =(4*Q11+P11+R11)/6 -> 0.34722222 | AA11: Indicadores de pobreza | AB11: =V11/SUM($V$11:$V$14) -> 0.12631579 | AC11: =W11/SUM($W$11:$W$14) -> 0.1147541 | AD11: =X11/SUM($X$11:$X$14) -> 0.073964497 | AE11: =Y11/SUM($Y$11:$Y$14) -> 0.18301611 | AG11: Indicadores de pobreza | AH11: =AVERAGE(AB11:AE11) -> 0.12451262 | AJ11: Indicadores de pobreza | AK11: =V11*$AH$11+W11*$AH$12+X11*$AH$13+Y11*$AH$14 -> 0.50942062 | AM11: Indicadores de pobreza | AN11: =AK11/AH11 -> 4.0913171 | AP11: =AVERAGE(AN11:AN14) -> 4.1693244 | AR11: =(AP11-4)/(4-1) -> 0.056441454 | AT11: 0.882 | AV11: =AR11/AT11 -> 0.063992579 | AX11: Indicadores de pobreza | AY11: =1/((SUM($F$11:$F$14)+SUM($J$11:$J$14)+SUM($N$11:$N$14)+SUM($R$11:$R$14))) -> 0.032 | AZ11: =1/(SUM($E$11:$E$14)+SUM($I$11:$I$14)+SUM($M$11:$M$14)+SUM($Q$11:$Q$14)) -> 0.04076087 | BA11: =1/(SUM($D$11:$D$14)+SUM($H$11:$H$14)+SUM($L$11:$L$14)+SUM($P$11:$P$14)) -> 0.053571429 | BC11: Indicadores de pobreza | BD11: =D11+H11+L11+P11 -> 2.5 | BE11: =E11+I11+M11+Q11 -> 2.6666667 | BF11: =F11+J11+N11+R11 -> 4 | BL11: Indicadores de pobreza | BM11: =AY11*BD11 -> 0.08 | BN11: =AZ11*BE11 -> 0.10869565 | BO11: =BA11*BF11 -> 0.21428571 | BQ11: Ind-nec | BR11: =IF((BN11>=BN12),1,(IF((BM12>BO11),"",((BM12-BO11)/((BN11-BO11)-(BN12-BM12)))))) -> 1 | BS11: nec-Ind | BT11: =IF((BN12>=BN11),1,(IF((BM11>BO12),"",((BM11-BO12)/((BN12-BO12)-(BN11-BM11)))))) -> 0.92530146 | BU11: cto-Ind | BV11: =IF((BN13>=BN11),1,(IF((BM11>BO13),"",((BM11-BO13)/((BN13-BO13)-(BN11-BM11)))))) -> 1 | BW11: tec-Ind | BX11: =IF((BN14>=BN11),1,(IF((BM11>BO14),"",((BM11-BO14)/((BN14-BO14)-(BN11-BM11)))))) -> 1 | BZ11: Indicadores de pobreza | CA11: =MIN(BR11:BR13) -> 0.1957087 | CC11: Indicadores de pobreza | CD11: =CA11/SUM($CA$11:$CA$14) -> 0.073620131
B12: Necesidad de la comunidad | D12: 0.5 | E12: 1 | F12: 1 | H12: 1 | I12: 1 | J12: 1 | L12: 0.25 | M12: 0.33333333 | N12: 0.5 | P12: 0.16666667 | Q12: 0.2 | R12: 0.25 | U12: Necesidad de la comunidad | V12: =(4*E12+D12+F12)/6 -> 0.91666667 | W12: =(4*I12+H12+J12)/6 -> 1 | X12: =(4*M12+L12+N12)/6 -> 0.34722222 | Y12: =(4*Q12+P12+R12)/6 -> 0.20277778 | AA12: Necesidad de la comunidad | AB12: =V12/SUM($V$11:$V$14) -> 0.11578947 | AC12: =W12/SUM($W$11:$W$14) -> 0.098360656 | AD12: =X12/SUM($X$11:$X$14) -> 0.073964497 | AE12: =Y12/SUM($Y$11:$Y$14) -> 0.10688141 | AG12: Necesidad de la comunidad | AH12: =AVERAGE(AB12:AE12) -> 0.098749008 | AJ12: Necesidad de la comunidad | AK12: =V12*$AH$11+W12*$AH$12+X12*$AH$13+Y12*$AH$14 -> 0.40903203 | AM12: Necesidad de la comunidad | AN12: =AK12/AH12 -> 4.1421381 | AX12: Necesidad de la comunidad | AY12: =1/((SUM($F$11:$F$14)+SUM($J$11:$J$14)+SUM($N$11:$N$14)+SUM($R$11:$R$14))) -> 0.032 | AZ12: =1/(SUM($E$11:$E$14)+SUM($I$11:$I$14)+SUM($M$11:$M$14)+SUM($Q$11:$Q$14)) -> 0.04076087 | BA12: =1/(SUM($D$11:$D$14)+SUM($H$11:$H$14)+SUM($L$11:$L$14)+SUM($P$11:$P$14)) -> 0.053571429 | BC12: Necesidad de la comunidad | BD12: =D12+H12+L12+P12 -> 1.9166667 | BE12: =E12+I12+M12+Q12 -> 2.5333333 | BF12: =F12+J12+N12+R12 -> 2.75 | BL12: Necesidad de la comunidad | BM12: =AY12*BD12 -> 0.061333333 | BN12: =AZ12*BE12 -> 0.10326087 | BO12: =BA12*BF12 -> 0.14732143 | BQ12: Ind-cto | BR12: =IF((BN11>=BN13),1,(IF((BM13>BO11),"",((BM13-BO11)/((BN11-BO11)-(BN13-BM13)))))) -> 0.1957087 | BS12: nec-cto | BT12: =IF((BN12>=BN13),1,(IF((BM13>BO12),"",((BM13-BO12)/((BN12-BO12)-(BN13-BM13)))))) | BU12: cto-nec | BV12: =IF((BN13>=BN12),1,(IF((BM12>BO13),"",((BM12-BO13)/((BN13-BO13)-(BN12-BM12)))))) -> 1 | BW12: tec-nec | BX12: =IF((BN14>=BN12),1,(IF((BM12>BO14),"",((BM12-BO14)/((BN14-BO14)-(BN12-BM12)))))) -> 1 | BZ12: Necesidad de la comunidad | CA12: =MIN(BT11:BT13) -> 0.92530146 | CC12: Necesidad de la comunidad | CD12: =CA12/SUM($CA$11:$CA$14) -> 0.3480725
B13: Costo beneficio | D13: 2 | E13: 3 | F13: 4 | H13: 2 | I13: 3 | J13: 4 | L13: 1 | M13: 1 | N13: 1 | P13: 0.25 | Q13: 0.33333333 | R13: 0.5 | U13: Costo beneficio | V13: =(4*E13+D13+F13)/6 -> 3 | W13: =(4*I13+H13+J13)/6 -> 3 | X13: =(4*M13+L13+N13)/6 -> 1 | Y13: =(4*Q13+P13+R13)/6 -> 0.34722222 | AA13: Costo beneficio | AB13: =V13/SUM($V$11:$V$14) -> 0.37894737 | AC13: =W13/SUM($W$11:$W$14) -> 0.29508197 | AD13: =X13/SUM($X$11:$X$14) -> 0.21301775 | AE13: =Y13/SUM($Y$11:$Y$14) -> 0.18301611 | AG13: Costo beneficio | AH13: =AVERAGE(AB13:AE13) -> 0.2675158 | AJ13: Costo beneficio | AK13: =V13*$AH$11+W13*$AH$12+X13*$AH$13+Y13*$AH$14 -> 1.1141141 | AM13: Costo beneficio | AN13: =AK13/AH13 -> 4.1646665 | AX13: Costo beneficio | AY13: =1/((SUM($F$11:$F$14)+SUM($J$11:$J$14)+SUM($N$11:$N$14)+SUM($R$11:$R$14))) -> 0.032 | AZ13: =1/(SUM($E$11:$E$14)+SUM($I$11:$I$14)+SUM($M$11:$M$14)+SUM($Q$11:$Q$14)) -> 0.04076087 | BA13: =1/(SUM($D$11:$D$14)+SUM($H$11:$H$14)+SUM($L$11:$L$14)+SUM($P$11:$P$14)) -> 0.053571429 | BC13: Costo beneficio | BD13: =D13+H13+L13+P13 -> 5.25 | BE13: =E13+I13+M13+Q13 -> 7.3333333 | BF13: =F13+J13+N13+R13 -> 9.5 | BL13: Costo beneficio | BM13: =AY13*BD13 -> 0.168 | BN13: =AZ13*BE13 -> 0.29891304 | BO13: =BA13*BF13 -> 0.50892857 | BQ13: Ind-tec | BR13: =IF((BN11>=BN14),1,(IF((BM14>BO11),"",((BM14-BO11)/((BN11-BO11)-(BN14-BM14)))))) | BS13: nec-tec | BT13: =IF((BN12>=BN14),1,(IF((BM14>BO12),"",((BM14-BO12)/((BN12-BO12)-(BN14-BM14)))))) | BU13: cto-tec | BV13: =IF((BN13>=BN14),1,(IF((BM14>BO13),"",((BM14-BO13)/((BN13-BO13)-(BN14-BM14)))))) -> 0.53734827 | BW13: tec-cto | BX13: =IF((BN14>=BN13),1,(IF((BM13>BO14),"",((BM13-BO14)/((BN14-BO14)-(BN13-BM13)))))) -> 1 | BZ13: Costo beneficio | CA13: =MIN(BV11:BV13) -> 0.53734827 | CC13: Costo beneficio | CD13: =CA13/SUM($CA$11:$CA$14) -> 0.20213537
B14: Técnico | D14: 2 | E14: 3 | F14: 4 | H14: 4 | I14: 5 | J14: 6 | L14: 2 | M14: 3 | N14: 4 | P14: 1 | Q14: 1 | R14: 1 | U14: Técnico | V14: =(4*E14+D14+F14)/6 -> 3 | W14: =(4*I14+H14+J14)/6 -> 5 | X14: =(4*M14+L14+N14)/6 -> 3 | Y14: =(4*Q14+P14+R14)/6 -> 1 | AA14: Técnico | AB14: =V14/SUM($V$11:$V$14) -> 0.37894737 | AC14: =W14/SUM($W$11:$W$14) -> 0.49180328 | AD14: =X14/SUM($X$11:$X$14) -> 0.63905325 | AE14: =Y14/SUM($Y$11:$Y$14) -> 0.52708638 | AG14: Técnico | AH14: =AVERAGE(AB14:AE14) -> 0.50922257 | AJ14: Técnico | AK14: =V14*$AH$11+W14*$AH$12+X14*$AH$13+Y14*$AH$14 -> 2.1790529 | AM14: Técnico | AN14: =AK14/AH14 -> 4.2791757 | AX14: Técnico | AY14: =1/((SUM($F$11:$F$14)+SUM($J$11:$J$14)+SUM($N$11:$N$14)+SUM($R$11:$R$14))) -> 0.032 | AZ14: =1/(SUM($E$11:$E$14)+SUM($I$11:$I$14)+SUM($M$11:$M$14)+SUM($Q$11:$Q$14)) -> 0.04076087 | BA14: =1/(SUM($D$11:$D$14)+SUM($H$11:$H$14)+SUM($L$11:$L$14)+SUM($P$11:$P$14)) -> 0.053571429 | BC14: Técnico | BD14: =D14+H14+L14+P14 -> 9 | BE14: =E14+I14+M14+Q14 -> 12 | BF14: =F14+J14+N14+R14 -> 15 | BL14: Técnico | BM14: =AY14*BD14 -> 0.288 | BN14: =AZ14*BE14 -> 0.48913043 | BO14: =BA14*BF14 -> 0.80357143 | BZ14: Técnico | CA14: =MIN(BX11:BX13) -> 1 | CC14: Técnico | CD14: =CA14/SUM($CA$11:$CA$14) -> 0.376172
D15: =IF(AV11<=0.1,"MATRIZ CONSISTENTE","MATRIZ INCONSISTENTE") -> MATRIZ CONSISTENTE | AB15: =SUM(AB11:AB14) -> 1 | AC15: =SUM(AC11:AC14) -> 1 | AD15: =SUM(AD11:AD14) -> 1 | AE15: =SUM(AE11:AE14) -> 1 | CD15: =SUM(CD11:CD14) -> 1
B18: Nivel Dos
B20: Indicadores de pobreza | D20: Pertinencia | H20: Focalización | V20: Pertinencia | W20: Focalización | AB20: Pertinencia | AC20: Focalización
B22: Pertinencia | D22: 1 | E22: 1 | F22: 1 | H22: 1 | I22: 1 | J22: 2 | U22: Pertinencia | V22: 1 | W22: =(4*I22+H22+J22)/6 -> 1.1666667 | AA22: Pertinencia | AB22: =V22/($V$22+$V$23) -> 0.52173913 | AC22: =W22/($W$22+$W$23) -> 0.53846154 | AG22: Pertinencia | AH22: =AVERAGE(AB22:AC22) -> 0.53010033
B23: Focalización | D23: 1 | E23: 1 | F23: 0.5 | H23: 1 | I23: 1 | J23: 1 | U23: Focalización | V23: =(4*E23+D23+F23)/6 -> 0.91666667 | W23: 1 | AA23: Focalización | AB23: =V23/($V$22+$V$23) -> 0.47826087 | AC23: =W23/($W$22+$W$23) -> 0.46153846 | AG23: Focalización | AH23: =AVERAGE(AB23:AC23) -> 0.46989967
B25: Técnico | D25: Coordinación | H25: Eficacia | V25: Coordinación | W25: Eficacia | AB25: Pertinencia | AC25: Focalización
B27: Coordinación | D27: 1 | E27: 1 | F27: 1 | H27: 0.5 | I27: 0.33333333 | J27: 0.25 | U27: Coordinación | V27: =(4*E27+D27+F27)/6 -> 1 | W27: =(4*I27+H27+J27)/6 -> 0.34722222 | AA27: Coordinación | AB27: =V27/(V27+V28) -> 0.25 | AC27: =W27/($W$27+$W$28) -> 0.25773196 | AG27: Coordinación | AH27: =AVERAGE(AB27:AC27) -> 0.25386598
B28: Eficacia | D28: 2 | E28: 3 | F28: 4 | H28: 1 | I28: 1 | J28: 1 | U28: Eficacia | V28: =(4*E28+D28+F28)/6 -> 3 | W28: =(4*I28+H28+J28)/6 -> 1 | AA28: Eficacia | AB28: =V28/(V28+V27) -> 0.75 | AC28: =W28/($W$27+$W$28) -> 0.74226804 | AG28: Eficacia | AH28: =AVERAGE(AB28:AC28) -> 0.74613402
B32: Criterios | D32: Indicadores de pobreza | H32: Necesidad de la comunidad | L32: Costo beneficio | P32: Técnico | V32: Indicadores de pobreza | W32: Necesidad de la comunidad | X32: Costo beneficio | Y32: Técnico | AB32: Indicadores de pobreza | AC32: Necesidad de la comunidad | AD32: Costo beneficio | AE32: Técnico
W33: Necesidad de la comunidad | AE33: Técnico
B34: Indicadores de pobreza | D34: 1 | E34: 1 | F34: 1 | H34: 1 | I34: 1 | J34: 2 | L34: 0.25 | M34: 0.33333333 | N34: 0.5 | P34: 0.25 | Q34: 0.33333333 | R34: 0.5 | U34: Indicadores de pobreza | V34: 1 | W34: 0.2 | X34: 0.2 | Y34: 0.33333333 | AA34: Indicadores de pobreza | AB34: =V34/SUM($V$34:$V$37) -> 0.071428571 | AC34: =W34/SUM($W$34:$W$37) -> 0.03125 | AD34: =X34/SUM($X$34:$X$37) -> 0.12962963 | AE34: =Y34/SUM($Y$34:$Y$37) -> 0.025 | AG34: Indicadores de pobreza | AH34: =AVERAGE(AB34:AE34) -> 0.06432705 | AJ34: Indicadores de pobreza | AK34: =V34*$AH$34+W34*$AH$35+X34*$AH$36+Y34*$AH$37 -> 0.26523258 | AM34: Indicadores de pobreza | AN34: =AK34/AH34 -> 4.123189 | AP34: =AVERAGE(AN34:AN37) -> 4.5101185 | AR34: =(AP34-4)/(4-1) -> 0.17003948 | AT34: 0.882 | AV34: =AR34/AT34 -> 0.19278853
B35: Necesidad de la comunidad | D35: 0.5 | E35: 1 | F35: 1 | H35: 1 | I35: 1 | J35: 1 | L35: 0.25 | M35: 0.33333333 | N35: 0.5 | P35: 4 | Q35: 5 | R35: 6 | U35: Necesidad de la comunidad | V35: 5 | W35: 1 | X35: 0.2 | Y35: 5 | AA35: Necesidad de la comunidad | AB35: =V35/SUM($V$34:$V$37) -> 0.35714286 | AC35: =W35/SUM($W$34:$W$37) -> 0.15625 | AD35: =X35/SUM($X$34:$X$37) -> 0.12962963 | AE35: =Y35/SUM($Y$34:$Y$37) -> 0.375 | AG35: Necesidad de la comunidad | AH35: =AVERAGE(AB35:AE35) -> 0.25450562 | AJ35: Necesidad de la comunidad | AK35: =V35*$AH$34+W35*$AH$35+X35*$AH$36+Y35*$AH$37 -> 1.2081283 | AM35: Necesidad de la comunidad | AN35: =AK35/AH35 -> 4.7469612
B36: Costo beneficio | D36: 2 | E36: 3 | F36: 4 | H36: 2 | I36: 3 | J36: 4 | L36: 1 | M36: 1 | N36: 1 | P36: 0.25 | Q36: 0.33333333 | R36: 0.5 | U36: Costo beneficio | V36: 5 | W36: 5 | X36: 1 | Y36: 7 | AA36: Costo beneficio | AB36: =V36/SUM($V$34:$V$37) -> 0.35714286 | AC36: =W36/SUM($W$34:$W$37) -> 0.78125 | AD36: =X36/SUM($X$34:$X$37) -> 0.64814815 | AE36: =Y36/SUM($Y$34:$Y$37) -> 0.525 | AG36: Costo beneficio | AH36: =AVERAGE(AB36:AE36) -> 0.57788525 | AJ36: Costo beneficio | AK36: =V36*$AH$34+W36*$AH$35+X36*$AH$36+Y36*$AH$37 -> 2.8950231 | AM36: Costo beneficio | AN36: =AK36/AH36 -> 5.0096851 | AT36: 1.98 | AV36: =AR34/AT36 -> 0.085878527
B37: Técnico | D37: 2 | E37: 3 | F37: 4 | H37: 0.16666667 | I37: 0.2 | J37: 0.25 | L37: 2 | M37: 3 | N37: 4 | P37: 1 | Q37: 1 | R37: 1 | U37: Técnico | V37: 3 | W37: 0.2 | X37: 0.14285714 | Y37: 1 | AA37: Técnico | AB37: =V37/SUM($V$34:$V$37) -> 0.21428571 | AC37: =W37/SUM($W$34:$W$37) -> 0.03125 | AD37: =X37/SUM($X$34:$X$37) -> 0.092592593 | AE37: =Y37/SUM($Y$34:$Y$37) -> 0.075 | AG37: Técnico | AH37: =AVERAGE(AB37:AE37) -> 0.10328208 | AJ37: Técnico | AK37: =V37*$AH$34+W37*$AH$35+X37*$AH$36+Y37*$AH$37 -> 0.42971939 | AM37: Técnico | AN37: =AK37/AH37 -> 4.1606385
AB38: =SUM(AB34:AB37) -> 1 | AC38: =SUM(AC34:AC37) -> 1 | AD38: =SUM(AD34:AD37) -> 1 | AE38: =SUM(AE34:AE37) -> 1
B42: Proyectos
C44: PROYECTO
B45: 1 | C45: Formación en danza y baile
B46: 2 | C46: Jornadas complementarias
B47: 3 | C47: Ludotecas comunitarias
B48: 4 | C48: Ajedrez infantil
B50: Comparación por pares de proyectos respecto de criterios | U50: Matriz defuzzificada | AA50: Matriz normalizada | AG50: Vector prioridad | AJ50: Nuevo vector | AM50: Vector prueba | AP50: Lambda máx | AR50: IC | AT50: IA | AV50: CC
AX51: Vector suma de la matriz
B53: Pertinencia | D53: 1 | H53: 2 | L53: 3 | P53: 4
V54: 1 | W54: 2 | X54: 3 | Y54: 4 | AB54: 1 | AC54: 2 | AD54: 3 | AE54: 4
B55: 1 | D55: 1 | E55: 1 | F55: 1 | H55: 0.25 | I55: 0.33333333 | J55: 0.5 | L55: 1 | M55: 1 | N55: 2 | P55: 0.5 | Q55: 1 | R55: 1 | U55: 1 | V55: =(4*E55+D55+F55)/6 -> 1 | W55: =(4*I55+H55+J55)/6 -> 0.34722222 | X55: =(4*M55+L55+N55)/6 -> 1.1666667 | Y55: =(4*Q55+P55+R55)/6 -> 0.91666667 | AA55: 1 | AB55: =V55/SUM($V$55:$V$58) -> 0.16438356 | AC55: =W55/SUM($W$55:$W$58) -> 0.18301611 | AD55: =X55/SUM($X$55:$X$58) -> 0.19178082 | AE55: =Y55/SUM($Y$55:$Y$58) -> 0.11340206 | AG55: 1 | AH55: =AVERAGE(AB55:AE55) -> 0.16314564 | AJ55: 1 | AK55: =V55*$AH$55+W55*$AH$56+X55*$AH$57+Y55*$AH$58 -> 0.66690706 | AM55: 1 | AN55: =AK55/AH55 -> 4.087802 | AP55: =AVERAGE(AN55:AN58) -> 4.1222051 | AR55: =(AP55-4)/(4-1) -> 0.040735022 | AT55: 0.882 | AV55: =AR55/AT55 -> 0.046184832 | AX55: Indicadores de pobreza | AY55: =1/((SUM($F$55:$F$58)+SUM($J$55:$J$58)+SUM($N$55:$N$58)+SUM($R$55:$R$58))) -> 0.03539823 | AZ55: =1/(SUM($E$55:$E$58)+SUM($I$55:$I$58)+SUM($M$55:$M$58)+SUM($Q$55:$Q$58)) -> 0.045731707 | BA55: =1/(SUM($D$55:$D$58)+SUM($H$55:$H$58)+SUM($L$55:$L$58)+SUM($P$55:$P$58)) -> 0.058252427 | BC55: Indicadores de pobreza | BD55: =D55+H55+L55+P55 -> 2.75 | BE55: =E55+I55+M55+Q55 -> 3.3333333 | BF55: =F55+J55+N55+R55 -> 4.5 | BL55: Indicadores de pobreza | BM55: =AY55*BD55 -> 0.097345133 | BN55: =AZ55*BE55 -> 0.15243902 | BO55: =BA55*BF55 -> 0.26213592 | BQ55: Ind-nec | BR55: =IF((BN55>=BN56),1,(IF((BM56>BO55),"",((BM56-BO55)/((BN55-BO55)-(BN56-BM56)))))) | BS55: nec-Ind | BT55: =IF((BN56>=BN55),1,(IF((BM55>BO56),"",((BM55-BO56)/((BN56-BO56)-(BN55-BM55)))))) -> 1 | BU55: cto-Ind | BV55: =IF((BN57>=BN55),1,(IF((BM55>BO57),"",((BM55-BO57)/((BN57-BO57)-(BN55-BM55)))))) -> 1 | BW55: tec-Ind | BX55: =IF((BN58>=BN55),1,(IF((BM55>BO58),"",((BM55-BO58)/((BN58-BO58)-(BN55-BM55)))))) -> 0.96099439 | BZ55: Indicadores de pobreza | CA55: =MIN(BR55:BR57) -> 1 | CC55: Indicadores de pobreza | CD55: =CA55/SUM($CA$55:$CA$58) -> 0.25246186
B56: 2 | D56: 2 | E56: 3 | F56: 4 | H56: 1 | I56: 1 | J56: 1 | L56: 2 | M56: 3 | N56: 4 | P56: 4 | Q56: 5 | R56: 6 | U56: 2 | V56: =(4*E56+D56+F56)/6 -> 3 | W56: =(4*I56+H56+J56)/6 -> 1 | X56: =(4*M56+L56+N56)/6 -> 3 | Y56: =(4*Q56+P56+R56)/6 -> 5 | AA56: 2 | AB56: =V56/SUM($V$55:$V$58) -> 0.49315068 | AC56: =W56/SUM($W$55:$W$58) -> 0.52708638 | AD56: =X56/SUM($X$55:$X$58) -> 0.49315068 | AE56: =Y56/SUM($Y$55:$Y$58) -> 0.6185567 | AG56: 2 | AH56: =AVERAGE(AB56:AE56) -> 0.53298611 | AJ56: 2 | AK56: =V56*$AH$55+W56*$AH$56+X56*$AH$57+Y56*$AH$58 -> 2.220557 | AM56: 2 | AN56: =AK56/AH56 -> 4.1662568 | AX56: Necesidad de la comunidad | AY56: =1/((SUM($F$55:$F$58)+SUM($J$55:$J$58)+SUM($N$55:$N$58)+SUM($R$55:$R$58))) -> 0.03539823 | AZ56: =1/(SUM($E$55:$E$58)+SUM($I$55:$I$58)+SUM($M$55:$M$58)+SUM($Q$55:$Q$58)) -> 0.045731707 | BA56: =1/(SUM($D$55:$D$58)+SUM($H$55:$H$58)+SUM($L$55:$L$58)+SUM($P$55:$P$58)) -> 0.058252427 | BC56: Necesidad de la comunidad | BD56: =D56+H56+L56+P56 -> 9 | BE56: =E56+I56+M56+Q56 -> 12 | BF56: =F56+J56+N56+R56 -> 15 | BL56: Necesidad de la comunidad | BM56: =AY56*BD56 -> 0.31858407 | BN56: =AZ56*BE56 -> 0.54878049 | BO56: =BA56*BF56 -> 0.87378641 | BQ56: Ind-cto | BR56: =IF((BN55>=BN57),1,(IF((BM57>BO55),"",((BM57-BO55)/((BN55-BO55)-(BN57-BM57)))))) -> 1 | BS56: nec-cto | BT56: =IF((BN56>=BN57),1,(IF((BM57>BO56),"",((BM57-BO56)/((BN56-BO56)-(BN57-BM57)))))) -> 1 | BU56: cto-nec | BV56: =IF((BN57>=BN56),1,(IF((BM56>BO57),"",((BM56-BO57)/((BN57-BO57)-(BN56-BM56)))))) | BW56: tec-nec | BX56: =IF((BN58>=BN56),1,(IF((BM56>BO58),"",((BM56-BO58)/((BN58-BO58)-(BN56-BM56)))))) | BZ56: Necesidad de la comunidad | CA56: =MIN(BT55:BT57) -> 1 | CC56: Necesidad de la comunidad | CD56: =CA56/SUM($CA$55:$CA$58) -> 0.25246186
B57: 3 | D57: 0.5 | E57: 1 | F57: 1 | H57: 0.25 | I57: 0.33333333 | J57: 0.5 | L57: 1 | M57: 1 | N57: 1 | P57: 1 | Q57: 1 | R57: 2 | U57: 3 | V57: =(4*E57+D57+F57)/6 -> 0.91666667 | W57: =(4*I57+H57+J57)/6 -> 0.34722222 | X57: =(4*M57+L57+N57)/6 -> 1 | Y57: =(4*Q57+P57+R57)/6 -> 1.1666667 | AA57: 3 | AB57: =V57/SUM($V$55:$V$58) -> 0.15068493 | AC57: =W57/SUM($W$55:$W$58) -> 0.18301611 | AD57: =X57/SUM($X$55:$X$58) -> 0.16438356 | AE57: =Y57/SUM($Y$55:$Y$58) -> 0.1443299 | AG57: 3 | AH57: =AVERAGE(AB57:AE57) -> 0.16060362 | AJ57: 3 | AK57: =V57*$AH$55+W57*$AH$56+X57*$AH$57+Y57*$AH$58 -> 0.66236048 | AM57: 3 | AN57: =AK57/AH57 -> 4.1241938 | AX57: Costo beneficio | AY57: =1/((SUM($F$55:$F$58)+SUM($J$55:$J$58)+SUM($N$55:$N$58)+SUM($R$55:$R$58))) -> 0.03539823 | AZ57: =1/(SUM($E$55:$E$58)+SUM($I$55:$I$58)+SUM($M$55:$M$58)+SUM($Q$55:$Q$58)) -> 0.045731707 | BA57: =1/(SUM($D$55:$D$58)+SUM($H$55:$H$58)+SUM($L$55:$L$58)+SUM($P$55:$P$58)) -> 0.058252427 | BC57: Costo beneficio | BD57: =D57+H57+L57+P57 -> 2.75 | BE57: =E57+I57+M57+Q57 -> 3.3333333 | BF57: =F57+J57+N57+R57 -> 4.5 | BL57: Costo beneficio | BM57: =AY57*BD57 -> 0.097345133 | BN57: =AZ57*BE57 -> 0.15243902 | BO57: =BA57*BF57 -> 0.26213592 | BQ57: Ind-tec | BR57: =IF((BN55>=BN58),1,(IF((BM58>BO55),"",((BM58-BO55)/((BN55-BO55)-(BN58-BM58)))))) -> 1 | BS57: nec-tec | BT57: =IF((BN56>=BN58),1,(IF((BM58>BO56),"",((BM58-BO56)/((BN56-BO56)-(BN58-BM58)))))) -> 1 | BU57: cto-tec | BV57: =IF((BN57>=BN58),1,(IF((BM58>BO57),"",((BM58-BO57)/((BN57-BO57)-(BN58-BM58)))))) -> 1 | BW57: tec-cto | BX57: =IF((BN58>=BN57),1,(IF((BM57>BO58),"",((BM57-BO58)/((BN58-BO58)-(BN57-BM57)))))) -> 0.96099439 | BZ57: Costo beneficio | CA57: =MIN(BV55:BV57) -> 1 | CC57: Costo beneficio | CD57: =CA57/SUM($CA$55:$CA$58) -> 0.25246186
B58: 4 | D58: 1 | E58: 1 | F58: 2 | H58: 0.16666667 | I58: 0.2 | J58: 0.25 | L58: 0.5 | M58: 1 | N58: 1 | P58: 1 | Q58: 1 | R58: 1 | U58: 4 | V58: =(4*E58+D58+F58)/6 -> 1.1666667 | W58: =(4*I58+H58+J58)/6 -> 0.20277778 | X58: =(4*M58+L58+N58)/6 -> 0.91666667 | Y58: =(4*Q58+P58+R58)/6 -> 1 | AA58: 4 | AB58: =V58/SUM($V$55:$V$58) -> 0.19178082 | AC58: =W58/SUM($W$55:$W$58) -> 0.10688141 | AD58: =X58/SUM($X$55:$X$58) -> 0.15068493 | AE58: =Y58/SUM($Y$55:$Y$58) -> 0.12371134 | AG58: 4 | AH58: =AVERAGE(AB58:AE58) -> 0.14326462 | AJ58: 4 | AK58: =V58*$AH$55+W58*$AH$56+X58*$AH$57+Y58*$AH$58 -> 0.58889893 | AM58: 4 | AN58: =AK58/AH58 -> 4.1105676 | AX58: Técnico | AY58: =1/((SUM($F$55:$F$58)+SUM($J$55:$J$58)+SUM($N$55:$N$58)+SUM($R$55:$R$58))) -> 0.03539823 | AZ58: =1/(SUM($E$55:$E$58)+SUM($I$55:$I$58)+SUM($M$55:$M$58)+SUM($Q$55:$Q$58)) -> 0.045731707 | BA58: =1/(SUM($D$55:$D$58)+SUM($H$55:$H$58)+SUM($L$55:$L$58)+SUM($P$55:$P$58)) -> 0.058252427 | BC58: Técnico | BD58: =D58+H58+L58+P58 -> 2.6666667 | BE58: =E58+I58+M58+Q58 -> 3.2 | BF58: =F58+J58+N58+R58 -> 4.25 | BL58: Técnico | BM58: =AY58*BD58 -> 0.09439528 | BN58: =AZ58*BE58 -> 0.14634146 | BO58: =BA58*BF58 -> 0.24757282 | BZ58: Técnico | CA58: =MIN(BX55:BX57) -> 0.96099439 | CC58: Técnico | CD58: =CA58/SUM($CA$55:$CA$58) -> 0.24261443
D59: =IF(AV55<=0.1,"MATRIZ CONSISTENTE","MATRIZ INCONSISTENTE") -> MATRIZ CONSISTENTE | AB59: =SUM(AB55:AB58) -> 1 | AC59: =SUM(AC55:AC58) -> 1 | AD59: =SUM(AD55:AD58) -> 1 | AE59: =SUM(AE55:AE58) -> 1 | CD59: =SUM(CD55:CD58) -> 1
B62: Focalización | D62: 1 | H62: 2 | L62: 3 | P62: 4
V63: 1 | W63: 2 | X63: 3 | Y63: 4 | AB63: 1 | AC63: 2 | AD63: 3 | AE63: 4
B64: 1 | D64: 1 | E64: 1 | F64: 1 | H64: 0.25 | I64: 0.33333333 | J64: 0.5 | L64: 1 | M64: 1 | N64: 2 | P64: 0.25 | Q64: 0.33333333 | R64: 0.5 | U64: 1 | V64: =(4*E64+D64+F64)/6 -> 1 | W64: =(4*I64+H64+J64)/6 -> 0.34722222 | X64: =(4*M64+L64+N64)/6 -> 1.1666667 | Y64: =(4*Q64+P64+R64)/6 -> 0.34722222 | AA64: 1 | AB64: =V64/SUM($V$64:$V$67) -> 0.12631579 | AC64: =W64/SUM($W$64:$W$67) -> 0.13297872 | AD64: =X64/SUM($X$64:$X$67) -> 0.14285714 | AE64: =Y64/SUM($Y$64:$Y$67) -> 0.12135922 | AG64: 1 | AH64: =AVERAGE(AB64:AE64) -> 0.13087772 | AJ64: 1 | AK64: =V64*$AH$64+W64*$AH$65+X64*$AH$66+Y64*$AH$67 -> 0.53356604 | AM64: 1 | AN64: =AK64/AH64 -> 4.0768287 | AP64: =AVERAGE(AN64:AN67) -> 4.0791173 | AR64: =(AP64-4)/(4-1) -> 0.026372426 | AT64: 0.882 | AV64: =AR64/AT64 -> 0.02990071 | AX64: Indicadores de pobreza | AY64: =1/((SUM($F$64:$F$67)+SUM($J$64:$J$67)+SUM($N$64:$N$67)+SUM($R$64:$R$67))) -> 0.035714286 | AZ64: =1/(SUM($E$64:$E$67)+SUM($I$64:$I$67)+SUM($M$64:$M$67)+SUM($Q$64:$Q$67)) -> 0.046875 | BA64: =1/(SUM($D$64:$D$67)+SUM($H$64:$H$67)+SUM($L$64:$L$67)+SUM($P$64:$P$67)) -> 0.0625 | BC64: Indicadores de pobreza | BD64: =D64+H64+L64+P64 -> 2.5 | BE64: =E64+I64+M64+Q64 -> 2.6666667 | BF64: =F64+J64+N64+R64 -> 4 | BL64: Indicadores de pobreza | BM64: =AY64*BD64 -> 0.089285714 | BN64: =AZ64*BE64 -> 0.125 | BO64: =BA64*BF64 -> 0.25 | BQ64: Ind-nec | BR64: =IF((BN64>=BN65),1,(IF((BM65>BO64),"",((BM65-BO64)/((BN64-BO64)-(BN65-BM65)))))) -> 0.125 | BS64: nec-Ind | BT64: =IF((BN65>=BN64),1,(IF((BM64>BO65),"",((BM64-BO65)/((BN65-BO65)-(BN64-BM64)))))) -> 1 | BU64: cto-Ind | BV64: =IF((BN66>=BN64),1,(IF((BM64>BO66),"",((BM64-BO66)/((BN66-BO66)-(BN64-BM64)))))) -> 1 | BW64: tec-Ind | BX64: =IF((BN67>=BN64),1,(IF((BM64>BO67),"",((BM64-BO67)/((BN67-BO67)-(BN64-BM64)))))) -> 1 | BZ64: Indicadores de pobreza | CA64: =MIN(BR64:BR66) -> 0.125 | CC64: Indicadores de pobreza | CD64: =CA64/SUM($CA$64:$CA$67) -> 0.04
B65: 2 | D65: 2 | E65: 3 | F65: 4 | H65: 1 | I65: 1 | J65: 1 | L65: 2 | M65: 3 | N65: 4 | P65: 1 | Q65: 1 | R65: 2 | U65: 2 | V65: =(4*E65+D65+F65)/6 -> 3 | W65: =(4*I65+H65+J65)/6 -> 1 | X65: =(4*M65+L65+N65)/6 -> 3 | Y65: =(4*Q65+P65+R65)/6 -> 1.1666667 | AA65: 2 | AB65: =V65/SUM($V$64:$V$67) -> 0.37894737 | AC65: =W65/SUM($W$64:$W$67) -> 0.38297872 | AD65: =X65/SUM($X$64:$X$67) -> 0.36734694 | AE65: =Y65/SUM($Y$64:$Y$67) -> 0.40776699 | AG65: 2 | AH65: =AVERAGE(AB65:AE65) -> 0.38426001 | AJ65: 2 | AK65: =V65*$AH$64+W65*$AH$65+X65*$AH$66+Y65*$AH$67 -> 1.56833 | AM65: 2 | AN65: =AK65/AH65 -> 4.0814292 | AX65: Necesidad de la comunidad | AY65: =1/((SUM($F$64:$F$67)+SUM($J$64:$J$67)+SUM($N$64:$N$67)+SUM($R$64:$R$67))) -> 0.035714286 | AZ65: =1/(SUM($E$64:$E$67)+SUM($I$64:$I$67)+SUM($M$64:$M$67)+SUM($Q$64:$Q$67)) -> 0.046875 | BA65: =1/(SUM($D$64:$D$67)+SUM($H$64:$H$67)+SUM($L$64:$L$67)+SUM($P$64:$P$67)) -> 0.0625 | BC65: Necesidad de la comunidad | BD65: =D65+H65+L65+P65 -> 6 | BE65: =E65+I65+M65+Q65 -> 8 | BF65: =F65+J65+N65+R65 -> 11 | BL65: Necesidad de la comunidad | BM65: =AY65*BD65 -> 0.21428571 | BN65: =AZ65*BE65 -> 0.375 | BO65: =BA65*BF65 -> 0.6875 | BQ65: Ind-cto | BR65: =IF((BN64>=BN66),1,(IF((BM66>BO64),"",((BM66-BO64)/((BN64-BO64)-(BN66-BM66)))))) -> 1 | BS65: nec-cto | BT65: =IF((BN65>=BN66),1,(IF((BM66>BO65),"",((BM66-BO65)/((BN65-BO65)-(BN66-BM66)))))) -> 1 | BU65: cto-nec | BV65: =IF((BN66>=BN65),1,(IF((BM65>BO66),"",((BM65-BO66)/((BN66-BO66)-(BN65-BM65)))))) | BW65: tec-nec | BX65: =IF((BN67>=BN65),1,(IF((BM65>BO67),"",((BM65-BO67)/((BN67-BO67)-(BN65-BM65)))))) -> 1 | BZ65: Necesidad de la comunidad | CA65: =MIN(BT64:BT66) -> 1 | CC65: Necesidad de la comunidad | CD65: =CA65/SUM($CA$64:$CA$67) -> 0.32
B66: 3 | D66: 0.5 | E66: 1 | F66: 1 | H66: 0.25 | I66: 0.33333333 | J66: 0.5 | L66: 1 | M66: 1 | N66: 1 | P66: 0.25 | Q66: 0.33333333 | R66: 0.5 | U66: 3 | V66: =(4*E66+D66+F66)/6 -> 0.91666667 | W66: =(4*I66+H66+J66)/6 -> 0.34722222 | X66: =(4*M66+L66+N66)/6 -> 1 | Y66: =(4*Q66+P66+R66)/6 -> 0.34722222 | AA66: 3 | AB66: =V66/SUM($V$64:$V$67) -> 0.11578947 | AC66: =W66/SUM($W$64:$W$67) -> 0.13297872 | AD66: =X66/SUM($X$64:$X$67) -> 0.12244898 | AE66: =Y66/SUM($Y$64:$Y$67) -> 0.12135922 | AG66: 3 | AH66: =AVERAGE(AB66:AE66) -> 0.1231441 | AJ66: 3 | AK66: =V66*$AH$64+W66*$AH$65+X66*$AH$66+Y66*$AH$67 -> 0.50213554 | AM66: 3 | AN66: =AK66/AH66 -> 4.0776257 | AT66: 1.98 | AV66: =AR64/AT66 -> 0.013319407 | AX66: Costo beneficio | AY66: =1/((SUM($F$64:$F$67)+SUM($J$64:$J$67)+SUM($N$64:$N$67)+SUM($R$64:$R$67))) -> 0.035714286 | AZ66: =1/(SUM($E$64:$E$67)+SUM($I$64:$I$67)+SUM($M$64:$M$67)+SUM($Q$64:$Q$67)) -> 0.046875 | BA66: =1/(SUM($D$64:$D$67)+SUM($H$64:$H$67)+SUM($L$64:$L$67)+SUM($P$64:$P$67)) -> 0.0625 | BC66: Costo beneficio | BD66: =D66+H66+L66+P66 -> 2 | BE66: =E66+I66+M66+Q66 -> 2.6666667 | BF66: =F66+J66+N66+R66 -> 3 | BL66: Costo beneficio | BM66: =AY66*BD66 -> 0.071428571 | BN66: =AZ66*BE66 -> 0.125 | BO66: =BA66*BF66 -> 0.1875 | BQ66: Ind-tec | BR66: =IF((BN64>=BN67),1,(IF((BM67>BO64),"",((BM67-BO64)/((BN64-BO64)-(BN67-BM67)))))) -> 0.17647059 | BS66: nec-tec | BT66: =IF((BN65>=BN67),1,(IF((BM67>BO65),"",((BM67-BO65)/((BN65-BO65)-(BN67-BM67)))))) -> 1 | BU66: cto-tec | BV66: =IF((BN66>=BN67),1,(IF((BM67>BO66),"",((BM67-BO66)/((BN66-BO66)-(BN67-BM67)))))) | BW66: tec-cto | BX66: =IF((BN67>=BN66),1,(IF((BM66>BO67),"",((BM66-BO67)/((BN67-BO67)-(BN66-BM66)))))) -> 1 | BZ66: Costo beneficio | CA66: =MIN(BV64:BV66) -> 1 | CC66: Costo beneficio | CD66: =CA66/SUM($CA$64:$CA$67) -> 0.32
B67: 4 | D67: 2 | E67: 3 | F67: 4 | H67: 0.5 | I67: 1 | J67: 1 | L67: 2 | M67: 3 | N67: 4 | P67: 1 | Q67: 1 | R67: 1 | U67: 4 | V67: =(4*E67+D67+F67)/6 -> 3 | W67: =(4*I67+H67+J67)/6 -> 0.91666667 | X67: =(4*M67+L67+N67)/6 -> 3 | Y67: =(4*Q67+P67+R67)/6 -> 1 | AA67: 4 | AB67: =V67/SUM($V$64:$V$67) -> 0.37894737 | AC67: =W67/SUM($W$64:$W$67) -> 0.35106383 | AD67: =X67/SUM($X$64:$X$67) -> 0.36734694 | AE67: =Y67/SUM($Y$64:$Y$67) -> 0.34951456 | AG67: 4 | AH67: =AVERAGE(AB67:AE67) -> 0.36171818 | AJ67: 4 | AK67: =V67*$AH$64+W67*$AH$65+X67*$AH$66+Y67*$AH$67 -> 1.476022 | AM67: 4 | AN67: =AK67/AH67 -> 4.0805856 | AX67: Técnico | AY67: =1/((SUM($F$64:$F$67)+SUM($J$64:$J$67)+SUM($N$64:$N$67)+SUM($R$64:$R$67))) -> 0.035714286 | AZ67: =1/(SUM($E$64:$E$67)+SUM($I$64:$I$67)+SUM($M$64:$M$67)+SUM($Q$64:$Q$67)) -> 0.046875 | BA67: =1/(SUM($D$64:$D$67)+SUM($H$64:$H$67)+SUM($L$64:$L$67)+SUM($P$64:$P$67)) -> 0.0625 | BC67: Técnico | BD67: =D67+H67+L67+P67 -> 5.5 | BE67: =E67+I67+M67+Q67 -> 8 | BF67: =F67+J67+N67+R67 -> 10 | BL67: Técnico | BM67: =AY67*BD67 -> 0.19642857 | BN67: =AZ67*BE67 -> 0.375 | BO67: =BA67*BF67 -> 0.625 | BZ67: Técnico | CA67: =MIN(BX64:BX66) -> 1 | CC67: Técnico | CD67: =CA67/SUM($CA$64:$CA$67) -> 0.32
D68: =IF(AV64<=0.1,"MATRIZ CONSISTENTE","MATRIZ INCONSISTENTE") -> MATRIZ CONSISTENTE | AB68: =SUM(AB64:AB67) -> 1 | AC68: =SUM(AC64:AC67) -> 1 | AD68: =SUM(AD64:AD67) -> 1 | AE68: =SUM(AE64:AE67) -> 1 | CD68: =SUM(CD64:CD67) -> 1
B71: Necesidad de la comunidad | D71: 1 | H71: 2 | L71: 3 | P71: 4
V72: 1 | W72: 2 | X72: 3 | Y72: 4 | AB72: 1 | AC72: 2 | AD72: 3 | AE72: 4
B73: 1 | D73: 1 | E73: 1 | F73: 1 | H73: 0.25 | I73: 0.33333333 | J73: 0.5 | L73: 1 | M73: 1 | N73: 2 | P73: 0.25 | Q73: 0.33333333 | R73: 0.5 | U73: 1 | V73: =(4*E73+D73+F73)/6 -> 1 | W73: =(4*I73+H73+J73)/6 -> 0.34722222 | X73: =(4*M73+L73+N73)/6 -> 1.1666667 | Y73: =(4*Q73+P73+R73)/6 -> 0.34722222 | AA73: 1 | AB73: =V73/SUM($V$73:$V$76) -> 0.12631579 | AC73: =W73/SUM($W$73:$W$76) -> 0.17006803 | AD73: =X73/SUM($X$73:$X$76) -> 0.18421053 | AE73: =Y73/SUM($Y$73:$Y$76) -> 0.065963061 | AG73: 1 | AH73: =AVERAGE(AB73:AE73) -> 0.13663935 | AJ73: 1 | AK73: =V73*$AH$73+W73*$AH$74+X73*$AH$75+Y73*$AH$76 -> 0.56299995 | AM73: 1 | AN73: =AK73/AH73 -> 4.1203354 | AP73: =AVERAGE(AN73:AN76) -> 4.2316444 | AR73: =(AP73-4)/(4-1) -> 0.077214811 | AT73: 0.882 | AV73: =AR73/AT73 -> 0.087545137 | AX73: Indicadores de pobreza | AY73: =1/((SUM($F$73:$F$76)+SUM($J$73:$J$76)+SUM($N$73:$N$76)+SUM($R$73:$R$76))) -> 0.035714286 | AZ73: =1/(SUM($E$73:$E$76)+SUM($I$73:$I$76)+SUM($M$73:$M$76)+SUM($Q$73:$Q$76)) -> 0.046875 | BA73: =1/(SUM($D$73:$D$76)+SUM($H$73:$H$76)+SUM($L$73:$L$76)+SUM($P$73:$P$76)) -> 0.0625 | BC73: Indicadores de pobreza | BD73: =D73+H73+L73+P73 -> 2.5 | BE73: =E73+I73+M73+Q73 -> 2.6666667 | BF73: =F73+J73+N73+R73 -> 4 | BL73: Indicadores de pobreza | BM73: =AY73*BD73 -> 0.089285714 | BN73: =AZ73*BE73 -> 0.125 | BO73: =BA73*BF73 -> 0.25 | BQ73: Ind-nec | BR73: =IF((BN73>=BN74),1,(IF((BM74>BO73),"",((BM74-BO73)/((BN73-BO73)-(BN74-BM74)))))) -> 0 | BS73: nec-Ind | BT73: =IF((BN74>=BN73),1,(IF((BM73>BO74),"",((BM73-BO74)/((BN74-BO74)-(BN73-BM73)))))) -> 1 | BU73: cto-Ind | BV73: =IF((BN75>=BN73),1,(IF((BM73>BO75),"",((BM73-BO75)/((BN75-BO75)-(BN73-BM73)))))) -> 1 | BW73: tec-Ind | BX73: =IF((BN76>=BN73),1,(IF((BM73>BO76),"",((BM73-BO76)/((BN76-BO76)-(BN73-BM73)))))) -> 1 | BZ73: Indicadores de pobreza | CA73: =MIN(BR73:BR75) -> 0 | CC73: Indicadores de pobreza | CD73: =CA73/SUM($CA$73:$CA$76) -> 0
B74: 2 | D74: 2 | E74: 3 | F74: 4 | H74: 1 | I74: 1 | J74: 1 | L74: 2 | M74: 3 | N74: 4 | P74: 2 | Q74: 3 | R74: 4 | U74: 2 | V74: =(4*E74+D74+F74)/6 -> 3 | W74: =(4*I74+H74+J74)/6 -> 1 | X74: =(4*M74+L74+N74)/6 -> 3 | Y74: =(4*Q74+P74+R74)/6 -> 3 | AA74: 2 | AB74: =V74/SUM($V$73:$V$76) -> 0.37894737 | AC74: =W74/SUM($W$73:$W$76) -> 0.48979592 | AD74: =X74/SUM($X$73:$X$76) -> 0.47368421 | AE74: =Y74/SUM($Y$73:$Y$76) -> 0.56992084 | AG74: 2 | AH74: =AVERAGE(AB74:AE74) -> 0.47808709 | AJ74: 2 | AK74: =V74*$AH$73+W74*$AH$74+X74*$AH$75+Y74*$AH$76 -> 2.0438258 | AM74: 2 | AN74: =AK74/AH74 -> 4.2750074 | AX74: Necesidad de la comunidad | AY74: =1/((SUM($F$73:$F$76)+SUM($J$73:$J$76)+SUM($N$73:$N$76)+SUM($R$73:$R$76))) -> 0.035714286 | AZ74: =1/(SUM($E$73:$E$76)+SUM($I$73:$I$76)+SUM($M$73:$M$76)+SUM($Q$73:$Q$76)) -> 0.046875 | BA74: =1/(SUM($D$73:$D$76)+SUM($H$73:$H$76)+SUM($L$73:$L$76)+SUM($P$73:$P$76)) -> 0.0625 | BC74: Necesidad de la comunidad | BD74: =D74+H74+L74+P74 -> 7 | BE74: =E74+I74+M74+Q74 -> 10 | BF74: =F74+J74+N74+R74 -> 13 | BL74: Necesidad de la comunidad | BM74: =AY74*BD74 -> 0.25 | BN74: =AZ74*BE74 -> 0.46875 | BO74: =BA74*BF74 -> 0.8125 | BQ74: Ind-cto | BR74: =IF((BN73>=BN75),1,(IF((BM75>BO73),"",((BM75-BO73)/((BN73-BO73)-(BN75-BM75)))))) -> 0.84444444 | BS74: nec-cto | BT74: =IF((BN74>=BN75),1,(IF((BM75>BO74),"",((BM75-BO74)/((BN74-BO74)-(BN75-BM75)))))) -> 1 | BU74: cto-nec | BV74: =IF((BN75>=BN74),1,(IF((BM74>BO75),"",((BM74-BO75)/((BN75-BO75)-(BN74-BM74)))))) | BW74: tec-nec | BX74: =IF((BN76>=BN74),1,(IF((BM74>BO76),"",((BM74-BO76)/((BN76-BO76)-(BN74-BM74)))))) -> 0.5 | BZ74: Necesidad de la comunidad | CA74: =MIN(BT73:BT75) -> 1 | CC74: Necesidad de la comunidad | CD74: =CA74/SUM($CA$73:$CA$76) -> 0.52173913
B75: 3 | D75: 0.5 | E75: 1 | F75: 1 | H75: 0.25 | I75: 0.33333333 | J75: 0.5 | L75: 1 | M75: 1 | N75: 1 | P75: 0.5 | Q75: 1 | R75: 1 | U75: 3 | V75: =(4*E75+D75+F75)/6 -> 0.91666667 | W75: =(4*I75+H75+J75)/6 -> 0.34722222 | X75: =(4*M75+L75+N75)/6 -> 1 | Y75: =(4*Q75+P75+R75)/6 -> 0.91666667 | AA75: 3 | AB75: =V75/SUM($V$73:$V$76) -> 0.11578947 | AC75: =W75/SUM($W$73:$W$76) -> 0.17006803 | AD75: =X75/SUM($X$73:$X$76) -> 0.15789474 | AE75: =Y75/SUM($Y$73:$Y$76) -> 0.17414248 | AG75: 3 | AH75: =AVERAGE(AB75:AE75) -> 0.15447368 | AJ75: 3 | AK75: =V75*$AH$73+W75*$AH$74+X75*$AH$75+Y75*$AH$76 -> 0.65729544 | AM75: 3 | AN75: =AK75/AH75 -> 4.2550643 | AT75: 1.98 | AV75: =AR73/AT75 -> 0.038997379 | AX75: Costo beneficio | AY75: =1/((SUM($F$73:$F$76)+SUM($J$73:$J$76)+SUM($N$73:$N$76)+SUM($R$73:$R$76))) -> 0.035714286 | AZ75: =1/(SUM($E$73:$E$76)+SUM($I$73:$I$76)+SUM($M$73:$M$76)+SUM($Q$73:$Q$76)) -> 0.046875 | BA75: =1/(SUM($D$73:$D$76)+SUM($H$73:$H$76)+SUM($L$73:$L$76)+SUM($P$73:$P$76)) -> 0.0625 | BC75: Costo beneficio | BD75: =D75+H75+L75+P75 -> 2.25 | BE75: =E75+I75+M75+Q75 -> 3.3333333 | BF75: =F75+J75+N75+R75 -> 3.5 | BL75: Costo beneficio | BM75: =AY75*BD75 -> 0.080357143 | BN75: =AZ75*BE75 -> 0.15625 | BO75: =BA75*BF75 -> 0.21875 | BQ75: Ind-tec | BR75: =IF((BN73>=BN76),1,(IF((BM76>BO73),"",((BM76-BO73)/((BN73-BO73)-(BN76-BM76)))))) -> 0.44 | BS75: nec-tec | BT75: =IF((BN74>=BN76),1,(IF((BM76>BO74),"",((BM76-BO74)/((BN74-BO74)-(BN76-BM76)))))) -> 1 | BU75: cto-tec | BV75: =IF((BN75>=BN76),1,(IF((BM76>BO75),"",((BM76-BO75)/((BN75-BO75)-(BN76-BM76)))))) -> 0.41666667 | BW75: tec-cto | BX75: =IF((BN76>=BN75),1,(IF((BM75>BO76),"",((BM75-BO76)/((BN76-BO76)-(BN75-BM75)))))) -> 1 | BZ75: Costo beneficio | CA75: =MIN(BV73:BV75) -> 0.41666667 | CC75: Costo beneficio | CD75: =CA75/SUM($CA$73:$CA$76) -> 0.2173913
B76: 4 | D76: 2 | E76: 3 | F76: 4 | H76: 0.25 | I76: 0.33333333 | J76: 0.5 | L76: 1 | M76: 1 | N76: 2 | P76: 1 | Q76: 1 | R76: 1 | U76: 4 | V76: =(4*E76+D76+F76)/6 -> 3 | W76: =(4*I76+H76+J76)/6 -> 0.34722222 | X76: =(4*M76+L76+N76)/6 -> 1.1666667 | Y76: =(4*Q76+P76+R76)/6 -> 1 | AA76: 4 | AB76: =V76/SUM($V$73:$V$76) -> 0.37894737 | AC76: =W76/SUM($W$73:$W$76) -> 0.17006803 | AD76: =X76/SUM($X$73:$X$76) -> 0.18421053 | AE76: =Y76/SUM($Y$73:$Y$76) -> 0.18997361 | AG76: 4 | AH76: =AVERAGE(AB76:AE76) -> 0.23079988 | AJ76: 4 | AK76: =V76*$AH$73+W76*$AH$74+X76*$AH$75+Y76*$AH$76 -> 0.98693969 | AM76: 4 | AN76: =AK76/AH76 -> 4.2761706 | AX76: Técnico | AY76: =1/((SUM($F$73:$F$76)+SUM($J$73:$J$76)+SUM($N$73:$N$76)+SUM($R$73:$R$76))) -> 0.035714286 | AZ76: =1/(SUM($E$73:$E$76)+SUM($I$73:$I$76)+SUM($M$73:$M$76)+SUM($Q$73:$Q$76)) -> 0.046875 | BA76: =1/(SUM($D$73:$D$76)+SUM($H$73:$H$76)+SUM($L$73:$L$76)+SUM($P$73:$P$76)) -> 0.0625 | BC76: Técnico | BD76: =D76+H76+L76+P76 -> 4.25 | BE76: =E76+I76+M76+Q76 -> 5.3333333 | BF76: =F76+J76+N76+R76 -> 7.5 | BL76: Técnico | BM76: =AY76*BD76 -> 0.15178571 | BN76: =AZ76*BE76 -> 0.25 | BO76: =BA76*BF76 -> 0.46875 | BZ76: Técnico | CA76: =MIN(BX73:BX75) -> 0.5 | CC76: Técnico | CD76: =CA76/SUM($CA$73:$CA$76) -> 0.26086957
D77: =IF(AV73<=0.1,"MATRIZ CONSISTENTE","MATRIZ INCONSISTENTE") -> MATRIZ CONSISTENTE | AB77: =SUM(AB73:AB76) -> 1 | AC77: =SUM(AC73:AC76) -> 1 | AD77: =SUM(AD73:AD76) -> 1 | AE77: =SUM(AE73:AE76) -> 1 | CD77: =SUM(CD73:CD76) -> 1
B80: Costo-Beneficio | D80: 1 | H80: 2 | L80: 3 | P80: 4
V81: 1 | W81: 2 | X81: 3 | Y81: 4 | AB81: 1 | AC81: 2 | AD81: 3 | AE81: 4
B82: 1 | D82: 1 | E82: 1 | F82: 1 | H82: 0.16666667 | I82: 0.2 | J82: 0.25 | L82: 1 | M82: 1 | N82: 2 | P82: 0.25 | Q82: 0.33333333 | R82: 0.5 | U82: 1 | V82: =(4*E82+D82+F82)/6 -> 1 | W82: =(4*I82+H82+J82)/6 -> 0.20277778 | X82: =(4*M82+L82+N82)/6 -> 1.1666667 | Y82: =(4*Q82+P82+R82)/6 -> 0.34722222 | AA82: 1 | AB82: =V82/SUM($V$82:$V$85) -> 0.10084034 | AC82: =W82/SUM($W$82:$W$85) -> 0.11568938 | AD82: =X82/SUM($X$82:$X$85) -> 0.1443299 | AE82: =Y82/SUM($Y$82:$Y$85) -> 0.062972292 | AG82: 1 | AH82: =AVERAGE(AB82:AE82) -> 0.10595798 | AJ82: 1 | AK82: =V82*$AH$82+W82*$AH$83+X82*$AH$84+Y82*$AH$85 -> 0.44692218 | AM82: 1 | AN82: =AK82/AH82 -> 4.2179191 | AP82: =AVERAGE(AN82:AN85) -> 4.2262528 | AR82: =(AP82-4)/(4-1) -> 0.075417592 | AT82: 0.882 | AV82: =AR82/AT82 -> 0.085507474 | AX82: Indicadores de pobreza | AY82: =1/((SUM($F$82:$F$85)+SUM($J$82:$J$85)+SUM($N$82:$N$85)+SUM($R$82:$R$85))) -> 0.031746032 | AZ82: =1/(SUM($E$82:$E$85)+SUM($I$82:$I$85)+SUM($M$82:$M$85)+SUM($Q$82:$Q$85)) -> 0.039893617 | BA82: =1/(SUM($D$82:$D$85)+SUM($H$82:$H$85)+SUM($L$82:$L$85)+SUM($P$82:$P$85)) -> 0.050420168 | BC82: Indicadores de pobreza | BD82: =D82+H82+L82+P82 -> 2.4166667 | BE82: =E82+I82+M82+Q82 -> 2.5333333 | BF82: =F82+J82+N82+R82 -> 3.75 | BL82: Indicadores de pobreza | BM82: =AY82*BD82 -> 0.076719577 | BN82: =AZ82*BE82 -> 0.10106383 | BO82: =BA82*BF82 -> 0.18907563 | BQ82: Ind-nec | BR82: =IF((BN82>=BN83),1,(IF((BM83>BO82),"",((BM83-BO82)/((BN82-BO82)-(BN83-BM83)))))) | BS82: nec-Ind | BT82: =IF((BN83>=BN82),1,(IF((BM82>BO83),"",((BM82-BO83)/((BN83-BO83)-(BN82-BM82)))))) -> 1 | BU82: cto-Ind | BV82: =IF((BN84>=BN82),1,(IF((BM82>BO84),"",((BM82-BO84)/((BN84-BO84)-(BN82-BM82)))))) -> 1 | BW82: tec-Ind | BX82: =IF((BN85>=BN82),1,(IF((BM82>BO85),"",((BM82-BO85)/((BN85-BO85)-(BN82-BM82)))))) -> 1 | BZ82: Indicadores de pobreza | CA82: =MIN(BR82:BR84) -> 0.38534066 | CC82: Indicadores de pobreza | CD82: =CA82/SUM($CA$82:$CA$85) -> 0.13226355
B83: 2 | D83: 4 | E83: 5 | F83: 6 | H83: 1 | I83: 1 | J83: 1 | L83: 4 | M83: 5 | N83: 6 | P83: 2 | Q83: 3 | R83: 4 | U83: 2 | V83: =(4*E83+D83+F83)/6 -> 5 | W83: =(4*I83+H83+J83)/6 -> 1 | X83: =(4*M83+L83+N83)/6 -> 5 | Y83: =(4*Q83+P83+R83)/6 -> 3 | AA83: 2 | AB83: =V83/SUM($V$82:$V$85) -> 0.50420168 | AC83: =W83/SUM($W$82:$W$85) -> 0.57052298 | AD83: =X83/SUM($X$82:$X$85) -> 0.6185567 | AE83: =Y83/SUM($Y$82:$Y$85) -> 0.5440806 | AG83: 2 | AH83: =AVERAGE(AB83:AE83) -> 0.55934049 | AJ83: 2 | AK83: =V83*$AH$82+W83*$AH$83+X83*$AH$84+Y83*$AH$85 -> 2.3649473 | AM83: 2 | AN83: =AK83/AH83 -> 4.2280995 | AX83: Necesidad de la comunidad | AY83: =1/((SUM($F$82:$F$85)+SUM($J$82:$J$85)+SUM($N$82:$N$85)+SUM($R$82:$R$85))) -> 0.031746032 | AZ83: =1/(SUM($E$82:$E$85)+SUM($I$82:$I$85)+SUM($M$82:$M$85)+SUM($Q$82:$Q$85)) -> 0.039893617 | BA83: =1/(SUM($D$82:$D$85)+SUM($H$82:$H$85)+SUM($L$82:$L$85)+SUM($P$82:$P$85)) -> 0.050420168 | BC83: Necesidad de la comunidad | BD83: =D83+H83+L83+P83 -> 11 | BE83: =E83+I83+M83+Q83 -> 14 | BF83: =F83+J83+N83+R83 -> 17 | BL83: Necesidad de la comunidad | BM83: =AY83*BD83 -> 0.34920635 | BN83: =AZ83*BE83 -> 0.55851064 | BO83: =BA83*BF83 -> 0.85714286 | BQ83: Ind-cto | BR83: =IF((BN82>=BN84),1,(IF((BM84>BO82),"",((BM84-BO82)/((BN82-BO82)-(BN84-BM84)))))) -> 0.79700274 | BS83: nec-cto | BT83: =IF((BN83>=BN84),1,(IF((BM84>BO83),"",((BM84-BO83)/((BN83-BO83)-(BN84-BM84)))))) -> 1 | BU83: cto-nec | BV83: =IF((BN84>=BN83),1,(IF((BM83>BO84),"",((BM83-BO84)/((BN84-BO84)-(BN83-BM83)))))) | BW83: tec-nec | BX83: =IF((BN85>=BN83),1,(IF((BM83>BO85),"",((BM83-BO85)/((BN85-BO85)-(BN83-BM83)))))) | BZ83: Necesidad de la comunidad | CA83: =MIN(BT82:BT84) -> 1 | CC83: Necesidad de la comunidad | CD83: =CA83/SUM($CA$82:$CA$85) -> 0.34323797
B84: 3 | D84: 0.5 | E84: 1 | F84: 1 | H84: 0.16666667 | I84: 0.2 | J84: 0.25 | L84: 1 | M84: 1 | N84: 1 | P84: 1 | Q84: 1 | R84: 2 | U84: 3 | V84: =(4*E84+D84+F84)/6 -> 0.91666667 | W84: =(4*I84+H84+J84)/6 -> 0.20277778 | X84: =(4*M84+L84+N84)/6 -> 1 | Y84: =(4*Q84+P84+R84)/6 -> 1.1666667 | AA84: 3 | AB84: =V84/SUM($V$82:$V$85) -> 0.092436975 | AC84: =W84/SUM($W$82:$W$85) -> 0.11568938 | AD84: =X84/SUM($X$82:$X$85) -> 0.12371134 | AE84: =Y84/SUM($Y$82:$Y$85) -> 0.2115869 | AG84: 3 | AH84: =AVERAGE(AB84:AE84) -> 0.13585615 | AJ84: 3 | AK84: =V84*$AH$82+W84*$AH$83+X84*$AH$84+Y84*$AH$85 -> 0.5783924 | AM84: 3 | AN84: =AK84/AH84 -> 4.2573884 | AT84: 1.98 | AV84: =AR82/AT84 -> 0.038089693 | AX84: Costo beneficio | AY84: =1/((SUM($F$82:$F$85)+SUM($J$82:$J$85)+SUM($N$82:$N$85)+SUM($R$82:$R$85))) -> 0.031746032 | AZ84: =1/(SUM($E$82:$E$85)+SUM($I$82:$I$85)+SUM($M$82:$M$85)+SUM($Q$82:$Q$85)) -> 0.039893617 | BA84: =1/(SUM($D$82:$D$85)+SUM($H$82:$H$85)+SUM($L$82:$L$85)+SUM($P$82:$P$85)) -> 0.050420168 | BC84: Costo beneficio | BD84: =D84+H84+L84+P84 -> 2.6666667 | BE84: =E84+I84+M84+Q84 -> 3.2 | BF84: =F84+J84+N84+R84 -> 4.25 | BL84: Costo beneficio | BM84: =AY84*BD84 -> 0.084656085 | BN84: =AZ84*BE84 -> 0.12765957 | BO84: =BA84*BF84 -> 0.21428571 | BQ84: Ind-tec | BR84: =IF((BN82>=BN85),1,(IF((BM85>BO82),"",((BM85-BO82)/((BN82-BO82)-(BN85-BM85)))))) -> 0.38534066 | BS84: nec-tec | BT84: =IF((BN83>=BN85),1,(IF((BM85>BO83),"",((BM85-BO83)/((BN83-BO83)-(BN85-BM85)))))) -> 1 | BU84: cto-tec | BV84: =IF((BN84>=BN85),1,(IF((BM85>BO84),"",((BM85-BO84)/((BN84-BO84)-(BN85-BM85)))))) -> 0.52808989 | BW84: tec-cto | BX84: =IF((BN85>=BN84),1,(IF((BM84>BO85),"",((BM84-BO85)/((BN85-BO85)-(BN84-BM84)))))) -> 1 | BZ84: Costo beneficio | CA84: =MIN(BV82:BV84) -> 0.52808989 | CC84: Costo beneficio | CD84: =CA84/SUM($CA$82:$CA$85) -> 0.1812605
B85: 4 | D85: 2 | E85: 3 | F85: 4 | H85: 0.25 | I85: 0.33333333 | J85: 0.5 | L85: 0.5 | M85: 1 | N85: 1 | P85: 1 | Q85: 1 | R85: 1 | U85: 4 | V85: =(4*E85+D85+F85)/6 -> 3 | W85: =(4*I85+H85+J85)/6 -> 0.34722222 | X85: =(4*M85+L85+N85)/6 -> 0.91666667 | Y85: =(4*Q85+P85+R85)/6 -> 1 | AA85: 4 | AB85: =V85/SUM($V$82:$V$85) -> 0.30252101 | AC85: =W85/SUM($W$82:$W$85) -> 0.19809826 | AD85: =X85/SUM($X$82:$X$85) -> 0.11340206 | AE85: =Y85/SUM($Y$82:$Y$85) -> 0.1813602 | AG85: 4 | AH85: =AVERAGE(AB85:AE85) -> 0.19884538 | AJ85: 4 | AK85: =V85*$AH$82+W85*$AH$83+X85*$AH$84+Y85*$AH$85 -> 0.83546956 | AM85: 4 | AN85: =AK85/AH85 -> 4.2016041 | AX85: Técnico | AY85: =1/((SUM($F$82:$F$85)+SUM($J$82:$J$85)+SUM($N$82:$N$85)+SUM($R$82:$R$85))) -> 0.031746032 | AZ85: =1/(SUM($E$82:$E$85)+SUM($I$82:$I$85)+SUM($M$82:$M$85)+SUM($Q$82:$Q$85)) -> 0.039893617 | BA85: =1/(SUM($D$82:$D$85)+SUM($H$82:$H$85)+SUM($L$82:$L$85)+SUM($P$82:$P$85)) -> 0.050420168 | BC85: Técnico | BD85: =D85+H85+L85+P85 -> 3.75 | BE85: =E85+I85+M85+Q85 -> 5.3333333 | BF85: =F85+J85+N85+R85 -> 6.5 | BL85: Técnico | BM85: =AY85*BD85 -> 0.11904762 | BN85: =AZ85*BE85 -> 0.21276596 | BO85: =BA85*BF85 -> 0.32773109 | BZ85: Técnico | CA85: =MIN(BX82:BX84) -> 1 | CC85: Técnico | CD85: =CA85/SUM($CA$82:$CA$85) -> 0.34323797
D86: =IF(AV82<=0.1,"MATRIZ CONSISTENTE","MATRIZ INCONSISTENTE") -> MATRIZ CONSISTENTE | AB86: =SUM(AB82:AB85) -> 1 | AC86: =SUM(AC82:AC85) -> 1 | AD86: =SUM(AD82:AD85) -> 1 | AE86: =SUM(AE82:AE85) -> 1 | CD86: =SUM(CD82:CD85) -> 1
B89: Coordinación | D89: 1 | H89: 2 | L89: 3 | P89: 4
V90: 1 | W90: 2 | X90: 3 | Y90: 4 | AB90: 1 | AC90: 2 | AD90: 3 | AE90: 4
B91: 1 | D91: 1 | E91: 1 | F91: 1 | H91: 0.16666667 | I91: 0.2 | J91: 0.25 | L91: 1 | M91: 1 | N91: 2 | P91: 0.25 | Q91: 0.33333333 | R91: 0.5 | U91: 1 | V91: =(4*E91+D91+F91)/6 -> 1 | W91: =(4*I91+H91+J91)/6 -> 0.20277778 | X91: =(4*M91+L91+N91)/6 -> 1.1666667 | Y91: =(4*Q91+P91+R91)/6 -> 0.34722222 | AA91: 1 | AB91: =V91/SUM($V$91:$V$94) -> 0.098360656 | AC91: =W91/SUM($W$91:$W$94) -> 0.11568938 | AD91: =X91/SUM($X$91:$X$94) -> 0.1147541 | AE91: =Y91/SUM($Y$91:$Y$94) -> 0.073964497 | AG91: 1 | AH91: =AVERAGE(AB91:AE91) -> 0.10069216 | AJ91: 1 | AK91: =V91*$AH$91+W91*$AH$92+X91*$AH$93+Y91*$AH$94 -> 0.41626519 | AM91: 1 | AN91: =AK91/AH91 -> 4.1340378 | AP91: =AVERAGE(AN91:AN94) -> 4.1620574 | AR91: =(AP91-4)/(4-1) -> 0.054019134 | AT91: 0.882 | AV91: =AR91/AT91 -> 0.061246183 | AX91: Indicadores de pobreza | AY91: =1/((SUM($F$91:$F$94)+SUM($J$91:$J$94)+SUM($N$91:$N$94)+SUM($R$91:$R$94))) -> 0.029411765 | AZ91: =1/(SUM($E$91:$E$94)+SUM($I$91:$I$94)+SUM($M$91:$M$94)+SUM($Q$91:$Q$94)) -> 0.037878788 | BA91: =1/(SUM($D$91:$D$94)+SUM($H$91:$H$94)+SUM($L$91:$L$94)+SUM($P$91:$P$94)) -> 0.04743083 | BC91: Indicadores de pobreza | BD91: =D91+H91+L91+P91 -> 2.4166667 | BE91: =E91+I91+M91+Q91 -> 2.5333333 | BF91: =F91+J91+N91+R91 -> 3.75 | BL91: Indicadores de pobreza | BM91: =AY91*BD91 -> 0.071078431 | BN91: =AZ91*BE91 -> 0.095959596 | BO91: =BA91*BF91 -> 0.17786561 | BQ91: Ind-nec | BR91: =IF((BN91>=BN92),1,(IF((BM92>BO91),"",((BM92-BO91)/((BN91-BO91)-(BN92-BM92)))))) | BS91: nec-Ind | BT91: =IF((BN92>=BN91),1,(IF((BM91>BO92),"",((BM91-BO92)/((BN92-BO92)-(BN91-BM91)))))) -> 1 | BU91: cto-Ind | BV91: =IF((BN93>=BN91),1,(IF((BM91>BO93),"",((BM91-BO93)/((BN93-BO93)-(BN91-BM91)))))) -> 1 | BW91: tec-Ind | BX91: =IF((BN94>=BN91),1,(IF((BM91>BO94),"",((BM91-BO94)/((BN94-BO94)-(BN91-BM91)))))) -> 1 | BZ91: Indicadores de pobreza | CA91: =MIN(BR91:BR93) -> 0.1142574 | CC91: Indicadores de pobreza | CD91: =CA91/SUM($CA$91:$CA$94) -> 0.073089434
B92: 2 | D92: 4 | E92: 5 | F92: 6 | H92: 1 | I92: 1 | J92: 1 | L92: 4 | M92: 5 | N92: 6 | P92: 2 | Q92: 3 | R92: 4 | U92: 2 | V92: =(4*E92+D92+F92)/6 -> 5 | W92: =(4*I92+H92+J92)/6 -> 1 | X92: =(4*M92+L92+N92)/6 -> 5 | Y92: =(4*Q92+P92+R92)/6 -> 3 | AA92: 2 | AB92: =V92/SUM($V$91:$V$94) -> 0.49180328 | AC92: =W92/SUM($W$91:$W$94) -> 0.57052298 | AD92: =X92/SUM($X$91:$X$94) -> 0.49180328 | AE92: =Y92/SUM($Y$91:$Y$94) -> 0.63905325 | AG92: 2 | AH92: =AVERAGE(AB92:AE92) -> 0.5482957 | AJ92: 2 | AK92: =V92*$AH$91+W92*$AH$92+X92*$AH$93+Y92*$AH$94 -> 2.3061772 | AM92: 2 | AN92: =AK92/AH92 -> 4.206083 | AX92: Necesidad de la comunidad | AY92: =1/((SUM($F$91:$F$94)+SUM($J$91:$J$94)+SUM($N$91:$N$94)+SUM($R$91:$R$94))) -> 0.029411765 | AZ92: =1/(SUM($E$91:$E$94)+SUM($I$91:$I$94)+SUM($M$91:$M$94)+SUM($Q$91:$Q$94)) -> 0.037878788 | BA92: =1/(SUM($D$91:$D$94)+SUM($H$91:$H$94)+SUM($L$91:$L$94)+SUM($P$91:$P$94)) -> 0.04743083 | BC92: Necesidad de la comunidad | BD92: =D92+H92+L92+P92 -> 11 | BE92: =E92+I92+M92+Q92 -> 14 | BF92: =F92+J92+N92+R92 -> 17 | BL92: Necesidad de la comunidad | BM92: =AY92*BD92 -> 0.32352941 | BN92: =AZ92*BE92 -> 0.53030303 | BO92: =BA92*BF92 -> 0.80632411 | BQ92: Ind-cto | BR92: =IF((BN91>=BN93),1,(IF((BM93>BO91),"",((BM93-BO91)/((BN91-BO91)-(BN93-BM93)))))) -> 1 | BS92: nec-cto | BT92: =IF((BN92>=BN93),1,(IF((BM93>BO92),"",((BM93-BO92)/((BN92-BO92)-(BN93-BM93)))))) -> 1 | BU92: cto-nec | BV92: =IF((BN93>=BN92),1,(IF((BM92>BO93),"",((BM92-BO93)/((BN93-BO93)-(BN92-BM92)))))) | BW92: tec-nec | BX92: =IF((BN94>=BN92),1,(IF((BM92>BO94),"",((BM92-BO94)/((BN94-BO94)-(BN92-BM92)))))) -> 0.33473985 | BZ92: Necesidad de la comunidad | CA92: =MIN(BT91:BT93) -> 1 | CC92: Necesidad de la comunidad | CD92: =CA92/SUM($CA$91:$CA$94) -> 0.63969105
B93: 3 | D93: 1 | E93: 1 | F93: 2 | H93: 0.16666667 | I93: 0.2 | J93: 0.25 | L93: 1 | M93: 1 | N93: 1 | P93: 0.25 | Q93: 0.33333333 | R93: 0.5 | U93: 3 | V93: =(4*E93+D93+F93)/6 -> 1.1666667 | W93: =(4*I93+H93+J93)/6 -> 0.20277778 | X93: =(4*M93+L93+N93)/6 -> 1 | Y93: =(4*Q93+P93+R93)/6 -> 0.34722222 | AA93: 3 | AB93: =V93/SUM($V$91:$V$94) -> 0.1147541 | AC93: =W93/SUM($W$91:$W$94) -> 0.11568938 | AD93: =X93/SUM($X$91:$X$94) -> 0.098360656 | AE93: =Y93/SUM($Y$91:$Y$94) -> 0.073964497 | AG93: 3 | AH93: =AVERAGE(AB93:AE93) -> 0.10069216 | AJ93: 3 | AK93: =V93*$AH$91+W93*$AH$92+X93*$AH$93+Y93*$AH$94 -> 0.41626519 | AM93: 3 | AN93: =AK93/AH93 -> 4.1340378 | AT93: 1.98 | AV93: =AR91/AT93 -> 0.027282391 | AX93: Costo beneficio | AY93: =1/((SUM($F$91:$F$94)+SUM($J$91:$J$94)+SUM($N$91:$N$94)+SUM($R$91:$R$94))) -> 0.029411765 | AZ93: =1/(SUM($E$91:$E$94)+SUM($I$91:$I$94)+SUM($M$91:$M$94)+SUM($Q$91:$Q$94)) -> 0.037878788 | BA93: =1/(SUM($D$91:$D$94)+SUM($H$91:$H$94)+SUM($L$91:$L$94)+SUM($P$91:$P$94)) -> 0.04743083 | BC93: Costo beneficio | BD93: =D93+H93+L93+P93 -> 2.4166667 | BE93: =E93+I93+M93+Q93 -> 2.5333333 | BF93: =F93+J93+N93+R93 -> 3.75 | BL93: Costo beneficio | BM93: =AY93*BD93 -> 0.071078431 | BN93: =AZ93*BE93 -> 0.095959596 | BO93: =BA93*BF93 -> 0.17786561 | BQ93: Ind-tec | BR93: =IF((BN91>=BN94),1,(IF((BM94>BO91),"",((BM94-BO91)/((BN91-BO91)-(BN94-BM94)))))) -> 0.1142574 | BS93: nec-tec | BT93: =IF((BN92>=BN94),1,(IF((BM94>BO92),"",((BM94-BO92)/((BN92-BO92)-(BN94-BM94)))))) -> 1 | BU93: cto-tec | BV93: =IF((BN93>=BN94),1,(IF((BM94>BO93),"",((BM94-BO93)/((BN93-BO93)-(BN94-BM94)))))) -> 0.1142574 | BW93: tec-cto | BX93: =IF((BN94>=BN93),1,(IF((BM93>BO94),"",((BM93-BO94)/((BN94-BO94)-(BN93-BM93)))))) -> 1 | BZ93: Costo beneficio | CA93: =MIN(BV91:BV93) -> 0.1142574 | CC93: Costo beneficio | CD93: =CA93/SUM($CA$91:$CA$94) -> 0.073089434
B94: 4 | D94: 2 | E94: 3 | F94: 4 | H94: 0.25 | I94: 0.33333333 | J94: 0.5 | L94: 2 | M94: 3 | N94: 4 | P94: 1 | Q94: 1 | R94: 1 | U94: 4 | V94: =(4*E94+D94+F94)/6 -> 3 | W94: =(4*I94+H94+J94)/6 -> 0.34722222 | X94: =(4*M94+L94+N94)/6 -> 3 | Y94: =(4*Q94+P94+R94)/6 -> 1 | AA94: 4 | AB94: =V94/SUM($V$91:$V$94) -> 0.29508197 | AC94: =W94/SUM($W$91:$W$94) -> 0.19809826 | AD94: =X94/SUM($X$91:$X$94) -> 0.29508197 | AE94: =Y94/SUM($Y$91:$Y$94) -> 0.21301775 | AG94: 4 | AH94: =AVERAGE(AB94:AE94) -> 0.25031999 | AJ94: 4 | AK94: =V94*$AH$91+W94*$AH$92+X94*$AH$93+Y94*$AH$94 -> 1.0448534 | AM94: 4 | AN94: =AK94/AH94 -> 4.174071 | AX94: Técnico | AY94: =1/((SUM($F$91:$F$94)+SUM($J$91:$J$94)+SUM($N$91:$N$94)+SUM($R$91:$R$94))) -> 0.029411765 | AZ94: =1/(SUM($E$91:$E$94)+SUM($I$91:$I$94)+SUM($M$91:$M$94)+SUM($Q$91:$Q$94)) -> 0.037878788 | BA94: =1/(SUM($D$91:$D$94)+SUM($H$91:$H$94)+SUM($L$91:$L$94)+SUM($P$91:$P$94)) -> 0.04743083 | BC94: Técnico | BD94: =D94+H94+L94+P94 -> 5.25 | BE94: =E94+I94+M94+Q94 -> 7.3333333 | BF94: =F94+J94+N94+R94 -> 9.5 | BL94: Técnico | BM94: =AY94*BD94 -> 0.15441176 | BN94: =AZ94*BE94 -> 0.27777778 | BO94: =BA94*BF94 -> 0.45059289 | BZ94: Técnico | CA94: =MIN(BX91:BX93) -> 0.33473985 | CC94: Técnico | CD94: =CA94/SUM($CA$91:$CA$94) -> 0.21413009
D95: =IF(AV91<=0.1,"MATRIZ CONSISTENTE","MATRIZ INCONSISTENTE") -> MATRIZ CONSISTENTE | AB95: =SUM(AB91:AB94) -> 1 | AC95: =SUM(AC91:AC94) -> 1 | AD95: =SUM(AD91:AD94) -> 1 | AE95: =SUM(AE91:AE94) -> 1 | CD95: =SUM(CD91:CD94) -> 1
B98: Eficacia | D98: 1 | H98: 2 | L98: 3 | P98: 4
V99: 1 | W99: 2 | X99: 3 | Y99: 4 | AB99: 1 | AC99: 2 | AD99: 3 | AE99: 4
B100: 1 | D100: 1 | E100: 1 | F100: 1 | H100: 0.25 | I100: 0.33333333 | J100: 0.5 | L100: 1 | M100: 1 | N100: 2 | P100: 1 | Q100: 1 | R100: 2 | U100: 1 | V100: =(4*E100+D100+F100)/6 -> 1 | W100: =(4*I100+H100+J100)/6 -> 0.34722222 | X100: =(4*M100+L100+N100)/6 -> 1.1666667 | Y100: =(4*Q100+P100+R100)/6 -> 1.1666667 | AA100: 1 | AB100: =V100/SUM($V$100:$V$103) -> 0.17142857 | AC100: =W100/SUM($W$100:$W$103) -> 0.13297872 | AD100: =X100/SUM($X$100:$X$103) -> 0.14285714 | AE100: =Y100/SUM($Y$100:$Y$103) -> 0.31698113 | AG100: 1 | AH100: =AVERAGE(AB100:AE100) -> 0.19106139 | AJ100: 1 | AK100: =V100*$AH$100+W100*$AH$101+X100*$AH$102+Y100*$AH$103 -> 0.8108163 | AM100: 1 | AN100: =AK100/AH100 -> 4.2437475 | AP100: =AVERAGE(AN100:AN103) -> 4.2380712 | AR100: =(AP100-4)/(4-1) -> 0.079357081 | AT100: 0.882 | AV100: =AR100/AT100 -> 0.089974015 | AX100: Indicadores de pobreza | AY100: =1/((SUM($F$100:$F$103)+SUM($J$100:$J$103)+SUM($N$100:$N$103)+SUM($R$100:$R$103))) -> 0.037735849 | AZ100: =1/(SUM($E$100:$E$103)+SUM($I$100:$I$103)+SUM($M$100:$M$103)+SUM($Q$100:$Q$103)) -> 0.05 | BA100: =1/(SUM($D$100:$D$103)+SUM($H$100:$H$103)+SUM($L$100:$L$103)+SUM($P$100:$P$103)) -> 0.06557377 | BC100: Indicadores de pobreza | BD100: =D100+H100+L100+P100 -> 3.25 | BE100: =E100+I100+M100+Q100 -> 3.3333333 | BF100: =F100+J100+N100+R100 -> 5.5 | BL100: Indicadores de pobreza | BM100: =AY100*BD100 -> 0.12264151 | BN100: =AZ100*BE100 -> 0.16666667 | BO100: =BA100*BF100 -> 0.36065574 | BQ100: Ind-nec | BR100: =IF((BN100>=BN101),1,(IF((BM101>BO100),"",((BM101-BO100)/((BN100-BO100)-(BN101-BM101)))))) -> 0.36520715 | BS100: nec-Ind | BT100: =IF((BN101>=BN100),1,(IF((BM100>BO101),"",((BM100-BO101)/((BN101-BO101)-(BN100-BM100)))))) -> 1 | BU100: cto-Ind | BV100: =IF((BN102>=BN100),1,(IF((BM100>BO102),"",((BM100-BO102)/((BN102-BO102)-(BN100-BM100)))))) -> 0.68967172 | BW100: tec-Ind | BX100: =IF((BN103>=BN100),1,(IF((BM100>BO103),"",((BM100-BO103)/((BN103-BO103)-(BN100-BM100)))))) -> 1 | BZ100: Indicadores de pobreza | CA100: =MIN(BR100:BR102) -> 0.36520715 | CC100: Indicadores de pobreza | CD100: =CA100/SUM($CA$100:$CA$103) -> 0.16017657
B101: 2 | D101: 2 | E101: 3 | F101: 4 | H101: 1 | I101: 1 | J101: 1 | L101: 2 | M101: 3 | N101: 4 | P101: 1 | Q101: 1 | R101: 2 | U101: 2 | V101: =(4*E101+D101+F101)/6 -> 3 | W101: =(4*I101+H101+J101)/6 -> 1 | X101: =(4*M101+L101+N101)/6 -> 3 | Y101: =(4*Q101+P101+R101)/6 -> 1.1666667 | AA101: 2 | AB101: =V101/SUM($V$100:$V$103) -> 0.51428571 | AC101: =W101/SUM($W$100:$W$103) -> 0.38297872 | AD101: =X101/SUM($X$100:$X$103) -> 0.36734694 | AE101: =Y101/SUM($Y$100:$Y$103) -> 0.31698113 | AG101: 2 | AH101: =AVERAGE(AB101:AE101) -> 0.39539813 | AJ101: 2 | AK101: =V101*$AH$100+W101*$AH$101+X101*$AH$102+Y101*$AH$103 -> 1.68338 | AM101: 2 | AN101: =AK101/AH101 -> 4.2574305 | AX101: Necesidad de la comunidad | AY101: =1/((SUM($F$100:$F$103)+SUM($J$100:$J$103)+SUM($N$100:$N$103)+SUM($R$100:$R$103))) -> 0.037735849 | AZ101: =1/(SUM($E$100:$E$103)+SUM($I$100:$I$103)+SUM($M$100:$M$103)+SUM($Q$100:$Q$103)) -> 0.05 | BA101: =1/(SUM($D$100:$D$103)+SUM($H$100:$H$103)+SUM($L$100:$L$103)+SUM($P$100:$P$103)) -> 0.06557377 | BC101: Necesidad de la comunidad | BD101: =D101+H101+L101+P101 -> 6 | BE101: =E101+I101+M101+Q101 -> 8 | BF101: =F101+J101+N101+R101 -> 11 | BL101: Necesidad de la comunidad | BM101: =AY101*BD101 -> 0.22641509 | BN101: =AZ101*BE101 -> 0.4 | BO101: =BA101*BF101 -> 0.72131148 | BQ101: Ind-cto | BR101: =IF((BN100>=BN102),1,(IF((BM102>BO100),"",((BM102-BO100)/((BN100-BO100)-(BN102-BM102)))))) -> 1 | BS101: nec-cto | BT101: =IF((BN101>=BN102),1,(IF((BM102>BO101),"",((BM102-BO101)/((BN101-BO101)-(BN102-BM102)))))) -> 1 | BU101: cto-nec | BV101: =IF((BN102>=BN101),1,(IF((BM101>BO102),"",((BM101-BO102)/((BN102-BO102)-(BN101-BM101)))))) | BW101: tec-nec | BX101: =IF((BN103>=BN101),1,(IF((BM101>BO103),"",((BM101-BO103)/((BN103-BO103)-(BN101-BM101)))))) -> 0.69933972 | BZ101: Necesidad de la comunidad | CA101: =MIN(BT100:BT102) -> 1 | CC101: Necesidad de la comunidad | CD101: =CA101/SUM($CA$100:$CA$103) -> 0.438591
B102: 3 | D102: 0.5 | E102: 1 | F102: 1 | H102: 0.25 | I102: 0.33333333 | J102: 0.5 | L102: 1 | M102: 1 | N102: 1 | P102: 0.25 | Q102: 0.33333333 | R102: 0.5 | U102: 3 | V102: =(4*E102+D102+F102)/6 -> 0.91666667 | W102: =(4*I102+H102+J102)/6 -> 0.34722222 | X102: =(4*M102+L102+N102)/6 -> 1 | Y102: =(4*Q102+P102+R102)/6 -> 0.34722222 | AA102: 3 | AB102: =V102/SUM($V$100:$V$103) -> 0.15714286 | AC102: =W102/SUM($W$100:$W$103) -> 0.13297872 | AD102: =X102/SUM($X$100:$X$103) -> 0.12244898 | AE102: =Y102/SUM($Y$100:$Y$103) -> 0.094339623 | AG102: 3 | AH102: =AVERAGE(AB102:AE102) -> 0.12672755 | AJ102: 3 | AK102: =V102*$AH$100+W102*$AH$101+X102*$AH$102+Y102*$AH$103 -> 0.538746 | AM102: 3 | AN102: =AK102/AH102 -> 4.2512146 | AT102: 1.98 | AV102: =AR100/AT102 -> 0.040079334 | AX102: Costo beneficio | AY102: =1/((SUM($F$100:$F$103)+SUM($J$100:$J$103)+SUM($N$100:$N$103)+SUM($R$100:$R$103))) -> 0.037735849 | AZ102: =1/(SUM($E$100:$E$103)+SUM($I$100:$I$103)+SUM($M$100:$M$103)+SUM($Q$100:$Q$103)) -> 0.05 | BA102: =1/(SUM($D$100:$D$103)+SUM($H$100:$H$103)+SUM($L$100:$L$103)+SUM($P$100:$P$103)) -> 0.06557377 | BC102: Costo beneficio | BD102: =D102+H102+L102+P102 -> 2 | BE102: =E102+I102+M102+Q102 -> 2.6666667 | BF102: =F102+J102+N102+R102 -> 3 | BL102: Costo beneficio | BM102: =AY102*BD102 -> 0.075471698 | BN102: =AZ102*BE102 -> 0.13333333 | BO102: =BA102*BF102 -> 0.19672131 | BQ102: Ind-tec | BR102: =IF((BN100>=BN103),1,(IF((BM103>BO100),"",((BM103-BO100)/((BN100-BO100)-(BN103-BM103)))))) -> 0.61132484 | BS102: nec-tec | BT102: =IF((BN101>=BN103),1,(IF((BM103>BO101),"",((BM103-BO101)/((BN101-BO101)-(BN103-BM103)))))) -> 1 | BU102: cto-tec | BV102: =IF((BN102>=BN103),1,(IF((BM103>BO102),"",((BM103-BO102)/((BN102-BO102)-(BN103-BM103)))))) -> 0.21548168 | BW102: tec-cto | BX102: =IF((BN103>=BN102),1,(IF((BM102>BO103),"",((BM102-BO103)/((BN103-BO103)-(BN102-BM102)))))) -> 1 | BZ102: Costo beneficio | CA102: =MIN(BV100:BV102) -> 0.21548168 | CC102: Costo beneficio | CD102: =CA102/SUM($CA$100:$CA$103) -> 0.094508325
B103: 4 | D103: 0.5 | E103: 1 | F103: 1 | H103: 0.5 | I103: 1 | J103: 1 | L103: 2 | M103: 3 | N103: 4 | P103: 1 | Q103: 1 | R103: 1 | U103: 4 | V103: =(4*E103+D103+F103)/6 -> 0.91666667 | W103: =(4*I103+H103+J103)/6 -> 0.91666667 | X103: =(4*M103+L103+N103)/6 -> 3 | Y103: =(4*Q103+P103+R103)/6 -> 1 | AA103: 4 | AB103: =V103/SUM($V$100:$V$103) -> 0.15714286 | AC103: =W103/SUM($W$100:$W$103) -> 0.35106383 | AD103: =X103/SUM($X$100:$X$103) -> 0.36734694 | AE103: =Y103/SUM($Y$100:$Y$103) -> 0.27169811 | AG103: 4 | AH103: =AVERAGE(AB103:AE103) -> 0.28681293 | AJ103: 4 | AK103: =V103*$AH$100+W103*$AH$101+X103*$AH$102+Y103*$AH$103 -> 1.2045835 | AM103: 4 | AN103: =AK103/AH103 -> 4.1998924 | AX103: Técnico | AY103: =1/((SUM($F$100:$F$103)+SUM($J$100:$J$103)+SUM($N$100:$N$103)+SUM($R$100:$R$103))) -> 0.037735849 | AZ103: =1/(SUM($E$100:$E$103)+SUM($I$100:$I$103)+SUM($M$100:$M$103)+SUM($Q$100:$Q$103)) -> 0.05 | BA103: =1/(SUM($D$100:$D$103)+SUM($H$100:$H$103)+SUM($L$100:$L$103)+SUM($P$100:$P$103)) -> 0.06557377 | BC103: Técnico | BD103: =D103+H103+L103+P103 -> 4 | BE103: =E103+I103+M103+Q103 -> 6 | BF103: =F103+J103+N103+R103 -> 7 | BL103: Técnico | BM103: =AY103*BD103 -> 0.1509434 | BN103: =AZ103*BE103 -> 0.3 | BO103: =BA103*BF103 -> 0.45901639 | BZ103: Técnico | CA103: =MIN(BX100:BX102) -> 0.69933972 | CC103: Técnico | CD103: =CA103/SUM($CA$100:$CA$103) -> 0.30672411
D104: =IF(AV100<=0.1,"MATRIZ CONSISTENTE","MATRIZ INCONSISTENTE") -> MATRIZ CONSISTENTE | AB104: =SUM(AB100:AB103) -> 1 | AC104: =SUM(AC100:AC103) -> 1 | AD104: =SUM(AD100:AD103) -> 1 | AE104: =SUM(AE100:AE103) -> 1 | CD104: =SUM(CD100:CD103) -> 1

Sheet Matrices Belalcazar
B5: MATRICES DE COMPARACIÓN POR PARES DE CRITERIOS
B7: Nivel Uno | U7: Matriz defuzzificada | AA7: Matriz normalizada | AG7: Vector prioridad | AJ7: Nuevo vector | AM7: Vector prueba | AP7: Lambda máx | AR7: IC | AT7: IA | AV7: CC | AX7: Vector suma de la matriz | BC7: Vector suma de las filas | BL7: Grado sintetico difuso | BQ7: Comparacion | BZ7: Vector peso | CC7: Vector peso
B9: Criterios | D9: Indicadores de pobreza | H9: Necesidad de la comunidad | L9: Costo beneficio | P9: Técnico | V9: Indicadores de pobreza | W9: Necesidad de la comunidad | X9: Costo beneficio | Y9: Técnico | AB9: Indicadores de pobreza | AC9: Necesidad de la comunidad | AD9: Costo beneficio | AE9: Técnico
W10: Necesidad de la comunidad | X10: Costo beneficio | Y10: Ténico | AC10: Necesidad de la comunidad | AD10: Costo beneficio | AE10: Ténico
B11: Indicadores de pobreza | D11: 1 | E11: 1 | F11: 1 | H11: 0.16666667 | I11: 0.2 | J11: 0.25 | L11: 2 | M11: 3 | N11: 4 | P11: 1 | Q11: 1 | R11: 2 | U11: Indicadores de pobreza | V11: =(4*E11+D11+F11)/6 -> 1 | W11: =(4*I11+H11+J11)/6 -> 0.20277778 | X11: =(4*M11+L11+N11)/6 -> 3 | Y11: =(4*Q11+P11+R11)/6 -> 1.1666667 | AA11: Indicadores de pobreza | AB11: =V11/SUM($V$11:$V$14) -> 0.1376673 | AC11: =W11/SUM($W$11:$W$14) -> 0.12607945 | AD11: =X11/SUM($X$11:$X$14) -> 0.25 | AE11: =Y11/SUM($Y$11:$Y$14) -> 0.15526802 | AG11: Indicadores de pobreza | AH11: =AVERAGE(AB11:AE11) -> 0.16725369 | AJ11: Indicadores de pobreza | AK11: =V11*$AH$11+W11*$AH$12+X11*$AH$13+Y11*$AH$14 -> 0.70140712 | AM11: Indicadores de pobreza | AN11: =AK11/AH11 -> 4.1936719 | AP11: =AVERAGE(AN11:AN14) -> 4.20173 | AR11: =(AP11-4)/(4-1) -> 0.067243341 | AT11: 0.882 | AV11: =AR11/AT11 -> 0.076239615 | AX11: Indicadores de pobreza | AY11: =1/((SUM($F$11:$F$14)+SUM($J$11:$J$14)+SUM($N$11:$N$14)+SUM($R$11:$R$14))) -> 0.028776978 | AZ11: =1/(SUM($E$11:$E$14)+SUM($I$11:$I$14)+SUM($M$11:$M$14)+SUM($Q$11:$Q$14)) -> 0.035377358 | BA11: =1/(SUM($D$11:$D$14)+SUM($H$11:$H$14)+SUM($L$11:$L$14)+SUM($P$11:$P$14)) -> 0.044444444 | BC11: Indicadores de pobreza | BD11: =D11+H11+L11+P11 -> 4.1666667 | BE11: =E11+I11+M11+Q11 -> 5.2 | BF11: =F11+J11+N11+R11 -> 7.25 | BL11: Indicadores de pobreza | BM11: =AY11*BD11 -> 0.11990408 | BN11: =AZ11*BE11 -> 0.18396226 | BO11: =BA11*BF11 -> 0.32222222 | BQ11: Ind-nec | BR11: =IF((BN11>=BN12),1,(IF((BM12>BO11),"",((BM12-BO11)/((BN11-BO11)-(BN12-BM12)))))) | BS11: nec-Ind | BT11: =IF((BN12>=BN11),1,(IF((BM11>BO12),"",((BM11-BO12)/((BN12-BO12)-(BN11-BM11)))))) -> 1 | BU11: cto-Ind | BV11: =IF((BN13>=BN11),1,(IF((BM11>BO13),"",((BM11-BO13)/((BN13-BO13)-(BN11-BM11)))))) | BW11: tec-Ind | BX11: =IF((BN14>=BN11),1,(IF((BM11>BO14),"",((BM11-BO14)/((BN14-BO14)-(BN11-BM11)))))) -> 1 | BZ11: Indicadores de pobreza | CA11: =MIN(BR11:BR13) -> 1 | CC11: Indicadores de pobreza | CD11: =CA11/SUM($CA$11:$CA$14) -> 0.33333333
B12: Necesidad de la comunidad | D12: 4 | E12: 5 | F12: 6 | H12: 1 | I12: 1 | J12: 1 | L12: 4 | M12: 5 | N12: 6 | P12: 4 | Q12: 5 | R12: 6 | U12: Necesidad de la comunidad | V12: =(4*E12+D12+F12)/6 -> 5 | W12: =(4*I12+H12+J12)/6 -> 1 | X12: =(4*M12+L12+N12)/6 -> 5 | Y12: =(4*Q12+P12+R12)/6 -> 5 | AA12: Necesidad de la comunidad | AB12: =V12/SUM($V$11:$V$14) -> 0.68833652 | AC12: =W12/SUM($W$11:$W$14) -> 0.62176166 | AD12: =X12/SUM($X$11:$X$14) -> 0.41666667 | AE12: =Y12/SUM($Y$11:$Y$14) -> 0.66543438 | AG12: Necesidad de la comunidad | AH12: =AVERAGE(AB12:AE12) -> 0.59804981 | AJ12: Necesidad de la comunidad | AK12: =V12*$AH$11+W12*$AH$12+X12*$AH$13+Y12*$AH$14 -> 2.6078008 | AM12: Necesidad de la comunidad | AN12: =AK12/AH12 -> 4.3605077 | AX12: Necesidad de la comunidad | AY12: =1/((SUM($F$11:$F$14)+SUM($J$11:$J$14)+SUM($N$11:$N$14)+SUM($R$11:$R$14))) -> 0.028776978 | AZ12: =1/(SUM($E$11:$E$14)+SUM($I$11:$I$14)+SUM($M$11:$M$14)+SUM($Q$11:$Q$14)) -> 0.035377358 | BA12: =1/(SUM($D$11:$D$14)+SUM($H$11:$H$14)+SUM($L$11:$L$14)+SUM($P$11:$P$14)) -> 0.044444444 | BC12: Necesidad de la comunidad | BD12: =D12+H12+L12+P12 -> 13 | BE12: =E12+I12+M12+Q12 -> 16 | BF12: =F12+J12+N12+R12 -> 19 | BL12: Necesidad de la comunidad | BM12: =AY12*BD12 -> 0.37410072 | BN12: =AZ12*BE12 -> 0.56603774 | BO12: =BA12*BF12 -> 0.84444444 | BQ12: Ind-cto | BR12: =IF((BN11>=BN13),1,(IF((BM13>BO11),"",((BM13-BO11)/((BN11-BO11)-(BN13-BM13)))))) -> 1 | BS12: nec-cto | BT12: =IF((BN12>=BN13),1,(IF((BM13>BO12),"",((BM13-BO12)/((BN12-BO12)-(BN13-BM13)))))) -> 1 | BU12: cto-nec | BV12: =IF((BN13>=BN12),1,(IF((BM12>BO13),"",((BM12-BO13)/((BN13-BO13)-(BN12-BM12)))))) | BW12: tec-nec | BX12: =IF((BN14>=BN12),1,(IF((BM12>BO14),"",((BM12-BO14)/((BN14-BO14)-(BN12-BM12)))))) | BZ12: Necesidad de la comunidad | CA12: =MIN(BT11:BT13) -> 1 | CC12: Necesidad de la comunidad | CD12: =CA12/SUM($CA$11:$CA$14) -> 0.33333333
B13: Costo beneficio | D13: 0.25 | E13: 0.33333333 | F13: 0.5 | H13: 0.16666667 | I13: 0.2 | J13: 0.25 | L13: 1 | M13: 1 | N13: 1 | P13: 0.25 | Q13: 0.33333333 | R13: 0.5 | U13: Costo beneficio | V13: =(4*E13+D13+F13)/6 -> 0.34722222 | W13: =(4*I13+H13+J13)/6 -> 0.20277778 | X13: =(4*M13+L13+N13)/6 -> 1 | Y13: =(4*Q13+P13+R13)/6 -> 0.34722222 | AA13: Costo beneficio | AB13: =V13/SUM($V$11:$V$14) -> 0.047801147 | AC13: =W13/SUM($W$11:$W$14) -> 0.12607945 | AD13: =X13/SUM($X$11:$X$14) -> 0.083333333 | AE13: =Y13/SUM($Y$11:$Y$14) -> 0.046210721 | AG13: Costo beneficio | AH13: =AVERAGE(AB13:AE13) -> 0.075856162 | AJ13: Costo beneficio | AK13: =V13*$AH$11+W13*$AH$12+X13*$AH$13+Y13*$AH$14 -> 0.31035447 | AM13: Costo beneficio | AN13: =AK13/AH13 -> 4.0913547 | AX13: Costo beneficio | AY13: =1/((SUM($F$11:$F$14)+SUM($J$11:$J$14)+SUM($N$11:$N$14)+SUM($R$11:$R$14))) -> 0.028776978 | AZ13: =1/(SUM($E$11:$E$14)+SUM($I$11:$I$14)+SUM($M$11:$M$14)+SUM($Q$11:$Q$14)) -> 0.035377358 | BA13: =1/(SUM($D$11:$D$14)+SUM($H$11:$H$14)+SUM($L$11:$L$14)+SUM($P$11:$P$14)) -> 0.044444444 | BC13: Costo beneficio | BD13: =D13+H13+L13+P13 -> 1.6666667 | BE13: =E13+I13+M13+Q13 -> 1.8666667 | BF13: =F13+J13+N13+R13 -> 2.25 | BL13: Costo beneficio | BM13: =AY13*BD13 -> 0.047961631 | BN13: =AZ13*BE13 -> 0.066037736 | BO13: =BA13*BF13 -> 0.1 | BQ13: Ind-tec | BR13: =IF((BN11>=BN14),1,(IF((BM14>BO11),"",((BM14-BO11)/((BN11-BO11)-(BN14-BM14)))))) -> 1 | BS13: nec-tec | BT13: =IF((BN12>=BN14),1,(IF((BM14>BO12),"",((BM14-BO12)/((BN12-BO12)-(BN14-BM14)))))) -> 1 | BU13: cto-tec | BV13: =IF((BN13>=BN14),1,(IF((BM14>BO13),"",((BM14-BO13)/((BN13-BO13)-(BN14-BM14)))))) | BW13: tec-cto | BX13: =IF((BN14>=BN13),1,(IF((BM13>BO14),"",((BM13-BO14)/((BN14-BO14)-(BN13-BM13)))))) -> 1 | BZ13: Costo beneficio | CA13: =MIN(BV11:BV13) -> 0 | CC13: Costo beneficio | CD13: =CA13/SUM($CA$11:$CA$14) -> 0
B14: Técnico | D14: 0.5 | E14: 1 | F14: 1 | H14: 0.16666667 | I14: 0.2 | J14: 0.25 | L14: 2 | M14: 3 | N14: 4 | P14: 1 | Q14: 1 | R14: 1 | U14: Técnico | V14: =(4*E14+D14+F14)/6 -> 0.91666667 | W14: =(4*I14+H14+J14)/6 -> 0.20277778 | X14: =(4*M14+L14+N14)/6 -> 3 | Y14: =(4*Q14+P14+R14)/6 -> 1 | AA14: Técnico | AB14: =V14/SUM($V$11:$V$14) -> 0.12619503 | AC14: =W14/SUM($W$11:$W$14) -> 0.12607945 | AD14: =X14/SUM($X$11:$X$14) -> 0.25 | AE14: =Y14/SUM($Y$11:$Y$14) -> 0.13308688 | AG14: Técnico | AH14: =AVERAGE(AB14:AE14) -> 0.15884034 | AJ14: Técnico | AK14: =V14*$AH$11+W14*$AH$12+X14*$AH$13+Y14*$AH$14 -> 0.66099592 | AM14: Técnico | AN14: =AK14/AH14 -> 4.1613858 | AX14: Técnico | AY14: =1/((SUM($F$11:$F$14)+SUM($J$11:$J$14)+SUM($N$11:$N$14)+SUM($R$11:$R$14))) -> 0.028776978 | AZ14: =1/(SUM($E$11:$E$14)+SUM($I$11:$I$14)+SUM($M$11:$M$14)+SUM($Q$11:$Q$14)) -> 0.035377358 | BA14: =1/(SUM($D$11:$D$14)+SUM($H$11:$H$14)+SUM($L$11:$L$14)+SUM($P$11:$P$14)) -> 0.044444444 | BC14: Técnico | BD14: =D14+H14+L14+P14 -> 3.6666667 | BE14: =E14+I14+M14+Q14 -> 5.2 | BF14: =F14+J14+N14+R14 -> 6.25 | BL14: Técnico | BM14: =AY14*BD14 -> 0.10551559 | BN14: =AZ14*BE14 -> 0.18396226 | BO14: =BA14*BF14 -> 0.27777778 | BZ14: Técnico | CA14: =MIN(BX11:BX13) -> 1 | CC14: Técnico | CD14: =CA14/SUM($CA$11:$CA$14) -> 0.33333333
D15: =IF(AV11<=0.1,"MATRIZ CONSISTENTE","MATRIZ INCONSISTENTE") -> MATRIZ CONSISTENTE | AB15: =SUM(AB11:AB14) -> 1 | AC15: =SUM(AC11:AC14) -> 1 | AD15: =SUM(AD11:AD14) -> 1 | AE15: =SUM(AE11:AE14) -> 1
B18: Nivel Dos
B20: Indicadores de pobreza | D20: Pertinencia | H20: Focalización | V20: Pertinencia | W20: Focalización | AB20: Pertinencia | AC20: Focalización
B22: Pertinencia | D22: 1 | E22: 1 | F22: 1 | H22: 0.25 | I22: 0.33333333 | J22: 0.5 | U22: Pertinencia | V22: 1 | W22: =(4*I22+H22+J22)/6 -> 0.34722222 | AA22: Pertinencia | AB22: =V22/($V$22+$V$23) -> 0.25 | AC22: =W22/($W$22+$W$23) -> 0.25773196 | AG22: Pertinencia | AH22: =AVERAGE(AB22:AC22) -> 0.25386598
B23: Focalización | D23: 2 | E23: 3 | F23: 4 | H23: 1 | I23: 1 | J23: 1 | U23: Focalización | V23: =(4*E23+D23+F23)/6 -> 3 | W23: 1 | AA23: Focalización | AB23: =V23/($V$22+$V$23) -> 0.75 | AC23: =W23/($W$22+$W$23) -> 0.74226804 | AG23: Focalización | AH23: =AVERAGE(AB23:AC23) -> 0.74613402
B25: Técnico | D25: Coordinación | H25: Eficacia | V25: Coordinación | W25: Eficacia | AB25: Pertinencia | AC25: Focalización
B27: Coordinación | D27: 1 | E27: 1 | F27: 1 | H27: 0.16666667 | I27: 0.2 | J27: 0.25 | U27: Coordinación | V27: =(4*E27+D27+F27)/6 -> 1 | W27: =(4*I27+H27+J27)/6 -> 0.20277778 | AA27: Coordinación | AB27: =V27/(V27+V28) -> 0.16666667 | AC27: =W27/($W$27+$W$28) -> 0.16859122 | AG27: Coordinación | AH27: =AVERAGE(AB27:AC27) -> 0.16762895
B28: Eficacia | D28: 4 | E28: 5 | F28: 6 | H28: 1 | I28: 1 | J28: 1 | U28: Eficacia | V28: =(4*E28+D28+F28)/6 -> 5 | W28: =(4*I28+H28+J28)/6 -> 1 | AA28: Eficacia | AB28: =V28/(V28+V27) -> 0.83333333 | AC28: =W28/($W$27+$W$28) -> 0.83140878 | AG28: Eficacia | AH28: =AVERAGE(AB28:AC28) -> 0.83237105
B33: Proyectos
C35: PROYECTO
B36: 1 | C36: Formación en danza y baile
B37: 2 | C37: Jornadas complementarias
B38: 3 | C38: Ludotecas comunitarias
B39: 4 | C39: Ajedrez infantil
B41: Comparación por pares de proyectos respecto de criterios | U41: Matriz defuzzificada | AA41: Matriz normalizada | AG41: Vector prioridad | AJ41: Nuevo vector | AM41: Vector prueba | AP41: Lambda máx | AR41: IC | AT41: IA | AV41: CC
AX42: Vector suma de la matriz
B44: Pertinencia | D44: 1 | H44: 2 | L44: 3 | P44: 4
V45: 1 | W45: 2 | X45: 3 | Y45: 4 | AB45: 1 | AC45: 2 | AD45: 3 | AE45: 4
B46: 1 | D46: 1 | E46: 1 | F46: 1 | H46: 0.25 | I46: 0.33333333 | J46: 0.5 | L46: 0.125 | M46: 0.14285714 | N46: 0.16666667 | P46: 0.5 | Q46: 1 | R46: 1 | U46: 1 | V46: =(4*E46+D46+F46)/6 -> 1 | W46: =(4*I46+H46+J46)/6 -> 0.34722222 | X46: =(4*M46+L46+N46)/6 -> 0.14384921 | Y46: =(4*Q46+P46+R46)/6 -> 0.91666667 | AA46: 1 | AB46: =V46/SUM($V$46:$V$49) -> 0.082191781 | AC46: =W46/SUM($W$46:$W$49) -> 0.13064576 | AD46: =X46/SUM($X$46:$X$49) -> 0.065256526 | AE46: =Y46/SUM($Y$46:$Y$49) -> 0.057591623 | AG46: 1 | AH46: =AVERAGE(AB46:AE46) -> 0.083921423 | AJ46: 1 | AK46: =V46*$AH$46+W46*$AH$47+X46*$AH$48+Y46*$AH$49 -> 0.3445986 | AM46: 1 | AN46: =AK46/AH46 -> 4.1062053 | AP46: =AVERAGE(AN46:AN49) -> 4.1507378 | AR46: =(AP46-4)/(4-1) -> 0.050245917 | AT46: 0.882 | AV46: =AR46/AT46 -> 0.05696816 | AX46: Indicadores de pobreza | AY46: =1/((SUM($F$46:$F$49)+SUM($J$46:$J$49)+SUM($N$46:$N$49)+SUM($R$46:$R$49))) -> 0.025641026 | AZ46: =1/(SUM($E$46:$E$49)+SUM($I$46:$I$49)+SUM($M$46:$M$49)+SUM($Q$46:$Q$49)) -> 0.030523256 | BA46: =1/(SUM($D$46:$D$49)+SUM($H$46:$H$49)+SUM($L$46:$L$49)+SUM($P$46:$P$49)) -> 0.036199095 | BC46: Indicadores de pobreza | BD46: =D46+H46+L46+P46 -> 1.875 | BE46: =E46+I46+M46+Q46 -> 2.4761905 | BF46: =F46+J46+N46+R46 -> 2.6666667 | BL46: Indicadores de pobreza | BM46: =AY46*BD46 -> 0.048076923 | BN46: =AZ46*BE46 -> 0.075581395 | BO46: =BA46*BF46 -> 0.09653092 | BQ46: Ind-nec | BR46: =IF((BN46>=BN47),1,(IF((BM47>BO46),"",((BM47-BO46)/((BN46-BO46)-(BN47-BM47)))))) | BS46: nec-Ind | BT46: =IF((BN47>=BN46),1,(IF((BM46>BO47),"",((BM46-BO47)/((BN47-BO47)-(BN46-BM46)))))) -> 1 | BU46: cto-Ind | BV46: =IF((BN48>=BN46),1,(IF((BM46>BO48),"",((BM46-BO48)/((BN48-BO48)-(BN46-BM46)))))) -> 1 | BW46: tec-Ind | BX46: =IF((BN49>=BN46),1,(IF((BM46>BO49),"",((BM46-BO49)/((BN49-BO49)-(BN46-BM46)))))) -> 0.92584307 | BZ46: Indicadores de pobreza | CA46: =MIN(BR46:BR48) -> 1 | CC46: Indicadores de pobreza | CD46: =CA46/SUM($CA$46:$CA$49) -> 0.28789495
B47: 2 | D47: 2 | E47: 3 | F47: 4 | H47: 1 | I47: 1 | J47: 1 | L47: 0.5 | M47: 1 | N47: 1 | P47: 6 | Q47: 7 | R47: 8 | U47: 2 | V47: =(4*E47+D47+F47)/6 -> 3 | W47: =(4*I47+H47+J47)/6 -> 1 | X47: =(4*M47+L47+N47)/6 -> 0.91666667 | Y47: =(4*Q47+P47+R47)/6 -> 7 | AA47: 2 | AB47: =V47/SUM($V$46:$V$49) -> 0.24657534 | AC47: =W47/SUM($W$46:$W$49) -> 0.3762598 | AD47: =X47/SUM($X$46:$X$49) -> 0.41584158 | AE47: =Y47/SUM($Y$46:$Y$49) -> 0.43979058 | AG47: 2 | AH47: =AVERAGE(AB47:AE47) -> 0.36961683 | AJ47: 2 | AK47: =V47*$AH$46+W47*$AH$47+X47*$AH$48+Y47*$AH$49 -> 1.5452463 | AM47: 2 | AN47: =AK47/AH47 -> 4.180671 | AX47: Necesidad de la comunidad | AY47: =1/((SUM($F$46:$F$49)+SUM($J$46:$J$49)+SUM($N$46:$N$49)+SUM($R$46:$R$49))) -> 0.025641026 | AZ47: =1/(SUM($E$46:$E$49)+SUM($I$46:$I$49)+SUM($M$46:$M$49)+SUM($Q$46:$Q$49)) -> 0.030523256 | BA47: =1/(SUM($D$46:$D$49)+SUM($H$46:$H$49)+SUM($L$46:$L$49)+SUM($P$46:$P$49)) -> 0.036199095 | BC47: Necesidad de la comunidad | BD47: =D47+H47+L47+P47 -> 9.5 | BE47: =E47+I47+M47+Q47 -> 12 | BF47: =F47+J47+N47+R47 -> 14 | BL47: Necesidad de la comunidad | BM47: =AY47*BD47 -> 0.24358974 | BN47: =AZ47*BE47 -> 0.36627907 | BO47: =BA47*BF47 -> 0.50678733 | BQ47: Ind-cto | BR47: =IF((BN46>=BN48),1,(IF((BM48>BO46),"",((BM48-BO46)/((BN46-BO46)-(BN48-BM48)))))) | BS47: nec-cto | BT47: =IF((BN47>=BN48),1,(IF((BM48>BO47),"",((BM48-BO47)/((BN47-BO47)-(BN48-BM48)))))) -> 0.54764612 | BU47: cto-nec | BV47: =IF((BN48>=BN47),1,(IF((BM47>BO48),"",((BM47-BO48)/((BN48-BO48)-(BN47-BM47)))))) -> 1 | BW47: tec-nec | BX47: =IF((BN49>=BN47),1,(IF((BM47>BO49),"",((BM47-BO49)/((BN49-BO49)-(BN47-BM47)))))) | BZ47: Necesidad de la comunidad | CA47: =MIN(BT46:BT48) -> 0.54764612 | CC47: Necesidad de la comunidad | CD47: =CA47/SUM($CA$46:$CA$49) -> 0.15766455
B48: 3 | D48: 6 | E48: 7 | F48: 8 | H48: 1 | I48: 1 | J48: 2 | L48: 1 | M48: 1 | N48: 1 | P48: 6 | Q48: 7 | R48: 8 | U48: 3 | V48: =(4*E48+D48+F48)/6 -> 7 | W48: =(4*I48+H48+J48)/6 -> 1.1666667 | X48: =(4*M48+L48+N48)/6 -> 1 | Y48: =(4*Q48+P48+R48)/6 -> 7 | AA48: 3 | AB48: =V48/SUM($V$46:$V$49) -> 0.57534247 | AC48: =W48/SUM($W$46:$W$49) -> 0.43896976 | AD48: =X48/SUM($X$46:$X$49) -> 0.45364536 | AE48: =Y48/SUM($Y$46:$Y$49) -> 0.43979058 | AG48: 3 | AH48: =AVERAGE(AB48:AE48) -> 0.47693704 | AJ48: 3 | AK48: =V48*$AH$46+W48*$AH$47+X48*$AH$48+Y48*$AH$49 -> 1.9822796 | AM48: 3 | AN48: =AK48/AH48 -> 4.156271 | AX48: Costo beneficio | AY48: =1/((SUM($F$46:$F$49)+SUM($J$46:$J$49)+SUM($N$46:$N$49)+SUM($R$46:$R$49))) -> 0.025641026 | AZ48: =1/(SUM($E$46:$E$49)+SUM($I$46:$I$49)+SUM($M$46:$M$49)+SUM($Q$46:$Q$49)) -> 0.030523256 | BA48: =1/(SUM($D$46:$D$49)+SUM($H$46:$H$49)+SUM($L$46:$L$49)+SUM($P$46:$P$49)) -> 0.036199095 | BC48: Costo beneficio | BD48: =D48+H48+L48+P48 -> 14 | BE48: =E48+I48+M48+Q48 -> 16 | BF48: =F48+J48+N48+R48 -> 19 | BL48: Costo beneficio | BM48: =AY48*BD48 -> 0.35897436 | BN48: =AZ48*BE48 -> 0.48837209 | BO48: =BA48*BF48 -> 0.68778281 | BQ48: Ind-tec | BR48: =IF((BN46>=BN49),1,(IF((BM49>BO46),"",((BM49-BO46)/((BN46-BO46)-(BN49-BM49)))))) -> 1 | BS48: nec-tec | BT48: =IF((BN47>=BN49),1,(IF((BM49>BO47),"",((BM49-BO47)/((BN47-BO47)-(BN49-BM49)))))) -> 1 | BU48: cto-tec | BV48: =IF((BN48>=BN49),1,(IF((BM49>BO48),"",((BM49-BO48)/((BN48-BO48)-(BN49-BM49)))))) -> 1 | BW48: tec-cto | BX48: =IF((BN49>=BN48),1,(IF((BM48>BO49),"",((BM48-BO49)/((BN49-BO49)-(BN48-BM48)))))) | BZ48: Costo beneficio | CA48: =MIN(BV46:BV48) -> 1 | CC48: Costo beneficio | CD48: =CA48/SUM($CA$46:$CA$49) -> 0.28789495
B49: 4 | D49: 1 | E49: 1 | F49: 2 | H49: 0.125 | I49: 0.14285714 | J49: 0.16666667 | L49: 0.125 | M49: 0.14285714 | N49: 0.16666667 | P49: 1 | Q49: 1 | R49: 1 | U49: 4 | V49: =(4*E49+D49+F49)/6 -> 1.1666667 | W49: =(4*I49+H49+J49)/6 -> 0.14384921 | X49: =(4*M49+L49+N49)/6 -> 0.14384921 | Y49: =(4*Q49+P49+R49)/6 -> 1 | AA49: 4 | AB49: =V49/SUM($V$46:$V$49) -> 0.095890411 | AC49: =W49/SUM($W$46:$W$49) -> 0.054124673 | AD49: =X49/SUM($X$46:$X$49) -> 0.065256526 | AE49: =Y49/SUM($Y$46:$Y$49) -> 0.062827225 | AG49: 4 | AH49: =AVERAGE(AB49:AE49) -> 0.069524709 | AJ49: 4 | AK49: =V49*$AH$46+W49*$AH$47+X49*$AH$48+Y49*$AH$49 -> 0.28920914 | AM49: 4 | AN49: =AK49/AH49 -> 4.1598037 | AX49: Técnico | AY49: =1/((SUM($F$46:$F$49)+SUM($J$46:$J$49)+SUM($N$46:$N$49)+SUM($R$46:$R$49))) -> 0.025641026 | AZ49: =1/(SUM($E$46:$E$49)+SUM($I$46:$I$49)+SUM($M$46:$M$49)+SUM($Q$46:$Q$49)) -> 0.030523256 | BA49: =1/(SUM($D$46:$D$49)+SUM($H$46:$H$49)+SUM($L$46:$L$49)+SUM($P$46:$P$49)) -> 0.036199095 | BC49: Técnico | BD49: =D49+H49+L49+P49 -> 2.25 | BE49: =E49+I49+M49+Q49 -> 2.2857143 | BF49: =F49+J49+N49+R49 -> 3.3333333 | BL49: Técnico | BM49: =AY49*BD49 -> 0.057692308 | BN49: =AZ49*BE49 -> 0.069767442 | BO49: =BA49*BF49 -> 0.12066365 | BZ49: Técnico | CA49: =MIN(BX46:BX48) -> 0.92584307 | CC49: Técnico | CD49: =CA49/SUM($CA$46:$CA$49) -> 0.26654555
D50: =IF(AV46<=0.1,"MATRIZ CONSISTENTE","MATRIZ INCONSISTENTE") -> MATRIZ CONSISTENTE | AB50: =SUM(AB46:AB49) -> 1 | AC50: =SUM(AC46:AC49) -> 1 | AD50: =SUM(AD46:AD49) -> 1 | AE50: =SUM(AE46:AE49) -> 1
B53: Focalización | D53: 1 | H53: 2 | L53: 3 | P53: 4
V54: 1 | W54: 2 | X54: 3 | Y54: 4 | AB54: 1 | AC54: 2 | AD54: 3 | AE54: 4
B55: 1 | D55: 1 | E55: 1 | F55: 1 | H55: 2 | I55: 3 | J55: 4 | L55: 0.5 | M55: 1 | N55: 1 | P55: 2 | Q55: 3 | R55: 4 | U55: 1 | V55: =(4*E55+D55+F55)/6 -> 1 | W55: =(4*I55+H55+J55)/6 -> 3 | X55: =(4*M55+L55+N55)/6 -> 0.91666667 | Y55: =(4*Q55+P55+R55)/6 -> 3 | AA55: 1 | AB55: =V55/SUM($V$55:$V$58) -> 0.34951456 | AC55: =W55/SUM($W$55:$W$58) -> 0.40831758 | AD55: =X55/SUM($X$55:$X$58) -> 0.38071693 | AE55: =Y55/SUM($Y$55:$Y$58) -> 0.21428571 | AG55: 1 | AH55: =AVERAGE(AB55:AE55) -> 0.3382087 | AJ55: 1 | AK55: =V55*$AH$55+W55*$AH$56+X55*$AH$57+Y55*$AH$58 -> 1.4218054 | AM55: 1 | AN55: =AK55/AH55 -> 4.2039293 | AP55: =AVERAGE(AN55:AN58) -> 4.1761522 | AR55: =(AP55-4)/(4-1) -> 0.058717401 | AT55: 0.882 | AV55: =AR55/AT55 -> 0.066573017 | AX55: Indicadores de pobreza | AY55: =1/((SUM($F$55:$F$58)+SUM($J$55:$J$58)+SUM($N$55:$N$58)+SUM($R$55:$R$58))) -> 0.030150754 | AZ55: =1/(SUM($E$55:$E$58)+SUM($I$55:$I$58)+SUM($M$55:$M$58)+SUM($Q$55:$Q$58)) -> 0.037769784 | BA55: =1/(SUM($D$55:$D$58)+SUM($H$55:$H$58)+SUM($L$55:$L$58)+SUM($P$55:$P$58)) -> 0.048484848 | BC55: Indicadores de pobreza | BD55: =D55+H55+L55+P55 -> 5.5 | BE55: =E55+I55+M55+Q55 -> 8 | BF55: =F55+J55+N55+R55 -> 10 | BL55: Indicadores de pobreza | BM55: =AY55*BD55 -> 0.16582915 | BN55: =AZ55*BE55 -> 0.30215827 | BO55: =BA55*BF55 -> 0.48484848 | BQ55: Ind-nec | BR55: =IF((BN55>=BN56),1,(IF((BM56>BO55),"",((BM56-BO55)/((BN55-BO55)-(BN56-BM56)))))) -> 1 | BS55: nec-Ind | BT55: =IF((BN56>=BN55),1,(IF((BM55>BO56),"",((BM55-BO56)/((BN56-BO56)-(BN55-BM55)))))) -> 0.49836772 | BU55: cto-Ind | BV55: =IF((BN57>=BN55),1,(IF((BM55>BO57),"",((BM55-BO57)/((BN57-BO57)-(BN55-BM55)))))) -> 1 | BW55: tec-Ind | BX55: =IF((BN58>=BN55),1,(IF((BM55>BO58),"",((BM55-BO58)/((BN58-BO58)-(BN55-BM55)))))) | BZ55: Indicadores de pobreza | CA55: =MIN(BR55:BR57) -> 0.54823546 | CC55: Indicadores de pobreza | CD55: =CA55/SUM($CA$55:$CA$58) -> 0.2678758
B56: 2 | D56: 0.25 | E56: 0.33333333 | F56: 0.5 | H56: 1 | I56: 1 | J56: 1 | L56: 0.25 | M56: 0.33333333 | N56: 0.5 | P56: 2 | Q56: 3 | R56: 4 | U56: 2 | V56: =(4*E56+D56+F56)/6 -> 0.34722222 | W56: =(4*I56+H56+J56)/6 -> 1 | X56: =(4*M56+L56+N56)/6 -> 0.34722222 | Y56: =(4*Q56+P56+R56)/6 -> 3 | AA56: 2 | AB56: =V56/SUM($V$55:$V$58) -> 0.12135922 | AC56: =W56/SUM($W$55:$W$58) -> 0.13610586 | AD56: =X56/SUM($X$55:$X$58) -> 0.14421096 | AE56: =Y56/SUM($Y$55:$Y$58) -> 0.21428571 | AG56: 2 | AH56: =AVERAGE(AB56:AE56) -> 0.15399044 | AJ56: 2 | AK56: =V56*$AH$55+W56*$AH$56+X56*$AH$57+Y56*$AH$58 -> 0.64656369 | AM56: 2 | AN56: =AK56/AH56 -> 4.1987262 | AX56: Necesidad de la comunidad | AY56: =1/((SUM($F$55:$F$58)+SUM($J$55:$J$58)+SUM($N$55:$N$58)+SUM($R$55:$R$58))) -> 0.030150754 | AZ56: =1/(SUM($E$55:$E$58)+SUM($I$55:$I$58)+SUM($M$55:$M$58)+SUM($Q$55:$Q$58)) -> 0.037769784 | BA56: =1/(SUM($D$55:$D$58)+SUM($H$55:$H$58)+SUM($L$55:$L$58)+SUM($P$55:$P$58)) -> 0.048484848 | BC56: Necesidad de la comunidad | BD56: =D56+H56+L56+P56 -> 3.5 | BE56: =E56+I56+M56+Q56 -> 4.6666667 | BF56: =F56+J56+N56+R56 -> 6 | BL56: Necesidad de la comunidad | BM56: =AY56*BD56 -> 0.10552764 | BN56: =AZ56*BE56 -> 0.17625899 | BO56: =BA56*BF56 -> 0.29090909 | BQ56: Ind-cto | BR56: =IF((BN55>=BN57),1,(IF((BM57>BO55),"",((BM57-BO55)/((BN55-BO55)-(BN57-BM57)))))) -> 0.54823546 | BS56: nec-cto | BT56: =IF((BN56>=BN57),1,(IF((BM57>BO56),"",((BM57-BO56)/((BN56-BO56)-(BN57-BM57)))))) | BU56: cto-nec | BV56: =IF((BN57>=BN56),1,(IF((BM56>BO57),"",((BM56-BO57)/((BN57-BO57)-(BN56-BM56)))))) -> 1 | BW56: tec-nec | BX56: =IF((BN58>=BN56),1,(IF((BM56>BO58),"",((BM56-BO58)/((BN58-BO58)-(BN56-BM56)))))) | BZ56: Necesidad de la comunidad | CA56: =MIN(BT55:BT57) -> 0.49836772 | CC56: Necesidad de la comunidad | CD56: =CA56/SUM($CA$55:$CA$58) -> 0.2435097
B57: 3 | D57: 1 | E57: 1 | F57: 2 | H57: 2 | I57: 3 | J57: 4 | L57: 1 | M57: 1 | N57: 1 | P57: 6 | Q57: 7 | R57: 8 | U57: 3 | V57: =(4*E57+D57+F57)/6 -> 1.1666667 | W57: =(4*I57+H57+J57)/6 -> 3 | X57: =(4*M57+L57+N57)/6 -> 1 | Y57: =(4*Q57+P57+R57)/6 -> 7 | AA57: 3 | AB57: =V57/SUM($V$55:$V$58) -> 0.40776699 | AC57: =W57/SUM($W$55:$W$58) -> 0.40831758 | AD57: =X57/SUM($X$55:$X$58) -> 0.41532756 | AE57: =Y57/SUM($Y$55:$Y$58) -> 0.5 | AG57: 3 | AH57: =AVERAGE(AB57:AE57) -> 0.43285303 | AJ57: 3 | AK57: =V57*$AH$55+W57*$AH$56+X57*$AH$57+Y57*$AH$58 -> 1.814036 | AM57: 3 | AN57: =AK57/AH57 -> 4.190882 | AT57: 1.98 | AV57: =AR55/AT57 -> 0.029655253 | AX57: Costo beneficio | AY57: =1/((SUM($F$55:$F$58)+SUM($J$55:$J$58)+SUM($N$55:$N$58)+SUM($R$55:$R$58))) -> 0.030150754 | AZ57: =1/(SUM($E$55:$E$58)+SUM($I$55:$I$58)+SUM($M$55:$M$58)+SUM($Q$55:$Q$58)) -> 0.037769784 | BA57: =1/(SUM($D$55:$D$58)+SUM($H$55:$H$58)+SUM($L$55:$L$58)+SUM($P$55:$P$58)) -> 0.048484848 | BC57: Costo beneficio | BD57: =D57+H57+L57+P57 -> 10 | BE57: =E57+I57+M57+Q57 -> 12 | BF57: =F57+J57+N57+R57 -> 15 | BL57: Costo beneficio | BM57: =AY57*BD57 -> 0.30150754 | BN57: =AZ57*BE57 -> 0.45323741 | BO57: =BA57*BF57 -> 0.72727273 | BQ57: Ind-tec | BR57: =IF((BN55>=BN58),1,(IF((BM58>BO55),"",((BM58-BO55)/((BN55-BO55)-(BN58-BM58)))))) -> 1 | BS57: nec-tec | BT57: =IF((BN56>=BN58),1,(IF((BM58>BO56),"",((BM58-BO56)/((BN56-BO56)-(BN58-BM58)))))) -> 1 | BU57: cto-tec | BV57: =IF((BN57>=BN58),1,(IF((BM58>BO57),"",((BM58-BO57)/((BN57-BO57)-(BN58-BM58)))))) -> 1 | BW57: tec-cto | BX57: =IF((BN58>=BN57),1,(IF((BM57>BO58),"",((BM57-BO58)/((BN58-BO58)-(BN57-BM57)))))) | BZ57: Costo beneficio | CA57: =MIN(BV55:BV57) -> 1 | CC57: Costo beneficio | CD57: =CA57/SUM($CA$55:$CA$58) -> 0.48861451
B58: 4 | D58: 0.25 | E58: 0.33333333 | F58: 0.5 | H58: 0.25 | I58: 0.33333333 | J58: 0.5 | L58: 0.125 | M58: 0.14285714 | N58: 0.16666667 | P58: 1 | Q58: 1 | R58: 1 | U58: 4 | V58: =(4*E58+D58+F58)/6 -> 0.34722222 | W58: =(4*I58+H58+J58)/6 -> 0.34722222 | X58: =(4*M58+L58+N58)/6 -> 0.14384921 | Y58: =(4*Q58+P58+R58)/6 -> 1 | AA58: 4 | AB58: =V58/SUM($V$55:$V$58) -> 0.12135922 | AC58: =W58/SUM($W$55:$W$58) -> 0.047258979 | AD58: =X58/SUM($X$55:$X$58) -> 0.059744541 | AE58: =Y58/SUM($Y$55:$Y$58) -> 0.071428571 | AG58: 4 | AH58: =AVERAGE(AB58:AE58) -> 0.074947829 | AJ58: 4 | AK58: =V58*$AH$55+W58*$AH$56+X58*$AH$57+Y58*$AH$58 -> 0.30811587 | AM58: 4 | AN58: =AK58/AH58 -> 4.1110714 | AX58: Técnico | AY58: =1/((SUM($F$55:$F$58)+SUM($J$55:$J$58)+SUM($N$55:$N$58)+SUM($R$55:$R$58))) -> 0.030150754 | AZ58: =1/(SUM($E$55:$E$58)+SUM($I$55:$I$58)+SUM($M$55:$M$58)+SUM($Q$55:$Q$58)) -> 0.037769784 | BA58: =1/(SUM($D$55:$D$58)+SUM($H$55:$H$58)+SUM($L$55:$L$58)+SUM($P$55:$P$58)) -> 0.048484848 | BC58: Técnico | BD58: =D58+H58+L58+P58 -> 1.625 | BE58: =E58+I58+M58+Q58 -> 1.8095238 | BF58: =F58+J58+N58+R58 -> 2.1666667 | BL58: Técnico | BM58: =AY58*BD58 -> 0.048994975 | BN58: =AZ58*BE58 -> 0.068345324 | BO58: =BA58*BF58 -> 0.10505051 | BZ58: Técnico | CA58: =MIN(BX55:BX57) -> 0 | CC58: Técnico | CD58: =CA58/SUM($CA$55:$CA$58) -> 0
D59: =IF(AV55<=0.1,"MATRIZ CONSISTENTE","MATRIZ INCONSISTENTE") -> MATRIZ CONSISTENTE | AB59: =SUM(AB55:AB58) -> 1 | AC59: =SUM(AC55:AC58) -> 1 | AD59: =SUM(AD55:AD58) -> 1 | AE59: =SUM(AE55:AE58) -> 1
B62: Necesidad de la comunidad | D62: 1 | H62: 2 | L62: 3 | P62: 4
V63: 1 | W63: 2 | X63: 3 | Y63: 4 | AB63: 1 | AC63: 2 | AD63: 3 | AE63: 4
B64: 1 | D64: 1 | E64: 1 | F64: 1 | H64: 0.16666667 | I64: 0.2 | J64: 0.25 | L64: 0.125 | M64: 0.14285714 | N64: 0.16666667 | P64: 1 | Q64: 1 | R64: 2 | U64: 1 | V64: =(4*E64+D64+F64)/6 -> 1 | W64: =(4*I64+H64+J64)/6 -> 0.20277778 | X64: =(4*M64+L64+N64)/6 -> 0.14384921 | Y64: =(4*Q64+P64+R64)/6 -> 1.1666667 | AA64: 1 | AB64: =V64/SUM($V$64:$V$67) -> 0.071856287 | AC64: =W64/SUM($W$64:$W$67) -> 0.089594109 | AD64: =X64/SUM($X$64:$X$67) -> 0.058609539 | AE64: =Y64/SUM($Y$64:$Y$67) -> 0.072164948 | AG64: 1 | AH64: =AVERAGE(AB64:AE64) -> 0.073056221 | AJ64: 1 | AK64: =V64*$AH$64+W64*$AH$65+X64*$AH$66+Y64*$AH$67 -> 0.29547839 | AM64: 1 | AN64: =AK64/AH64 -> 4.0445343 | AP64: =AVERAGE(AN64:AN67) -> 4.0612329 | AR64: =(AP64-4)/(4-1) -> 0.02041096 | AT64: 0.882 | AV64: =AR64/AT64 -> 0.023141678 | AX64: Indicadores de pobreza | AY64: =1/((SUM($F$64:$F$67)+SUM($J$64:$J$67)+SUM($N$64:$N$67)+SUM($R$64:$R$67))) -> 0.024539877 | AZ64: =1/(SUM($E$64:$E$67)+SUM($I$64:$I$67)+SUM($M$64:$M$67)+SUM($Q$64:$Q$67)) -> 0.028877888 | BA64: =1/(SUM($D$64:$D$67)+SUM($H$64:$H$67)+SUM($L$64:$L$67)+SUM($P$64:$P$67)) -> 0.033850494 | BC64: Indicadores de pobreza | BD64: =D64+H64+L64+P64 -> 2.2916667 | BE64: =E64+I64+M64+Q64 -> 2.3428571 | BF64: =F64+J64+N64+R64 -> 3.4166667 | BL64: Indicadores de pobreza | BM64: =AY64*BD64 -> 0.056237219 | BN64: =AZ64*BE64 -> 0.067656766 | BO64: =BA64*BF64 -> 0.11565585 | BQ64: Ind-nec | BR64: =IF((BN64>=BN65),1,(IF((BM65>BO64),"",((BM65-BO64)/((BN64-BO64)-(BN65-BM65)))))) | BS64: nec-Ind | BT64: =IF((BN65>=BN64),1,(IF((BM64>BO65),"",((BM64-BO65)/((BN65-BO65)-(BN64-BM64)))))) -> 1 | BU64: cto-Ind | BV64: =IF((BN66>=BN64),1,(IF((BM64>BO66),"",((BM64-BO66)/((BN66-BO66)-(BN64-BM64)))))) -> 1 | BW64: tec-Ind | BX64: =IF((BN67>=BN64),1,(IF((BM64>BO67),"",((BM64-BO67)/((BN67-BO67)-(BN64-BM64)))))) -> 0.93236317 | BZ64: Indicadores de pobreza | CA64: =MIN(BR64:BR66) -> 1 | CC64: Indicadores de pobreza | CD64: =CA64/SUM($CA$64:$CA$67) -> 0.26730307
B65: 2 | D65: 4 | E65: 5 | F65: 6 | H65: 1 | I65: 1 | J65: 1 | L65: 1 | M65: 1 | N65: 2 | P65: 6 | Q65: 7 | R65: 8 | U65: 2 | V65: =(4*E65+D65+F65)/6 -> 5 | W65: =(4*I65+H65+J65)/6 -> 1 | X65: =(4*M65+L65+N65)/6 -> 1.1666667 | Y65: =(4*Q65+P65+R65)/6 -> 7 | AA65: 2 | AB65: =V65/SUM($V$64:$V$67) -> 0.35928144 | AC65: =W65/SUM($W$64:$W$67) -> 0.44183396 | AD65: =X65/SUM($X$64:$X$67) -> 0.47534357 | AE65: =Y65/SUM($Y$64:$Y$67) -> 0.43298969 | AG65: 2 | AH65: =AVERAGE(AB65:AE65) -> 0.42736217 | AJ65: 2 | AK65: =V65*$AH$64+W65*$AH$65+X65*$AH$66+Y65*$AH$67 -> 1.7399128 | AM65: 2 | AN65: =AK65/AH65 -> 4.0712841 | AX65: Necesidad de la comunidad | AY65: =1/((SUM($F$64:$F$67)+SUM($J$64:$J$67)+SUM($N$64:$N$67)+SUM($R$64:$R$67))) -> 0.024539877 | AZ65: =1/(SUM($E$64:$E$67)+SUM($I$64:$I$67)+SUM($M$64:$M$67)+SUM($Q$64:$Q$67)) -> 0.028877888 | BA65: =1/(SUM($D$64:$D$67)+SUM($H$64:$H$67)+SUM($L$64:$L$67)+SUM($P$64:$P$67)) -> 0.033850494 | BC65: Necesidad de la comunidad | BD65: =D65+H65+L65+P65 -> 12 | BE65: =E65+I65+M65+Q65 -> 14 | BF65: =F65+J65+N65+R65 -> 17 | BL65: Necesidad de la comunidad | BM65: =AY65*BD65 -> 0.29447853 | BN65: =AZ65*BE65 -> 0.40429043 | BO65: =BA65*BF65 -> 0.57545839 | BQ65: Ind-cto | BR65: =IF((BN64>=BN66),1,(IF((BM66>BO64),"",((BM66-BO64)/((BN64-BO64)-(BN66-BM66)))))) | BS65: nec-cto | BT65: =IF((BN65>=BN66),1,(IF((BM66>BO65),"",((BM66-BO65)/((BN65-BO65)-(BN66-BM66)))))) -> 0.80870873 | BU65: cto-nec | BV65: =IF((BN66>=BN65),1,(IF((BM65>BO66),"",((BM65-BO66)/((BN66-BO66)-(BN65-BM65)))))) -> 1 | BW65: tec-nec | BX65: =IF((BN67>=BN65),1,(IF((BM65>BO67),"",((BM65-BO67)/((BN67-BO67)-(BN65-BM65)))))) | BZ65: Necesidad de la comunidad | CA65: =MIN(BT64:BT66) -> 0.80870873 | CC65: Necesidad de la comunidad | CD65: =CA65/SUM($CA$64:$CA$67) -> 0.21617032
B66: 3 | D66: 6 | E66: 7 | F66: 8 | H66: 0.5 | I66: 1 | J66: 1 | L66: 1 | M66: 1 | N66: 1 | P66: 6 | Q66: 7 | R66: 8 | U66: 3 | V66: =(4*E66+D66+F66)/6 -> 7 | W66: =(4*I66+H66+J66)/6 -> 0.91666667 | X66: =(4*M66+L66+N66)/6 -> 1 | Y66: =(4*Q66+P66+R66)/6 -> 7 | AA66: 3 | AB66: =V66/SUM($V$64:$V$67) -> 0.50299401 | AC66: =W66/SUM($W$64:$W$67) -> 0.40501446 | AD66: =X66/SUM($X$64:$X$67) -> 0.40743735 | AE66: =Y66/SUM($Y$64:$Y$67) -> 0.43298969 | AG66: 3 | AH66: =AVERAGE(AB66:AE66) -> 0.43710888 | AJ66: 3 | AK66: =V66*$AH$64+W66*$AH$65+X66*$AH$66+Y66*$AH$67 -> 1.7775602 | AM66: 3 | AN66: =AK66/AH66 -> 4.0666303 | AT66: 1.98 | AV66: =AR64/AT66 -> 0.010308566 | AX66: Costo beneficio | AY66: =1/((SUM($F$64:$F$67)+SUM($J$64:$J$67)+SUM($N$64:$N$67)+SUM($R$64:$R$67))) -> 0.024539877 | AZ66: =1/(SUM($E$64:$E$67)+SUM($I$64:$I$67)+SUM($M$64:$M$67)+SUM($Q$64:$Q$67)) -> 0.028877888 | BA66: =1/(SUM($D$64:$D$67)+SUM($H$64:$H$67)+SUM($L$64:$L$67)+SUM($P$64:$P$67)) -> 0.033850494 | BC66: Costo beneficio | BD66: =D66+H66+L66+P66 -> 13.5 | BE66: =E66+I66+M66+Q66 -> 16 | BF66: =F66+J66+N66+R66 -> 18 | BL66: Costo beneficio | BM66: =AY66*BD66 -> 0.33128834 | BN66: =AZ66*BE66 -> 0.4620462 | BO66: =BA66*BF66 -> 0.60930889 | BQ66: Ind-tec | BR66: =IF((BN64>=BN67),1,(IF((BM67>BO64),"",((BM67-BO64)/((BN64-BO64)-(BN67-BM67)))))) -> 1 | BS66: nec-tec | BT66: =IF((BN65>=BN67),1,(IF((BM67>BO65),"",((BM67-BO65)/((BN65-BO65)-(BN67-BM67)))))) -> 1 | BU66: cto-tec | BV66: =IF((BN66>=BN67),1,(IF((BM67>BO66),"",((BM67-BO66)/((BN66-BO66)-(BN67-BM67)))))) -> 1 | BW66: tec-cto | BX66: =IF((BN67>=BN66),1,(IF((BM66>BO67),"",((BM66-BO67)/((BN67-BO67)-(BN66-BM66)))))) | BZ66: Costo beneficio | CA66: =MIN(BV64:BV66) -> 1 | CC66: Costo beneficio | CD66: =CA66/SUM($CA$64:$CA$67) -> 0.26730307
B67: 4 | D67: 0.5 | E67: 1 | F67: 1 | H67: 0.125 | I67: 0.14285714 | J67: 0.16666667 | L67: 0.125 | M67: 0.14285714 | N67: 0.16666667 | P67: 1 | Q67: 1 | R67: 1 | U67: 4 | V67: =(4*E67+D67+F67)/6 -> 0.91666667 | W67: =(4*I67+H67+J67)/6 -> 0.14384921 | X67: =(4*M67+L67+N67)/6 -> 0.14384921 | Y67: =(4*Q67+P67+R67)/6 -> 1 | AA67: 4 | AB67: =V67/SUM($V$64:$V$67) -> 0.065868263 | AC67: =W67/SUM($W$64:$W$67) -> 0.063557465 | AD67: =X67/SUM($X$64:$X$67) -> 0.058609539 | AE67: =Y67/SUM($Y$64:$Y$67) -> 0.06185567 | AG67: 4 | AH67: =AVERAGE(AB67:AE67) -> 0.062472734 | AJ67: 4 | AK67: =V67*$AH$64+W67*$AH$65+X67*$AH$66+Y67*$AH$67 -> 0.25379441 | AM67: 4 | AN67: =AK67/AH67 -> 4.0624828 | AX67: Técnico | AY67: =1/((SUM($F$64:$F$67)+SUM($J$64:$J$67)+SUM($N$64:$N$67)+SUM($R$64:$R$67))) -> 0.024539877 | AZ67: =1/(SUM($E$64:$E$67)+SUM($I$64:$I$67)+SUM($M$64:$M$67)+SUM($Q$64:$Q$67)) -> 0.028877888 | BA67: =1/(SUM($D$64:$D$67)+SUM($H$64:$H$67)+SUM($L$64:$L$67)+SUM($P$64:$P$67)) -> 0.033850494 | BC67: Técnico | BD67: =D67+H67+L67+P67 -> 1.75 | BE67: =E67+I67+M67+Q67 -> 2.2857143 | BF67: =F67+J67+N67+R67 -> 2.3333333 | BL67: Técnico | BM67: =AY67*BD67 -> 0.042944785 | BN67: =AZ67*BE67 -> 0.066006601 | BO67: =BA67*BF67 -> 0.078984485 | BZ67: Técnico | CA67: =MIN(BX64:BX66) -> 0.93236317 | CC67: Técnico | CD67: =CA67/SUM($CA$64:$CA$67) -> 0.24922354
D68: =IF(AV64<=0.1,"MATRIZ CONSISTENTE","MATRIZ INCONSISTENTE") -> MATRIZ CONSISTENTE | AB68: =SUM(AB64:AB67) -> 1 | AC68: =SUM(AC64:AC67) -> 1 | AD68: =SUM(AD64:AD67) -> 1 | AE68: =SUM(AE64:AE67) -> 1
B71: Costo-Beneficio | D71: 1 | H71: 2 | L71: 3 | P71: 4
V72: 1 | W72: 2 | X72: 3 | Y72: 4 | AB72: 1 | AC72: 2 | AD72: 3 | AE72: 4
B73: 1 | D73: 1 | E73: 1 | F73: 1 | H73: 0.125 | I73: 0.14285714 | J73: 0.16666667 | L73: 0.16666667 | M73: 0.2 | N73: 0.25 | P73: 0.25 | Q73: 0.33333333 | R73: 0.5 | U73: 1 | V73: =(4*E73+D73+F73)/6 -> 1 | W73: =(4*I73+H73+J73)/6 -> 0.14384921 | X73: =(4*M73+L73+N73)/6 -> 0.20277778 | Y73: =(4*Q73+P73+R73)/6 -> 0.34722222 | AA73: 1 | AB73: =V73/SUM($V$73:$V$76) -> 0.0625 | AC73: =W73/SUM($W$73:$W$76) -> 0.054124673 | AD73: =X73/SUM($X$73:$X$76) -> 0.087320574 | AE73: =Y73/SUM($Y$73:$Y$76) -> 0.037147103 | AG73: 1 | AH73: =AVERAGE(AB73:AE73) -> 0.060273088 | AJ73: 1 | AK73: =V73*$AH$73+W73*$AH$74+X73*$AH$75+Y73*$AH$76 -> 0.24680192 | AM73: 1 | AN73: =AK73/AH73 -> 4.0947284 | AP73: =AVERAGE(AN73:AN76) -> 4.1482816 | AR73: =(AP73-4)/(4-1) -> 0.049427198 | AT73: 0.882 | AV73: =AR73/AT73 -> 0.056039907 | AX73: Indicadores de pobreza | AY73: =1/((SUM($F$73:$F$76)+SUM($J$73:$J$76)+SUM($N$73:$N$76)+SUM($R$73:$R$76))) -> 0.027272727 | AZ73: =1/(SUM($E$73:$E$76)+SUM($I$73:$I$76)+SUM($M$73:$M$76)+SUM($Q$73:$Q$76)) -> 0.033102144 | BA73: =1/(SUM($D$73:$D$76)+SUM($H$73:$H$76)+SUM($L$73:$L$76)+SUM($P$73:$P$76)) -> 0.04088586 | BC73: Indicadores de pobreza | BD73: =D73+H73+L73+P73 -> 1.5416667 | BE73: =E73+I73+M73+Q73 -> 1.6761905 | BF73: =F73+J73+N73+R73 -> 1.9166667 | BL73: Indicadores de pobreza | BM73: =AY73*BD73 -> 0.042045455 | BN73: =AZ73*BE73 -> 0.055485498 | BO73: =BA73*BF73 -> 0.078364566 | BQ73: Ind-nec | BR73: =IF((BN73>=BN74),1,(IF((BM74>BO73),"",((BM74-BO73)/((BN73-BO73)-(BN74-BM74)))))) | BS73: nec-Ind | BT73: =IF((BN74>=BN73),1,(IF((BM73>BO74),"",((BM73-BO74)/((BN74-BO74)-(BN73-BM73)))))) -> 1 | BU73: cto-Ind | BV73: =IF((BN75>=BN73),1,(IF((BM73>BO75),"",((BM73-BO75)/((BN75-BO75)-(BN73-BM73)))))) -> 1 | BW73: tec-Ind | BX73: =IF((BN76>=BN73),1,(IF((BM73>BO76),"",((BM73-BO76)/((BN76-BO76)-(BN73-BM73)))))) -> 1 | BZ73: Indicadores de pobreza | CA73: =MIN(BR73:BR75) -> 0 | CC73: Indicadores de pobreza | CD73: =CA73/SUM($CA$73:$CA$76) -> 0
B74: 2 | D74: 6 | E74: 7 | F74: 8 | H74: 1 | I74: 1 | J74: 1 | L74: 0.5 | M74: 1 | N74: 1 | P74: 2 | Q74: 3 | R74: 4 | U74: 2 | V74: =(4*E74+D74+F74)/6 -> 7 | W74: =(4*I74+H74+J74)/6 -> 1 | X74: =(4*M74+L74+N74)/6 -> 0.91666667 | Y74: =(4*Q74+P74+R74)/6 -> 3 | AA74: 2 | AB74: =V74/SUM($V$73:$V$76) -> 0.4375 | AC74: =W74/SUM($W$73:$W$76) -> 0.3762598 | AD74: =X74/SUM($X$73:$X$76) -> 0.39473684 | AE74: =Y74/SUM($Y$73:$Y$76) -> 0.32095097 | AG74: 2 | AH74: =AVERAGE(AB74:AE74) -> 0.3823619 | AJ74: 2 | AK74: =V74*$AH$73+W74*$AH$74+X74*$AH$75+Y74*$AH$76 -> 1.5820925 | AM74: 2 | AN74: =AK74/AH74 -> 4.1376834 | AX74: Necesidad de la comunidad | AY74: =1/((SUM($F$73:$F$76)+SUM($J$73:$J$76)+SUM($N$73:$N$76)+SUM($R$73:$R$76))) -> 0.027272727 | AZ74: =1/(SUM($E$73:$E$76)+SUM($I$73:$I$76)+SUM($M$73:$M$76)+SUM($Q$73:$Q$76)) -> 0.033102144 | BA74: =1/(SUM($D$73:$D$76)+SUM($H$73:$H$76)+SUM($L$73:$L$76)+SUM($P$73:$P$76)) -> 0.04088586 | BC74: Necesidad de la comunidad | BD74: =D74+H74+L74+P74 -> 9.5 | BE74: =E74+I74+M74+Q74 -> 12 | BF74: =F74+J74+N74+R74 -> 14 | BL74: Necesidad de la comunidad | BM74: =AY74*BD74 -> 0.25909091 | BN74: =AZ74*BE74 -> 0.39722573 | BO74: =BA74*BF74 -> 0.57240204 | BQ74: Ind-cto | BR74: =IF((BN73>=BN75),1,(IF((BM75>BO73),"",((BM75-BO73)/((BN73-BO73)-(BN75-BM75)))))) | BS74: nec-cto | BT74: =IF((BN74>=BN75),1,(IF((BM75>BO74),"",((BM75-BO74)/((BN74-BO74)-(BN75-BM75)))))) -> 1 | BU74: cto-nec | BV74: =IF((BN75>=BN74),1,(IF((BM74>BO75),"",((BM74-BO75)/((BN75-BO75)-(BN74-BM74)))))) -> 1 | BW74: tec-nec | BX74: =IF((BN76>=BN74),1,(IF((BM74>BO76),"",((BM74-BO76)/((BN76-BO76)-(BN74-BM74)))))) | BZ74: Necesidad de la comunidad | CA74: =MIN(BT73:BT75) -> 1 | CC74: Necesidad de la comunidad | CD74: =CA74/SUM($CA$73:$CA$76) -> 0.33333333
B75: 3 | D75: 4 | E75: 5 | F75: 6 | H75: 1 | I75: 1 | J75: 2 | L75: 1 | M75: 1 | N75: 1 | P75: 4 | Q75: 5 | R75: 6 | U75: 3 | V75: =(4*E75+D75+F75)/6 -> 5 | W75: =(4*I75+H75+J75)/6 -> 1.1666667 | X75: =(4*M75+L75+N75)/6 -> 1 | Y75: =(4*Q75+P75+R75)/6 -> 5 | AA75: 3 | AB75: =V75/SUM($V$73:$V$76) -> 0.3125 | AC75: =W75/SUM($W$73:$W$76) -> 0.43896976 | AD75: =X75/SUM($X$73:$X$76) -> 0.43062201 | AE75: =Y75/SUM($Y$73:$Y$76) -> 0.53491828 | AG75: 3 | AH75: =AVERAGE(AB75:AE75) -> 0.42925251 | AJ75: 3 | AK75: =V75*$AH$73+W75*$AH$74+X75*$AH$75+Y75*$AH$76 -> 1.8172693 | AM75: 3 | AN75: =AK75/AH75 -> 4.2335671 | AT75: 1.98 | AV75: =AR73/AT75 -> 0.024963231 | AX75: Costo beneficio | AY75: =1/((SUM($F$73:$F$76)+SUM($J$73:$J$76)+SUM($N$73:$N$76)+SUM($R$73:$R$76))) -> 0.027272727 | AZ75: =1/(SUM($E$73:$E$76)+SUM($I$73:$I$76)+SUM($M$73:$M$76)+SUM($Q$73:$Q$76)) -> 0.033102144 | BA75: =1/(SUM($D$73:$D$76)+SUM($H$73:$H$76)+SUM($L$73:$L$76)+SUM($P$73:$P$76)) -> 0.04088586 | BC75: Costo beneficio | BD75: =D75+H75+L75+P75 -> 10 | BE75: =E75+I75+M75+Q75 -> 12 | BF75: =F75+J75+N75+R75 -> 15 | BL75: Costo beneficio | BM75: =AY75*BD75 -> 0.27272727 | BN75: =AZ75*BE75 -> 0.39722573 | BO75: =BA75*BF75 -> 0.6132879 | BQ75: Ind-tec | BR75: =IF((BN73>=BN76),1,(IF((BM76>BO73),"",((BM76-BO73)/((BN73-BO73)-(BN76-BM76)))))) | BS75: nec-tec | BT75: =IF((BN74>=BN76),1,(IF((BM76>BO74),"",((BM76-BO74)/((BN74-BO74)-(BN76-BM76)))))) -> 1 | BU75: cto-tec | BV75: =IF((BN75>=BN76),1,(IF((BM76>BO75),"",((BM76-BO75)/((BN75-BO75)-(BN76-BM76)))))) -> 1 | BW75: tec-cto | BX75: =IF((BN76>=BN75),1,(IF((BM75>BO76),"",((BM75-BO76)/((BN76-BO76)-(BN75-BM75)))))) | BZ75: Costo beneficio | CA75: =MIN(BV73:BV75) -> 1 | CC75: Costo beneficio | CD75: =CA75/SUM($CA$73:$CA$76) -> 0.33333333
B76: 4 | D76: 2 | E76: 3 | F76: 4 | H76: 0.25 | I76: 0.33333333 | J76: 0.5 | L76: 0.16666667 | M76: 0.2 | N76: 0.25 | P76: 1 | Q76: 1 | R76: 1 | U76: 4 | V76: =(4*E76+D76+F76)/6 -> 3 | W76: =(4*I76+H76+J76)/6 -> 0.34722222 | X76: =(4*M76+L76+N76)/6 -> 0.20277778 | Y76: =(4*Q76+P76+R76)/6 -> 1 | AA76: 4 | AB76: =V76/SUM($V$73:$V$76) -> 0.1875 | AC76: =W76/SUM($W$73:$W$76) -> 0.13064576 | AD76: =X76/SUM($X$73:$X$76) -> 0.087320574 | AE76: =Y76/SUM($Y$73:$Y$76) -> 0.10698366 | AG76: 4 | AH76: =AVERAGE(AB76:AE76) -> 0.1281125 | AJ76: 4 | AK76: =V76*$AH$73+W76*$AH$74+X76*$AH$75+Y76*$AH$76 -> 0.52873918 | AM76: 4 | AN76: =AK76/AH76 -> 4.1271475 | AX76: Técnico | AY76: =1/((SUM($F$73:$F$76)+SUM($J$73:$J$76)+SUM($N$73:$N$76)+SUM($R$73:$R$76))) -> 0.027272727 | AZ76: =1/(SUM($E$73:$E$76)+SUM($I$73:$I$76)+SUM($M$73:$M$76)+SUM($Q$73:$Q$76)) -> 0.033102144 | BA76: =1/(SUM($D$73:$D$76)+SUM($H$73:$H$76)+SUM($L$73:$L$76)+SUM($P$73:$P$76)) -> 0.04088586 | BC76: Técnico | BD76: =D76+H76+L76+P76 -> 3.4166667 | BE76: =E76+I76+M76+Q76 -> 4.5333333 | BF76: =F76+J76+N76+R76 -> 5.75 | BL76: Técnico | BM76: =AY76*BD76 -> 0.093181818 | BN76: =AZ76*BE76 -> 0.15006305 | BO76: =BA76*BF76 -> 0.2350937 | BZ76: Técnico | CA76: =MIN(BX73:BX75) -> 1 | CC76: Técnico | CD76: =CA76/SUM($CA$73:$CA$76) -> 0.33333333
D77: =IF(AV73<=0.1,"MATRIZ CONSISTENTE","MATRIZ INCONSISTENTE") -> MATRIZ CONSISTENTE | AB77: =SUM(AB73:AB76) -> 1 | AC77: =SUM(AC73:AC76) -> 1 | AD77: =SUM(AD73:AD76) -> 1 | AE77: =SUM(AE73:AE76) -> 1
B80: Coordinación | D80: 1 | H80: 2 | L80: 3 | P80: 4
V81: 1 | W81: 2 | X81: 3 | Y81: 4 | AB81: 1 | AC81: 2 | AD81: 3 | AE81: 4
B82: 1 | D82: 1 | E82: 1 | F82: 1 | H82: 0.11111111 | I82: 0.11111111 | J82: 0.125 | L82: 0.16666667 | M82: 0.2 | N82: 0.25 | P82: 1 | Q82: 1 | R82: 2 | U82: 1 | V82: =(4*E82+D82+F82)/6 -> 1 | W82: =(4*I82+H82+J82)/6 -> 0.11342593 | X82: =(4*M82+L82+N82)/6 -> 0.20277778 | Y82: =(4*Q82+P82+R82)/6 -> 1.1666667 | AA82: 1 | AB82: =V82/SUM($V$82:$V$85) -> 0.0625 | AC82: =W82/SUM($W$82:$W$85) -> 0.052175236 | AD82: =X82/SUM($X$82:$X$85) -> 0.078833693 | AE82: =Y82/SUM($Y$82:$Y$85) -> 0.082352941 | AG82: 1 | AH82: =AVERAGE(AB82:AE82) -> 0.068965468 | AJ82: 1 | AK82: =V82*$AH$82+W82*$AH$83+X82*$AH$84+Y82*$AH$85 -> 0.28350407 | AM82: 1 | AN82: =AK82/AH82 -> 4.1108119 | AP82: =AVERAGE(AN82:AN85) -> 4.1306268 | AR82: =(AP82-4)/(4-1) -> 0.043542255 | AT82: 0.882 | AV82: =AR82/AT82 -> 0.049367636 | AX82: Indicadores de pobreza | AY82: =1/((SUM($F$82:$F$85)+SUM($J$82:$J$85)+SUM($N$82:$N$85)+SUM($R$82:$R$85))) -> 0.024514811 | AZ82: =1/(SUM($E$82:$E$85)+SUM($I$82:$I$85)+SUM($M$82:$M$85)+SUM($Q$82:$Q$85)) -> 0.028856724 | BA82: =1/(SUM($D$82:$D$85)+SUM($H$82:$H$85)+SUM($L$82:$L$85)+SUM($P$82:$P$85)) -> 0.033256351 | BC82: Indicadores de pobreza | BD82: =D82+H82+L82+P82 -> 2.2777778 | BE82: =E82+I82+M82+Q82 -> 2.3111111 | BF82: =F82+J82+N82+R82 -> 3.375 | BL82: Indicadores de pobreza | BM82: =AY82*BD82 -> 0.055839292 | BN82: =AZ82*BE82 -> 0.066691096 | BO82: =BA82*BF82 -> 0.11224018 | BQ82: Ind-nec | BR82: =IF((BN82>=BN83),1,(IF((BM83>BO82),"",((BM83-BO82)/((BN82-BO82)-(BN83-BM83)))))) | BS82: nec-Ind | BT82: =IF((BN83>=BN82),1,(IF((BM82>BO83),"",((BM82-BO83)/((BN83-BO83)-(BN82-BM82)))))) -> 1 | BU82: cto-Ind | BV82: =IF((BN84>=BN82),1,(IF((BM82>BO84),"",((BM82-BO84)/((BN84-BO84)-(BN82-BM82)))))) -> 1 | BW82: tec-Ind | BX82: =IF((BN85>=BN82),1,(IF((BM82>BO85),"",((BM82-BO85)/((BN85-BO85)-(BN82-BM82)))))) -> 1 | BZ82: Indicadores de pobreza | CA82: =MIN(BR82:BR84) -> 0.98392168 | CC82: Indicadores de pobreza | CD82: =CA82/SUM($CA$82:$CA$85) -> 0.29983856
B83: 2 | D83: 8 | E83: 9 | F83: 9 | H83: 1 | I83: 1 | J83: 1 | L83: 1 | M83: 1 | N83: 2 | P83: 6 | Q83: 7 | R83: 8 | U83: 2 | V83: =(4*E83+D83+F83)/6 -> 8.8333333 | W83: =(4*I83+H83+J83)/6 -> 1 | X83: =(4*M83+L83+N83)/6 -> 1.1666667 | Y83: =(4*Q83+P83+R83)/6 -> 7 | AA83: 2 | AB83: =V83/SUM($V$82:$V$85) -> 0.55208333 | AC83: =W83/SUM($W$82:$W$85) -> 0.45999392 | AD83: =X83/SUM($X$82:$X$85) -> 0.45356371 | AE83: =Y83/SUM($Y$82:$Y$85) -> 0.49411765 | AG83: 2 | AH83: =AVERAGE(AB83:AE83) -> 0.48993965 | AJ83: 2 | AK83: =V83*$AH$82+W83*$AH$83+X83*$AH$84+Y83*$AH$85 -> 2.0344867 | AM83: 2 | AN83: =AK83/AH83 -> 4.152525 | AX83: Necesidad de la comunidad | AY83: =1/((SUM($F$82:$F$85)+SUM($J$82:$J$85)+SUM($N$82:$N$85)+SUM($R$82:$R$85))) -> 0.024514811 | AZ83: =1/(SUM($E$82:$E$85)+SUM($I$82:$I$85)+SUM($M$82:$M$85)+SUM($Q$82:$Q$85)) -> 0.028856724 | BA83: =1/(SUM($D$82:$D$85)+SUM($H$82:$H$85)+SUM($L$82:$L$85)+SUM($P$82:$P$85)) -> 0.033256351 | BC83: Necesidad de la comunidad | BD83: =D83+H83+L83+P83 -> 16 | BE83: =E83+I83+M83+Q83 -> 18 | BF83: =F83+J83+N83+R83 -> 20 | BL83: Necesidad de la comunidad | BM83: =AY83*BD83 -> 0.39223698 | BN83: =AZ83*BE83 -> 0.51942103 | BO83: =BA83*BF83 -> 0.66512702 | BQ83: Ind-cto | BR83: =IF((BN82>=BN84),1,(IF((BM84>BO82),"",((BM84-BO82)/((BN82-BO82)-(BN84-BM84)))))) | BS83: nec-cto | BT83: =IF((BN83>=BN84),1,(IF((BM84>BO83),"",((BM84-BO83)/((BN83-BO83)-(BN84-BM84)))))) -> 1 | BU83: cto-nec | BV83: =IF((BN84>=BN83),1,(IF((BM83>BO84),"",((BM83-BO84)/((BN84-BO84)-(BN83-BM83)))))) -> 0.2975831 | BW83: tec-nec | BX83: =IF((BN85>=BN83),1,(IF((BM83>BO85),"",((BM83-BO85)/((BN85-BO85)-(BN83-BM83)))))) | BZ83: Necesidad de la comunidad | CA83: =MIN(BT82:BT84) -> 1 | CC83: Necesidad de la comunidad | CD83: =CA83/SUM($CA$82:$CA$85) -> 0.30473824
B84: 3 | D84: 4 | E84: 5 | F84: 6 | H84: 0.5 | I84: 1 | J84: 1 | L84: 1 | M84: 1 | N84: 1 | P84: 4 | Q84: 5 | R84: 6 | U84: 3 | V84: =(4*E84+D84+F84)/6 -> 5 | W84: =(4*I84+H84+J84)/6 -> 0.91666667 | X84: =(4*M84+L84+N84)/6 -> 1 | Y84: =(4*Q84+P84+R84)/6 -> 5 | AA84: 3 | AB84: =V84/SUM($V$82:$V$85) -> 0.3125 | AC84: =W84/SUM($W$82:$W$85) -> 0.42166109 | AD84: =X84/SUM($X$82:$X$85) -> 0.3887689 | AE84: =Y84/SUM($Y$82:$Y$85) -> 0.35294118 | AG84: 3 | AH84: =AVERAGE(AB84:AE84) -> 0.36896779 | AJ84: 3 | AK84: =V84*$AH$82+W84*$AH$83+X84*$AH$84+Y84*$AH$85 -> 1.5235419 | AM84: 3 | AN84: =AK84/AH84 -> 4.1292003 | AT84: 1.98 | AV84: =AR82/AT84 -> 0.021991038 | AX84: Costo beneficio | AY84: =1/((SUM($F$82:$F$85)+SUM($J$82:$J$85)+SUM($N$82:$N$85)+SUM($R$82:$R$85))) -> 0.024514811 | AZ84: =1/(SUM($E$82:$E$85)+SUM($I$82:$I$85)+SUM($M$82:$M$85)+SUM($Q$82:$Q$85)) -> 0.028856724 | BA84: =1/(SUM($D$82:$D$85)+SUM($H$82:$H$85)+SUM($L$82:$L$85)+SUM($P$82:$P$85)) -> 0.033256351 | BC84: Costo beneficio | BD84: =D84+H84+L84+P84 -> 9.5 | BE84: =E84+I84+M84+Q84 -> 12 | BF84: =F84+J84+N84+R84 -> 14 | BL84: Costo beneficio | BM84: =AY84*BD84 -> 0.2328907 | BN84: =AZ84*BE84 -> 0.34628069 | BO84: =BA84*BF84 -> 0.46558891 | BQ84: Ind-tec | BR84: =IF((BN82>=BN85),1,(IF((BM85>BO82),"",((BM85-BO82)/((BN82-BO82)-(BN85-BM85)))))) -> 0.98392168 | BS84: nec-tec | BT84: =IF((BN83>=BN85),1,(IF((BM85>BO83),"",((BM85-BO83)/((BN83-BO83)-(BN85-BM85)))))) -> 1 | BU84: cto-tec | BV84: =IF((BN84>=BN85),1,(IF((BM85>BO84),"",((BM85-BO84)/((BN84-BO84)-(BN85-BM85)))))) -> 1 | BW84: tec-cto | BX84: =IF((BN85>=BN84),1,(IF((BM84>BO85),"",((BM84-BO85)/((BN85-BO85)-(BN84-BM84)))))) | BZ84: Costo beneficio | CA84: =MIN(BV82:BV84) -> 0.2975831 | CC84: Costo beneficio | CD84: =CA84/SUM($CA$82:$CA$85) -> 0.090684952
B85: 4 | D85: 1 | E85: 1 | F85: 2 | H85: 0.125 | I85: 0.14285714 | J85: 0.16666667 | L85: 0.16666667 | M85: 0.2 | N85: 0.25 | P85: 1 | Q85: 1 | R85: 1 | U85: 4 | V85: =(4*E85+D85+F85)/6 -> 1.1666667 | W85: =(4*I85+H85+J85)/6 -> 0.14384921 | X85: =(4*M85+L85+N85)/6 -> 0.20277778 | Y85: =(4*Q85+P85+R85)/6 -> 1 | AA85: 4 | AB85: =V85/SUM($V$82:$V$85) -> 0.072916667 | AC85: =W85/SUM($W$82:$W$85) -> 0.06616976 | AD85: =X85/SUM($X$82:$X$85) -> 0.078833693 | AE85: =Y85/SUM($Y$82:$Y$85) -> 0.070588235 | AG85: 4 | AH85: =AVERAGE(AB85:AE85) -> 0.072127089 | AJ85: 4 | AK85: =V85*$AH$82+W85*$AH$83+X85*$AH$84+Y85*$AH$85 -> 0.2978827 | AM85: 4 | AN85: =AK85/AH85 -> 4.1299698 | AX85: Técnico | AY85: =1/((SUM($F$82:$F$85)+SUM($J$82:$J$85)+SUM($N$82:$N$85)+SUM($R$82:$R$85))) -> 0.024514811 | AZ85: =1/(SUM($E$82:$E$85)+SUM($I$82:$I$85)+SUM($M$82:$M$85)+SUM($Q$82:$Q$85)) -> 0.028856724 | BA85: =1/(SUM($D$82:$D$85)+SUM($H$82:$H$85)+SUM($L$82:$L$85)+SUM($P$82:$P$85)) -> 0.033256351 | BC85: Técnico | BD85: =D85+H85+L85+P85 -> 2.2916667 | BE85: =E85+I85+M85+Q85 -> 2.3428571 | BF85: =F85+J85+N85+R85 -> 3.4166667 | BL85: Técnico | BM85: =AY85*BD85 -> 0.056179775 | BN85: =AZ85*BE85 -> 0.067607182 | BO85: =BA85*BF85 -> 0.11362587 | BZ85: Técnico | CA85: =MIN(BX82:BX84) -> 1 | CC85: Técnico | CD85: =CA85/SUM($CA$82:$CA$85) -> 0.30473824
D86: =IF(AV82<=0.1,"MATRIZ CONSISTENTE","MATRIZ INCONSISTENTE") -> MATRIZ CONSISTENTE | AB86: =SUM(AB82:AB85) -> 1 | AC86: =SUM(AC82:AC85) -> 1 | AD86: =SUM(AD82:AD85) -> 1 | AE86: =SUM(AE82:AE85) -> 1
B89: Eficacia | D89: 1 | H89: 2 | L89: 3 | P89: 4
V90: 1 | W90: 2 | X90: 3 | Y90: 4 | AB90: 1 | AC90: 2 | AD90: 3 | AE90: 4
B91: 1 | D91: 1 | E91: 1 | F91: 1 | H91: 0.16666667 | I91: 0.2 | J91: 0.25 | L91: 0.16666667 | M91: 0.2 | N91: 0.25 | P91: 0.25 | Q91: 0.33333333 | R91: 0.5 | U91: 1 | V91: =(4*E91+D91+F91)/6 -> 1 | W91: =(4*I91+H91+J91)/6 -> 0.20277778 | X91: =(4*M91+L91+N91)/6 -> 0.20277778 | Y91: =(4*Q91+P91+R91)/6 -> 0.34722222 | AA91: 1 | AB91: =V91/SUM($V$91:$V$94) -> 0.071428571 | AC91: =W91/SUM($W$91:$W$94) -> 0.078833693 | AD91: =X91/SUM($X$91:$X$94) -> 0.089594109 | AE91: =Y91/SUM($Y$91:$Y$94) -> 0.026014568 | AG91: 1 | AH91: =AVERAGE(AB91:AE91) -> 0.066467735 | AJ91: 1 | AK91: =V91*$AH$91+W91*$AH$92+X91*$AH$93+Y91*$AH$94 -> 0.27135285 | AM91: 1 | AN91: =AK91/AH91 -> 4.0824747 | AP91: =AVERAGE(AN91:AN94) -> 4.2607753 | AR91: =(AP91-4)/(4-1) -> 0.086925114 | AT91: 0.882 | AV91: =AR91/AT91 -> 0.098554551 | AX91: Indicadores de pobreza | AY91: =1/((SUM($F$91:$F$94)+SUM($J$91:$J$94)+SUM($N$91:$N$94)+SUM($R$91:$R$94))) -> 0.026030369 | AZ91: =1/(SUM($E$91:$E$94)+SUM($I$91:$I$94)+SUM($M$91:$M$94)+SUM($Q$91:$Q$94)) -> 0.031175772 | BA91: =1/(SUM($D$91:$D$94)+SUM($H$91:$H$94)+SUM($L$91:$L$94)+SUM($P$91:$P$94)) -> 0.037914692 | BC91: Indicadores de pobreza | BD91: =D91+H91+L91+P91 -> 1.5833333 | BE91: =E91+I91+M91+Q91 -> 1.7333333 | BF91: =F91+J91+N91+R91 -> 2 | BL91: Indicadores de pobreza | BM91: =AY91*BD91 -> 0.041214751 | BN91: =AZ91*BE91 -> 0.054038005 | BO91: =BA91*BF91 -> 0.075829384 | BQ91: Ind-nec | BR91: =IF((BN91>=BN92),1,(IF((BM92>BO91),"",((BM92-BO91)/((BN91-BO91)-(BN92-BM92)))))) | BS91: nec-Ind | BT91: =IF((BN92>=BN91),1,(IF((BM91>BO92),"",((BM91-BO92)/((BN92-BO92)-(BN91-BM91)))))) -> 1 | BU91: cto-Ind | BV91: =IF((BN93>=BN91),1,(IF((BM91>BO93),"",((BM91-BO93)/((BN93-BO93)-(BN91-BM91)))))) -> 1 | BW91: tec-Ind | BX91: =IF((BN94>=BN91),1,(IF((BM91>BO94),"",((BM91-BO94)/((BN94-BO94)-(BN91-BM91)))))) -> 1 | BZ91: Indicadores de pobreza | CA91: =MIN(BR91:BR93) -> 0 | CC91: Indicadores de pobreza | CD91: =CA91/SUM($CA$91:$CA$94) -> 0
B92: 2 | D92: 4 | E92: 5 | F92: 6 | H92: 1 | I92: 1 | J92: 1 | L92: 0.5 | M92: 1 | N92: 1 | P92: 4 | Q92: 5 | R92: 6 | U92: 2 | V92: =(4*E92+D92+F92)/6 -> 5 | W92: =(4*I92+H92+J92)/6 -> 1 | X92: =(4*M92+L92+N92)/6 -> 0.91666667 | Y92: =(4*Q92+P92+R92)/6 -> 5 | AA92: 2 | AB92: =V92/SUM($V$91:$V$94) -> 0.35714286 | AC92: =W92/SUM($W$91:$W$94) -> 0.3887689 | AD92: =X92/SUM($X$91:$X$94) -> 0.40501446 | AE92: =Y92/SUM($Y$91:$Y$94) -> 0.37460978 | AG92: 2 | AH92: =AVERAGE(AB92:AE92) -> 0.381384 | AJ92: 2 | AK92: =V92*$AH$91+W92*$AH$92+X92*$AH$93+Y92*$AH$94 -> 1.6604491 | AM92: 2 | AN92: =AK92/AH92 -> 4.353746 | AX92: Necesidad de la comunidad | AY92: =1/((SUM($F$91:$F$94)+SUM($J$91:$J$94)+SUM($N$91:$N$94)+SUM($R$91:$R$94))) -> 0.026030369 | AZ92: =1/(SUM($E$91:$E$94)+SUM($I$91:$I$94)+SUM($M$91:$M$94)+SUM($Q$91:$Q$94)) -> 0.031175772 | BA92: =1/(SUM($D$91:$D$94)+SUM($H$91:$H$94)+SUM($L$91:$L$94)+SUM($P$91:$P$94)) -> 0.037914692 | BC92: Necesidad de la comunidad | BD92: =D92+H92+L92+P92 -> 9.5 | BE92: =E92+I92+M92+Q92 -> 12 | BF92: =F92+J92+N92+R92 -> 14 | BL92: Necesidad de la comunidad | BM92: =AY92*BD92 -> 0.2472885 | BN92: =AZ92*BE92 -> 0.37410926 | BO92: =BA92*BF92 -> 0.53080569 | BQ92: Ind-cto | BR92: =IF((BN91>=BN93),1,(IF((BM93>BO91),"",((BM93-BO91)/((BN91-BO91)-(BN93-BM93)))))) | BS92: nec-cto | BT92: =IF((BN92>=BN93),1,(IF((BM93>BO92),"",((BM93-BO92)/((BN92-BO92)-(BN93-BM93)))))) -> 0.77794465 | BU92: cto-nec | BV92: =IF((BN93>=BN92),1,(IF((BM92>BO93),"",((BM92-BO93)/((BN93-BO93)-(BN92-BM92)))))) -> 1 | BW92: tec-nec | BX92: =IF((BN94>=BN92),1,(IF((BM92>BO94),"",((BM92-BO94)/((BN94-BO94)-(BN92-BM92)))))) | BZ92: Necesidad de la comunidad | CA92: =MIN(BT91:BT93) -> 0.77794465 | CC92: Necesidad de la comunidad | CD92: =CA92/SUM($CA$91:$CA$94) -> 0.28004325
B93: 3 | D93: 4 | E93: 5 | F93: 6 | H93: 1 | I93: 1 | J93: 2 | L93: 1 | M93: 1 | N93: 1 | P93: 6 | Q93: 7 | R93: 8 | U93: 3 | V93: =(4*E93+D93+F93)/6 -> 5 | W93: =(4*I93+H93+J93)/6 -> 1.1666667 | X93: =(4*M93+L93+N93)/6 -> 1 | Y93: =(4*Q93+P93+R93)/6 -> 7 | AA93: 3 | AB93: =V93/SUM($V$91:$V$94) -> 0.35714286 | AC93: =W93/SUM($W$91:$W$94) -> 0.45356371 | AD93: =X93/SUM($X$91:$X$94) -> 0.44183396 | AE93: =Y93/SUM($Y$91:$Y$94) -> 0.52445369 | AG93: 3 | AH93: =AVERAGE(AB93:AE93) -> 0.44424856 | AJ93: 3 | AK93: =V93*$AH$91+W93*$AH$92+X93*$AH$93+Y93*$AH$94 -> 1.9768332 | AM93: 3 | AN93: =AK93/AH93 -> 4.4498359 | AT93: 1.98 | AV93: =AR91/AT93 -> 0.043901573 | AX93: Costo beneficio | AY93: =1/((SUM($F$91:$F$94)+SUM($J$91:$J$94)+SUM($N$91:$N$94)+SUM($R$91:$R$94))) -> 0.026030369 | AZ93: =1/(SUM($E$91:$E$94)+SUM($I$91:$I$94)+SUM($M$91:$M$94)+SUM($Q$91:$Q$94)) -> 0.031175772 | BA93: =1/(SUM($D$91:$D$94)+SUM($H$91:$H$94)+SUM($L$91:$L$94)+SUM($P$91:$P$94)) -> 0.037914692 | BC93: Costo beneficio | BD93: =D93+H93+L93+P93 -> 12 | BE93: =E93+I93+M93+Q93 -> 14 | BF93: =F93+J93+N93+R93 -> 17 | BL93: Costo beneficio | BM93: =AY93*BD93 -> 0.31236443 | BN93: =AZ93*BE93 -> 0.43646081 | BO93: =BA93*BF93 -> 0.64454976 | BQ93: Ind-tec | BR93: =IF((BN91>=BN94),1,(IF((BM94>BO91),"",((BM94-BO91)/((BN91-BO91)-(BN94-BM94)))))) | BS93: nec-tec | BT93: =IF((BN92>=BN94),1,(IF((BM94>BO92),"",((BM94-BO92)/((BN92-BO92)-(BN94-BM94)))))) -> 1 | BU93: cto-tec | BV93: =IF((BN93>=BN94),1,(IF((BM94>BO93),"",((BM94-BO93)/((BN93-BO93)-(BN94-BM94)))))) -> 1 | BW93: tec-cto | BX93: =IF((BN94>=BN93),1,(IF((BM93>BO94),"",((BM93-BO94)/((BN94-BO94)-(BN93-BM93)))))) | BZ93: Costo beneficio | CA93: =MIN(BV91:BV93) -> 1 | CC93: Costo beneficio | CD93: =CA93/SUM($CA$91:$CA$94) -> 0.35997837
B94: 4 | D94: 2 | E94: 3 | F94: 4 | H94: 0.16666667 | I94: 0.2 | J94: 0.25 | L94: 0.125 | M94: 0.14285714 | N94: 0.16666667 | P94: 1 | Q94: 1 | R94: 1 | U94: 4 | V94: =(4*E94+D94+F94)/6 -> 3 | W94: =(4*I94+H94+J94)/6 -> 0.20277778 | X94: =(4*M94+L94+N94)/6 -> 0.14384921 | Y94: =(4*Q94+P94+R94)/6 -> 1 | AA94: 4 | AB94: =V94/SUM($V$91:$V$94) -> 0.21428571 | AC94: =W94/SUM($W$91:$W$94) -> 0.078833693 | AD94: =X94/SUM($X$91:$X$94) -> 0.063557465 | AE94: =Y94/SUM($Y$91:$Y$94) -> 0.074921956 | AG94: 4 | AH94: =AVERAGE(AB94:AE94) -> 0.10789971 | AJ94: 4 | AK94: =V94*$AH$91+W94*$AH$92+X94*$AH$93+Y94*$AH$94 -> 0.44854392 | AM94: 4 | AN94: =AK94/AH94 -> 4.1570448 | AX94: Técnico | AY94: =1/((SUM($F$91:$F$94)+SUM($J$91:$J$94)+SUM($N$91:$N$94)+SUM($R$91:$R$94))) -> 0.026030369 | AZ94: =1/(SUM($E$91:$E$94)+SUM($I$91:$I$94)+SUM($M$91:$M$94)+SUM($Q$91:$Q$94)) -> 0.031175772 | BA94: =1/(SUM($D$91:$D$94)+SUM($H$91:$H$94)+SUM($L$91:$L$94)+SUM($P$91:$P$94)) -> 0.037914692 | BC94: Técnico | BD94: =D94+H94+L94+P94 -> 3.2916667 | BE94: =E94+I94+M94+Q94 -> 4.3428571 | BF94: =F94+J94+N94+R94 -> 5.4166667 | BL94: Técnico | BM94: =AY94*BD94 -> 0.085683297 | BN94: =AZ94*BE94 -> 0.13539192 | BO94: =BA94*BF94 -> 0.20537125 | BZ94: Técnico | CA94: =MIN(BX91:BX93) -> 1 | CC94: Técnico | CD94: =CA94/SUM($CA$91:$CA$94) -> 0.35997837
D95: =IF(AV91<=0.1,"MATRIZ CONSISTENTE","MATRIZ INCONSISTENTE") -> MATRIZ CONSISTENTE | AB95: =SUM(AB91:AB94) -> 1 | AC95: =SUM(AC91:AC94) -> 1 | AD95: =SUM(AD91:AD94) -> 1 | AE95: =SUM(AE91:AE94) -> 1

Sheet Valoración Gaviria
B5: MATRICES DE COMPARACIÓN POR PARES DE CRITERIOS
B7: Nivel Uno | U7: Matriz defuzzificada | AA7: Matriz normalizada | AG7: Vector prioridad | AJ7: Nuevo vector | AM7: Vector prueba | AP7: Lambda máx | AR7: IC | AT7: IA | AV7: CC
B9: Criterios | D9: Indicadores de pobreza | H9: Necesidad de la comunidad | L9: Costo beneficio | P9: Ténico | V9: Indicadores de pobreza | W9: Necesidad de la comunidad | X9: Costo beneficio | Y9: Ténico | AB9: Indicadores de pobreza | AC9: Necesidad de la comunidad | AD9: Costo beneficio | AE9: Ténico
W10: Necesidad de la comunidad | X10: Costo beneficio | Y10: Ténico | AC10: Necesidad de la comunidad | AD10: Costo beneficio | AE10: Ténico
B11: Indicadores de pobreza | D11: 1 | E11: 1 | F11: 1 | H11: 1 | I11: 1 | J11: 2 | L11: 0.25 | M11: 0.33333333 | N11: 0.5 | P11: 0.25 | Q11: 0.33333333 | R11: 0.5 | U11: Indicadores de pobreza | V11: =(4*E11+D11+F11)/6 -> 1 | W11: =(4*I11+H11+J11)/6 -> 1.1666667 | X11: =(4*M11+L11+N11)/6 -> 0.34722222 | Y11: =(4*Q11+P11+R11)/6 -> 0.34722222 | AA11: Indicadores de pobreza | AB11: =V11/SUM($V$11:$V$14) -> 0.12631579 | AC11: =W11/SUM($W$11:$W$14) -> 0.1147541 | AD11: =X11/SUM($X$11:$X$14) -> 0.073964497 | AE11: =Y11/SUM($Y$11:$Y$14) -> 0.18301611 | AG11: Indicadores de pobreza | AH11: =AVERAGE(AB11:AE11) -> 0.12451262 | AJ11: Indicadores de pobreza | AK11: =V11*$AH$11+W11*$AH$12+X11*$AH$13+Y11*$AH$14 -> 0.50942062 | AM11: Indicadores de pobreza | AN11: =AK11/AH11 -> 4.0913171 | AP11: =AVERAGE(AN11:AN14) -> 4.1693244 | AR11: =(AP11-4)/(4-1) -> 0.056441454 | AT11: 0.882 | AV11: =AR11/AT11 -> 0.063992579
B12: Necesidad de la comunidad | D12: 0.5 | E12: 1 | F12: 1 | H12: 1 | I12: 1 | J12: 1 | L12: 0.25 | M12: 0.33333333 | N12: 0.5 | P12: 0.16666667 | Q12: 0.2 | R12: 0.25 | U12: Necesidad de la comunidad | V12: =(4*E12+D12+F12)/6 -> 0.91666667 | W12: =(4*I12+H12+J12)/6 -> 1 | X12: =(4*M12+L12+N12)/6 -> 0.34722222 | Y12: =(4*Q12+P12+R12)/6 -> 0.20277778 | AA12: Necesidad de la comunidad | AB12: =V12/SUM($V$11:$V$14) -> 0.11578947 | AC12: =W12/SUM($W$11:$W$14) -> 0.098360656 | AD12: =X12/SUM($X$11:$X$14) -> 0.073964497 | AE12: =Y12/SUM($Y$11:$Y$14) -> 0.10688141 | AG12: Necesidad de la comunidad | AH12: =AVERAGE(AB12:AE12) -> 0.098749008 | AJ12: Necesidad de la comunidad | AK12: =V12*$AH$11+W12*$AH$12+X12*$AH$13+Y12*$AH$14 -> 0.40903203 | AM12: Necesidad de la comunidad | AN12: =AK12/AH12 -> 4.1421381
B13: Costo beneficio | D13: 2 | E13: 3 | F13: 4 | H13: 2 | I13: 3 | J13: 4 | L13: 1 | M13: 1 | N13: 1 | P13: 0.25 | Q13: 0.33333333 | R13: 0.5 | U13: Costo beneficio | V13: =(4*E13+D13+F13)/6 -> 3 | W13: =(4*I13+H13+J13)/6 -> 3 | X13: =(4*M13+L13+N13)/6 -> 1 | Y13: =(4*Q13+P13+R13)/6 -> 0.34722222 | AA13: Costo beneficio | AB13: =V13/SUM($V$11:$V$14) -> 0.37894737 | AC13: =W13/SUM($W$11:$W$14) -> 0.29508197 | AD13: =X13/SUM($X$11:$X$14) -> 0.21301775 | AE13: =Y13/SUM($Y$11:$Y$14) -> 0.18301611 | AG13: Costo beneficio | AH13: =AVERAGE(AB13:AE13) -> 0.2675158 | AJ13: Costo beneficio | AK13: =V13*$AH$11+W13*$AH$12+X13*$AH$13+Y13*$AH$14 -> 1.1141141 | AM13: Costo beneficio | AN13: =AK13/AH13 -> 4.1646665 | AT13: 1.98 | AV13: =AR11/AT13 -> 0.028505785
B14: Ténico | D14: 2 | E14: 3 | F14: 4 | H14: 4 | I14: 5 | J14: 6 | L14: 2 | M14: 3 | N14: 4 | P14: 1 | Q14: 1 | R14: 1 | U14: Ténico | V14: =(4*E14+D14+F14)/6 -> 3 | W14: =(4*I14+H14+J14)/6 -> 5 | X14: =(4*M14+L14+N14)/6 -> 3 | Y14: =(4*Q14+P14+R14)/6 -> 1 | AA14: Ténico | AB14: =V14/SUM($V$11:$V$14) -> 0.37894737 | AC14: =W14/SUM($W$11:$W$14) -> 0.49180328 | AD14: =X14/SUM($X$11:$X$14) -> 0.63905325 | AE14: =Y14/SUM($Y$11:$Y$14) -> 0.52708638 | AG14: Ténico | AH14: =AVERAGE(AB14:AE14) -> 0.50922257 | AJ14: Ténico | AK14: =V14*$AH$11+W14*$AH$12+X14*$AH$13+Y14*$AH$14 -> 2.1790529 | AM14: Ténico | AN14: =AK14/AH14 -> 4.2791757
D15: =IF(AV11<=0.1,"MATRIZ CONSISTENTE","MATRIZ INCONSISTENTE") -> MATRIZ CONSISTENTE | AB15: =SUM(AB11:AB14) -> 1 | AC15: =SUM(AC11:AC14) -> 1 | AD15: =SUM(AD11:AD14) -> 1 | AE15: =SUM(AE11:AE14) -> 1
B18: Nivel Dos
B20: Indicadores de pobreza | D20: Pertinencia | H20: Focalización | V20: Pertinencia | W20: Focalización | AB20: Pertinencia | AC20: Focalización
B22: Pertinencia | D22: 1 | E22: 1 | F22: 1 | H22: 1 | I22: 1 | J22: 2 | U22: Pertinencia | V22: 1 | W22: =(4*I22+H22+J22)/6 -> 1.1666667 | AA22: Pertinencia | AB22: =V22/($V$22+$V$23) -> 0.52173913 | AC22: =W22/($W$22+$W$23) -> 0.53846154 | AG22: Pertinencia | AH22: =AVERAGE(AB22:AC22) -> 0.53010033
B23: Focalización | D23: 1 | E23: 1 | F23: 0.5 | H23: 1 | I23: 1 | J23: 1 | U23: Focalización | V23: =(4*E23+D23+F23)/6 -> 0.91666667 | W23: 1 | AA23: Focalización | AB23: =V23/($V$22+$V$23) -> 0.47826087 | AC23: =W23/($W$22+$W$23) -> 0.46153846 | AG23: Focalización | AH23: =AVERAGE(AB23:AC23) -> 0.46989967
B25: Técnico | D25: Coordinación | H25: Eficacia | V25: Coordinación | W25: Eficacia | AB25: Pertinencia | AC25: Focalización
B27: Coordinación | D27: 1 | E27: 1 | F27: 1 | H27: 0.5 | I27: 0.33333333 | J27: 0.25 | U27: Coordinación | V27: =(4*E27+D27+F27)/6 -> 1 | W27: =(4*I27+H27+J27)/6 -> 0.34722222 | AA27: Coordinación | AB27: =V27/(V27+V28) -> 0.25 | AC27: =W27/($W$27+$W$28) -> 0.25773196 | AG27: Coordinación | AH27: =AVERAGE(AB27:AC27) -> 0.25386598
B28: Eficacia | D28: 2 | E28: 3 | F28: 4 | H28: 1 | I28: 1 | J28: 1 | U28: Eficacia | V28: =(4*E28+D28+F28)/6 -> 3 | W28: =(4*I28+H28+J28)/6 -> 1 | AA28: Eficacia | AB28: =V28/(V28+V27) -> 0.75 | AC28: =W28/($W$27+$W$28) -> 0.74226804 | AG28: Eficacia | AH28: =AVERAGE(AB28:AC28) -> 0.74613402
B32: Criterios | D32: Indicadores de pobreza | H32: Necesidad de la comunidad | L32: Costo beneficio | P32: Ténico | V32: Indicadores de pobreza | W32: Necesidad de la comunidad | X32: Costo beneficio | Y32: Ténico | AB32: Indicadores de pobreza | AC32: Necesidad de la comunidad | AD32: Costo beneficio | AE32: Ténico
W33: Necesidad de la comunidad | X33: Costo beneficio | Y33: Ténico | AC33: Necesidad de la comunidad | AD33: Costo beneficio | AE33: Ténico
B34: Indicadores de pobreza | D34: 1 | E34: 1 | F34: 1 | H34: 1 | I34: 1 | J34: 2 | L34: 0.25 | M34: 0.33333333 | N34: 0.5 | P34: 0.25 | Q34: 0.33333333 | R34: 0.5 | U34: Indicadores de pobreza | V34: 1 | W34: 0.2 | X34: 0.2 | Y34: 0.33333333 | AA34: Indicadores de pobreza | AB34: =V34/SUM($V$34:$V$37) -> 0.071428571 | AC34: =W34/SUM($W$34:$W$37) -> 0.03125 | AD34: =X34/SUM($X$34:$X$37) -> 0.12962963 | AE34: =Y34/SUM($Y$34:$Y$37) -> 0.025 | AG34: Indicadores de pobreza | AH34: =AVERAGE(AB34:AE34) -> 0.06432705 | AJ34: Indicadores de pobreza | AK34: =V34*$AH$34+W34*$AH$35+X34*$AH$36+Y34*$AH$37 -> 0.26523258 | AM34: Indicadores de pobreza | AN34: =AK34/AH34 -> 4.123189 | AP34: =AVERAGE(AN34:AN37) -> 4.5101185 | AR34: =(AP34-4)/(4-1) -> 0.17003948 | AT34: 0.882 | AV34: =AR34/AT34 -> 0.19278853
B35: Necesidad de la comunidad | D35: 0.5 | E35: 1 | F35: 1 | H35: 1 | I35: 1 | J35: 1 | L35: 0.25 | M35: 0.33333333 | N35: 0.5 | P35: 4 | Q35: 5 | R35: 6 | U35: Necesidad de la comunidad | V35: 5 | W35: 1 | X35: 0.2 | Y35: 5 | AA35: Necesidad de la comunidad | AB35: =V35/SUM($V$34:$V$37) -> 0.35714286 | AC35: =W35/SUM($W$34:$W$37) -> 0.15625 | AD35: =X35/SUM($X$34:$X$37) -> 0.12962963 | AE35: =Y35/SUM($Y$34:$Y$37) -> 0.375 | AG35: Necesidad de la comunidad | AH35: =AVERAGE(AB35:AE35) -> 0.25450562 | AJ35: Necesidad de la comunidad | AK35: =V35*$AH$34+W35*$AH$35+X35*$AH$36+Y35*$AH$37 -> 1.2081283 | AM35: Necesidad de la comunidad | AN35: =AK35/AH35 -> 4.7469612
B36: Costo beneficio | D36: 2 | E36: 3 | F36: 4 | H36: 2 | I36: 3 | J36: 4 | L36: 1 | M36: 1 | N36: 1 | P36: 0.25 | Q36: 0.33333333 | R36: 0.5 | U36: Costo beneficio | V36: 5 | W36: 5 | X36: 1 | Y36: 7 | AA36: Costo beneficio | AB36: =V36/SUM($V$34:$V$37) -> 0.35714286 | AC36: =W36/SUM($W$34:$W$37) -> 0.78125 | AD36: =X36/SUM($X$34:$X$37) -> 0.64814815 | AE36: =Y36/SUM($Y$34:$Y$37) -> 0.525 | AG36: Costo beneficio | AH36: =AVERAGE(AB36:AE36) -> 0.57788525 | AJ36: Costo beneficio | AK36: =V36*$AH$34+W36*$AH$35+X36*$AH$36+Y36*$AH$37 -> 2.8950231 | AM36: Costo beneficio | AN36: =AK36/AH36 -> 5.0096851 | AT36: 1.98 | AV36: =AR34/AT36 -> 0.085878527
B37: Ténico | D37: 2 | E37: 3 | F37: 4 | H37: 0.16666667 | I37: 0.2 | J37: 0.25 | L37: 2 | M37: 3 | N37: 4 | P37: 1 | Q37: 1 | R37: 1 | U37: Ténico | V37: 3 | W37: 0.2 | X37: 0.14285714 | Y37: 1 | AA37: Ténico | AB37: =V37/SUM($V$34:$V$37) -> 0.21428571 | AC37: =W37/SUM($W$34:$W$37) -> 0.03125 | AD37: =X37/SUM($X$34:$X$37) -> 0.092592593 | AE37: =Y37/SUM($Y$34:$Y$37) -> 0.075 | AG37: Ténico | AH37: =AVERAGE(AB37:AE37) -> 0.10328208 | AJ37: Ténico | AK37: =V37*$AH$34+W37*$AH$35+X37*$AH$36+Y37*$AH$37 -> 0.42971939 | AM37: Ténico | AN37: =AK37/AH37 -> 4.1606385
AB38: =SUM(AB34:AB37) -> 1 | AC38: =SUM(AC34:AC37) -> 1 | AD38: =SUM(AD34:AD37) -> 1 | AE38: =SUM(AE34:AE37) -> 1
B42: Proyectos
C44: PROYECTO
B45: 1 | C45: Formación en danza y baile
B46: 2 | C46: Jornadas complementarias
B47: 3 | C47: Ludotecas comunitarias
B48: 4 | C48: Ajedrez infantil
B50: Comparación por pares de proyectos respecto de criterios | U50: Matriz defuzzificada | AA50: Matriz normalizada | AG50: Vector prioridad | AJ50: Nuevo vector | AM50: Vector prueba | AP50: Lambda máx | AR50: IC | AT50: IA | AV50: CC
B53: Pertinencia | D53: 1 | H53: 2 | L53: 3 | P53: 4
V54: 1 | W54: 2 | X54: 3 | Y54: 4 | AB54: 1 | AC54: 2 | AD54: 3 | AE54: 4
B55: 1 | D55: 1 | E55: 1 | F55: 1 | H55: 0.25 | I55: 0.33333333 | J55: 0.5 | L55: 1 | M55: 1 | N55: 2 | P55: 0.5 | Q55: 1 | R55: 1 | U55: 1 | V55: =(4*E55+D55+F55)/6 -> 1 | W55: =(4*I55+H55+J55)/6 -> 0.34722222 | X55: =(4*M55+L55+N55)/6 -> 1.1666667 | Y55: =(4*Q55+P55+R55)/6 -> 0.91666667 | AA55: 1 | AB55: =V55/SUM($V$55:$V$58) -> 0.16438356 | AC55: =W55/SUM($W$55:$W$58) -> 0.18301611 | AD55: =X55/SUM($X$55:$X$58) -> 0.19178082 | AE55: =Y55/SUM($Y$55:$Y$58) -> 0.11340206 | AG55: 1 | AH55: =AVERAGE(AB55:AE55) -> 0.16314564 | AJ55: 1 | AK55: =V55*$AH$55+W55*$AH$56+X55*$AH$57+Y55*$AH$58 -> 0.66690706 | AM55: 1 | AN55: =AK55/AH55 -> 4.087802 | AP55: =AVERAGE(AN55:AN58) -> 4.1222051 | AR55: =(AP55-4)/(4-1) -> 0.040735022 | AT55: 0.882 | AV55: =AR55/AT55 -> 0.046184832
B56: 2 | D56: 2 | E56: 3 | F56: 4 | H56: 1 | I56: 1 | J56: 1 | L56: 2 | M56: 3 | N56: 4 | P56: 4 | Q56: 5 | R56: 6 | U56: 2 | V56: =(4*E56+D56+F56)/6 -> 3 | W56: =(4*I56+H56+J56)/6 -> 1 | X56: =(4*M56+L56+N56)/6 -> 3 | Y56: =(4*Q56+P56+R56)/6 -> 5 | AA56: 2 | AB56: =V56/SUM($V$55:$V$58) -> 0.49315068 | AC56: =W56/SUM($W$55:$W$58) -> 0.52708638 | AD56: =X56/SUM($X$55:$X$58) -> 0.49315068 | AE56: =Y56/SUM($Y$55:$Y$58) -> 0.6185567 | AG56: 2 | AH56: =AVERAGE(AB56:AE56) -> 0.53298611 | AJ56: 2 | AK56: =V56*$AH$55+W56*$AH$56+X56*$AH$57+Y56*$AH$58 -> 2.220557 | AM56: 2 | AN56: =AK56/AH56 -> 4.1662568
B57: 3 | D57: 0.5 | E57: 1 | F57: 1 | H57: 0.25 | I57: 0.33333333 | J57: 0.5 | L57: 1 | M57: 1 | N57: 1 | P57: 1 | Q57: 1 | R57: 2 | U57: 3 | V57: =(4*E57+D57+F57)/6 -> 0.91666667 | W57: =(4*I57+H57+J57)/6 -> 0.34722222 | X57: =(4*M57+L57+N57)/6 -> 1 | Y57: =(4*Q57+P57+R57)/6 -> 1.1666667 | AA57: 3 | AB57: =V57/SUM($V$55:$V$58) -> 0.15068493 | AC57: =W57/SUM($W$55:$W$58) -> 0.18301611 | AD57: =X57/SUM($X$55:$X$58) -> 0.16438356 | AE57: =Y57/SUM($Y$55:$Y$58) -> 0.1443299 | AG57: 3 | AH57: =AVERAGE(AB57:AE57) -> 0.16060362 | AJ57: 3 | AK57: =V57*$AH$55+W57*$AH$56+X57*$AH$57+Y57*$AH$58 -> 0.66236048 | AM57: 3 | AN57: =AK57/AH57 -> 4.1241938 | AT57: 1.98 | AV57: =AR55/AT57 -> 0.020573244
B58: 4 | D58: 1 | E58: 1 | F58: 2 | H58: 0.16666667 | I58: 0.2 | J58: 0.25 | L58: 0.5 | M58: 1 | N58: 1 | P58: 1 | Q58: 1 | R58: 1 | U58: 4 | V58: =(4*E58+D58+F58)/6 -> 1.1666667 | W58: =(4*I58+H58+J58)/6 -> 0.20277778 | X58: =(4*M58+L58+N58)/6 -> 0.91666667 | Y58: =(4*Q58+P58+R58)/6 -> 1 | AA58: 4 | AB58: =V58/SUM($V$55:$V$58) -> 0.19178082 | AC58: =W58/SUM($W$55:$W$58) -> 0.10688141 | AD58: =X58/SUM($X$55:$X$58) -> 0.15068493 | AE58: =Y58/SUM($Y$55:$Y$58) -> 0.12371134 | AG58: 4 | AH58: =AVERAGE(AB58:AE58) -> 0.14326462 | AJ58: 4 | AK58: =V58*$AH$55+W58*$AH$56+X58*$AH$57+Y58*$AH$58 -> 0.58889893 | AM58: 4 | AN58: =AK58/AH58 -> 4.1105676
D59: =IF(AV55<=0.1,"MATRIZ CONSISTENTE","MATRIZ INCONSISTENTE") -> MATRIZ CONSISTENTE | AB59: =SUM(AB55:AB58) -> 1 | AC59: =SUM(AC55:AC58) -> 1 | AD59: =SUM(AD55:AD58) -> 1 | AE59: =SUM(AE55:AE58) -> 1
B62: Focalización | D62: 1 | H62: 2 | L62: 3 | P62: 4
V63: 1 | W63: 2 | X63: 3 | Y63: 4 | AB63: 1 | AC63: 2 | AD63: 3 | AE63: 4
B64: 1 | D64: 1 | E64: 1 | F64: 1 | H64: 0.25 | I64: 0.33333333 | J64: 0.5 | L64: 1 | M64: 1 | N64: 2 | P64: 0.25 | Q64: 0.33333333 | R64: 0.5 | U64: 1 | V64: =(4*E64+D64+F64)/6 -> 1 | W64: =(4*I64+H64+J64)/6 -> 0.34722222 | X64: =(4*M64+L64+N64)/6 -> 1.1666667 | Y64: =(4*Q64+P64+R64)/6 -> 0.34722222 | AA64: 1 | AB64: =V64/SUM($V$64:$V$67) -> 0.12631579 | AC64: =W64/SUM($W$64:$W$67) -> 0.13297872 | AD64: =X64/SUM($X$64:$X$67) -> 0.14285714 | AE64: =Y64/SUM($Y$64:$Y$67) -> 0.12135922 | AG64: 1 | AH64: =AVERAGE(AB64:AE64) -> 0.13087772 | AJ64: 1 | AK64: =V64*$AH$64+W64*$AH$65+X64*$AH$66+Y64*$AH$67 -> 0.53356604 | AM64: 1 | AN64: =AK64/AH64 -> 4.0768287 | AP64: =AVERAGE(AN64:AN67) -> 4.0791173 | AR64: =(AP64-4)/(4-1) -> 0.026372426 | AT64: 0.882 | AV64: =AR64/AT64 -> 0.02990071
B65: 2 | D65: 2 | E65: 3 | F65: 4 | H65: 1 | I65: 1 | J65: 1 | L65: 2 | M65: 3 | N65: 4 | P65: 1 | Q65: 1 | R65: 2 | U65: 2 | V65: =(4*E65+D65+F65)/6 -> 3 | W65: =(4*I65+H65+J65)/6 -> 1 | X65: =(4*M65+L65+N65)/6 -> 3 | Y65: =(4*Q65+P65+R65)/6 -> 1.1666667 | AA65: 2 | AB65: =V65/SUM($V$64:$V$67) -> 0.37894737 | AC65: =W65/SUM($W$64:$W$67) -> 0.38297872 | AD65: =X65/SUM($X$64:$X$67) -> 0.36734694 | AE65: =Y65/SUM($Y$64:$Y$67) -> 0.40776699 | AG65: 2 | AH65: =AVERAGE(AB65:AE65) -> 0.38426001 | AJ65: 2 | AK65: =V65*$AH$64+W65*$AH$65+X65*$AH$66+Y65*$AH$67 -> 1.56833 | AM65: 2 | AN65: =AK65/AH65 -> 4.0814292
B66: 3 | D66: 0.5 | E66: 1 | F66: 1 | H66: 0.25 | I66: 0.33333333 | J66: 0.5 | L66: 1 | M66: 1 | N66: 1 | P66: 0.25 | Q66: 0.33333333 | R66: 0.5 | U66: 3 | V66: =(4*E66+D66+F66)/6 -> 0.91666667 | W66: =(4*I66+H66+J66)/6 -> 0.34722222 | X66: =(4*M66+L66+N66)/6 -> 1 | Y66: =(4*Q66+P66+R66)/6 -> 0.34722222 | AA66: 3 | AB66: =V66/SUM($V$64:$V$67) -> 0.11578947 | AC66: =W66/SUM($W$64:$W$67) -> 0.13297872 | AD66: =X66/SUM($X$64:$X$67) -> 0.12244898 | AE66: =Y66/SUM($Y$64:$Y$67) -> 0.12135922 | AG66: 3 | AH66: =AVERAGE(AB66:AE66) -> 0.1231441 | AJ66: 3 | AK66: =V66*$AH$64+W66*$AH$65+X66*$AH$66+Y66*$AH$67 -> 0.50213554 | AM66: 3 | AN66: =AK66/AH66 -> 4.0776257 | AT66: 1.98 | AV66: =AR64/AT66 -> 0.013319407
B67: 4 | D67: 2 | E67: 3 | F67: 4 | H67: 0.5 | I67: 1 | J67: 1 | L67: 2 | M67: 3 | N67: 4 | P67: 1 | Q67: 1 | R67: 1 | U67: 4 | V67: =(4*E67+D67+F67)/6 -> 3 | W67: =(4*I67+H67+J67)/6 -> 0.91666667 | X67: =(4*M67+L67+N67)/6 -> 3 | Y67: =(4*Q67+P67+R67)/6 -> 1 | AA67: 4 | AB67: =V67/SUM($V$64:$V$67) -> 0.37894737 | AC67: =W67/SUM($W$64:$W$67) -> 0.35106383 | AD67: =X67/SUM($X$64:$X$67) -> 0.36734694 | AE67: =Y67/SUM($Y$64:$Y$67) -> 0.34951456 | AG67: 4 | AH67: =AVERAGE(AB67:AE67) -> 0.36171818 | AJ67: 4 | AK67: =V67*$AH$64+W67*$AH$65+X67*$AH$66+Y67*$AH$67 -> 1.476022 | AM67: 4 | AN67: =AK67/AH67 -> 4.0805856
D68: =IF(AV64<=0.1,"MATRIZ CONSISTENTE","MATRIZ INCONSISTENTE") -> MATRIZ CONSISTENTE | AB68: =SUM(AB64:AB67) -> 1 | AC68: =SUM(AC64:AC67) -> 1 | AD68: =SUM(AD64:AD67) -> 1 | AE68: =SUM(AE64:AE67) -> 1
B71: Necesidad de la comunidad | D71: 1 | H71: 2 | L71: 3 | P71: 4
V72: 1 | W72: 2 | X72: 3 | Y72: 4 | AB72: 1 | AC72: 2 | AD72: 3 | AE72: 4
B73: 1 | D73: 1 | E73: 1 | F73: 1 | H73: 0.25 | I73: 0.33333333 | J73: 0.5 | L73: 1 | M73: 1 | N73: 2 | P73: 0.25 | Q73: 0.33333333 | R73: 0.5 | U73: 1 | V73: =(4*E73+D73+F73)/6 -> 1 | W73: =(4*I73+H73+J73)/6 -> 0.34722222 | X73: =(4*M73+L73+N73)/6 -> 1.1666667 | Y73: =(4*Q73+P73+R73)/6 -> 0.34722222 | AA73: 1 | AB73: =V73/SUM($V$73:$V$76) -> 0.12631579 | AC73: =W73/SUM($W$73:$W$76) -> 0.17006803 | AD73: =X73/SUM($X$73:$X$76) -> 0.18421053 | AE73: =Y73/SUM($Y$73:$Y$76) -> 0.065963061 | AG73: 1 | AH73: =AVERAGE(AB73:AE73) -> 0.13663935 | AJ73: 1 | AK73: =V73*$AH$73+W73*$AH$74+X73*$AH$75+Y73*$AH$76 -> 0.56299995 | AM73: 1 | AN73: =AK73/AH73 -> 4.1203354 | AP73: =AVERAGE(AN73:AN76) -> 4.2316444 | AR73: =(AP73-4)/(4-1) -> 0.077214811 | AT73: 0.882 | AV73: =AR73/AT73 -> 0.087545137
B74: 2 | D74: 2 | E74: 3 | F74: 4 | H74: 1 | I74: 1 | J74: 1 | L74: 2 | M74: 3 | N74: 4 | P74: 2 | Q74: 3 | R74: 4 | U74: 2 | V74: =(4*E74+D74+F74)/6 -> 3 | W74: =(4*I74+H74+J74)/6 -> 1 | X74: =(4*M74+L74+N74)/6 -> 3 | Y74: =(4*Q74+P74+R74)/6 -> 3 | AA74: 2 | AB74: =V74/SUM($V$73:$V$76) -> 0.37894737 | AC74: =W74/SUM($W$73:$W$76) -> 0.48979592 | AD74: =X74/SUM($X$73:$X$76) -> 0.47368421 | AE74: =Y74/SUM($Y$73:$Y$76) -> 0.56992084 | AG74: 2 | AH74: =AVERAGE(AB74:AE74) -> 0.47808709 | AJ74: 2 | AK74: =V74*$AH$73+W74*$AH$74+X74*$AH$75+Y74*$AH$76 -> 2.0438258 | AM74: 2 | AN74: =AK74/AH74 -> 4.2750074
B75: 3 | D75: 0.5 | E75: 1 | F75: 1 | H75: 0.25 | I75: 0.33333333 | J75: 0.5 | L75: 1 | M75: 1 | N75: 1 | P75: 0.5 | Q75: 1 | R75: 1 | U75: 3 | V75: =(4*E75+D75+F75)/6 -> 0.91666667 | W75: =(4*I75+H75+J75)/6 -> 0.34722222 | X75: =(4*M75+L75+N75)/6 -> 1 | Y75: =(4*Q75+P75+R75)/6 -> 0.91666667 | AA75: 3 | AB75: =V75/SUM($V$73:$V$76) -> 0.11578947 | AC75: =W75/SUM($W$73:$W$76) -> 0.17006803 | AD75: =X75/SUM($X$73:$X$76) -> 0.15789474 | AE75: =Y75/SUM($Y$73:$Y$76) -> 0.17414248 | AG75: 3 | AH75: =AVERAGE(AB75:AE75) -> 0.15447368 | AJ75: 3 | AK75: =V75*$AH$73+W75*$AH$74+X75*$AH$75+Y75*$AH$76 -> 0.65729544 | AM75: 3 | AN75: =AK75/AH75 -> 4.2550643 | AT75: 1.98 | AV75: =AR73/AT75 -> 0.038997379
B76: 4 | D76: 2 | E76: 3 | F76: 4 | H76: 0.25 | I76: 0.33333333 | J76: 0.5 | L76: 1 | M76: 1 | N76: 2 | P76: 1 | Q76: 1 | R76: 1 | U76: 4 | V76: =(4*E76+D76+F76)/6 -> 3 | W76: =(4*I76+H76+J76)/6 -> 0.34722222 | X76: =(4*M76+L76+N76)/6 -> 1.1666667 | Y76: =(4*Q76+P76+R76)/6 -> 1 | AA76: 4 | AB76: =V76/SUM($V$73:$V$76) -> 0.37894737 | AC76: =W76/SUM($W$73:$W$76) -> 0.17006803 | AD76: =X76/SUM($X$73:$X$76) -> 0.18421053 | AE76: =Y76/SUM($Y$73:$Y$76) -> 0.18997361 | AG76: 4 | AH76: =AVERAGE(AB76:AE76) -> 0.23079988 | AJ76: 4 | AK76: =V76*$AH$73+W76*$AH$74+X76*$AH$75+Y76*$AH$76 -> 0.98693969 | AM76: 4 | AN76: =AK76/AH76 -> 4.2761706
D77: =IF(AV73<=0.1,"MATRIZ CONSISTENTE","MATRIZ INCONSISTENTE") -> MATRIZ CONSISTENTE | AB77: =SUM(AB73:AB76) -> 1 | AC77: =SUM(AC73:AC76) -> 1 | AD77: =SUM(AD73:AD76) -> 1 | AE77: =SUM(AE73:AE76) -> 1
B80: Costo-Beneficio | D80: 1 | H80: 2 | L80: 3 | P80: 4
V81: 1 | W81: 2 | X81: 3 | Y81: 4 | AB81: 1 | AC81: 2 | AD81: 3 | AE81: 4
B82: 1 | D82: 1 | E82: 1 | F82: 1 | H82: 0.16666667 | I82: 0.2 | J82: 0.25 | L82: 1 | M82: 1 | N82: 2 | P82: 0.25 | Q82: 0.33333333 | R82: 0.5 | U82: 1 | V82: =(4*E82+D82+F82)/6 -> 1 | W82: =(4*I82+H82+J82)/6 -> 0.20277778 | X82: =(4*M82+L82+N82)/6 -> 1.1666667 | Y82: =(4*Q82+P82+R82)/6 -> 0.34722222 | AA82: 1 | AB82: =V82/SUM($V$82:$V$85) -> 0.10084034 | AC82: =W82/SUM($W$82:$W$85) -> 0.11568938 | AD82: =X82/SUM($X$82:$X$85) -> 0.1443299 | AE82: =Y82/SUM($Y$82:$Y$85) -> 0.062972292 | AG82: 1 | AH82: =AVERAGE(AB82:AE82) -> 0.10595798 | AJ82: 1 | AK82: =V82*$AH$82+W82*$AH$83+X82*$AH$84+Y82*$AH$85 -> 0.44692218 | AM82: 1 | AN82: =AK82/AH82 -> 4.2179191 | AP82: =AVERAGE(AN82:AN85) -> 4.2262528 | AR82: =(AP82-4)/(4-1) -> 0.075417592 | AT82: 0.882 | AV82: =AR82/AT82 -> 0.085507474
B83: 2 | D83: 4 | E83: 5 | F83: 6 | H83: 1 | I83: 1 | J83: 1 | L83: 4 | M83: 5 | N83: 6 | P83: 2 | Q83: 3 | R83: 4 | U83: 2 | V83: =(4*E83+D83+F83)/6 -> 5 | W83: =(4*I83+H83+J83)/6 -> 1 | X83: =(4*M83+L83+N83)/6 -> 5 | Y83: =(4*Q83+P83+R83)/6 -> 3 | AA83: 2 | AB83: =V83/SUM($V$82:$V$85) -> 0.50420168 | AC83: =W83/SUM($W$82:$W$85) -> 0.57052298 | AD83: =X83/SUM($X$82:$X$85) -> 0.6185567 | AE83: =Y83/SUM($Y$82:$Y$85) -> 0.5440806 | AG83: 2 | AH83: =AVERAGE(AB83:AE83) -> 0.55934049 | AJ83: 2 | AK83: =V83*$AH$82+W83*$AH$83+X83*$AH$84+Y83*$AH$85 -> 2.3649473 | AM83: 2 | AN83: =AK83/AH83 -> 4.2280995
B84: 3 | D84: 0.5 | E84: 1 | F84: 1 | H84: 0.16666667 | I84: 0.2 | J84: 0.25 | L84: 1 | M84: 1 | N84: 1 | P84: 1 | Q84: 1 | R84: 2 | U84: 3 | V84: =(4*E84+D84+F84)/6 -> 0.91666667 | W84: =(4*I84+H84+J84)/6 -> 0.20277778 | X84: =(4*M84+L84+N84)/6 -> 1 | Y84: =(4*Q84+P84+R84)/6 -> 1.1666667 | AA84: 3 | AB84: =V84/SUM($V$82:$V$85) -> 0.092436975 | AC84: =W84/SUM($W$82:$W$85) -> 0.11568938 | AD84: =X84/SUM($X$82:$X$85) -> 0.12371134 | AE84: =Y84/SUM($Y$82:$Y$85) -> 0.2115869 | AG84: 3 | AH84: =AVERAGE(AB84:AE84) -> 0.13585615 | AJ84: 3 | AK84: =V84*$AH$82+W84*$AH$83+X84*$AH$84+Y84*$AH$85 -> 0.5783924 | AM84: 3 | AN84: =AK84/AH84 -> 4.2573884 | AT84: 1.98 | AV84: =AR82/AT84 -> 0.038089693
B85: 4 | D85: 2 | E85: 3 | F85: 4 | H85: 0.25 | I85: 0.33333333 | J85: 0.5 | L85: 0.5 | M85: 1 | N85: 1 | P85: 1 | Q85: 1 | R85: 1 | U85: 4 | V85: =(4*E85+D85+F85)/6 -> 3 | W85: =(4*I85+H85+J85)/6 -> 0.34722222 | X85: =(4*M85+L85+N85)/6 -> 0.91666667 | Y85: =(4*Q85+P85+R85)/6 -> 1 | AA85: 4 | AB85: =V85/SUM($V$82:$V$85) -> 0.30252101 | AC85: =W85/SUM($W$82:$W$85) -> 0.19809826 | AD85: =X85/SUM($X$82:$X$85) -> 0.11340206 | AE85: =Y85/SUM($Y$82:$Y$85) -> 0.1813602 | AG85: 4 | AH85: =AVERAGE(AB85:AE85) -> 0.19884538 | AJ85: 4 | AK85: =V85*$AH$82+W85*$AH$83+X85*$AH$84+Y85*$AH$85 -> 0.83546956 | AM85: 4 | AN85: =AK85/AH85 -> 4.2016041
D86: =IF(AV82<=0.1,"MATRIZ CONSISTENTE","MATRIZ INCONSISTENTE") -> MATRIZ CONSISTENTE | AB86: =SUM(AB82:AB85) -> 1 | AC86: =SUM(AC82:AC85) -> 1 | AD86: =SUM(AD82:AD85) -> 1 | AE86: =SUM(AE82:AE85) -> 1
B89: Coordinación | D89: 1 | H89: 2 | L89: 3 | P89: 4
V90: 1 | W90: 2 | X90: 3 | Y90: 4 | AB90: 1 | AC90: 2 | AD90: 3 | AE90: 4
B91: 1 | D91: 1 | E91: 1 | F91: 1 | H91: 0.16666667 | I91: 0.2 | J91: 0.25 | L91: 1 | M91: 1 | N91: 2 | P91: 0.25 | Q91: 0.33333333 | R91: 0.5 | U91: 1 | V91: =(4*E91+D91+F91)/6 -> 1 | W91: =(4*I91+H91+J91)/6 -> 0.20277778 | X91: =(4*M91+L91+N91)/6 -> 1.1666667 | Y91: =(4*Q91+P91+R91)/6 -> 0.34722222 | AA91: 1 | AB91: =V91/SUM($V$91:$V$94) -> 0.098360656 | AC91: =W91/SUM($W$91:$W$94) -> 0.11568938 | AD91: =X91/SUM($X$91:$X$94) -> 0.1147541 | AE91: =Y91/SUM($Y$91:$Y$94) -> 0.073964497 | AG91: 1 | AH91: =AVERAGE(AB91:AE91) -> 0.10069216 | AJ91: 1 | AK91: =V91*$AH$91+W91*$AH$92+X91*$AH$93+Y91*$AH$94 -> 0.41626519 | AM91: 1 | AN91: =AK91/AH91 -> 4.1340378 | AP91: =AVERAGE(AN91:AN94) -> 4.1620574 | AR91: =(AP91-4)/(4-1) -> 0.054019134 | AT91: 0.882 | AV91: =AR91/AT91 -> 0.061246183
B92: 2 | D92: 4 | E92: 5 | F92: 6 | H92: 1 | I92: 1 | J92: 1 | L92: 4 | M92: 5 | N92: 6 | P92: 2 | Q92: 3 | R92: 4 | U92: 2 | V92: =(4*E92+D92+F92)/6 -> 5 | W92: =(4*I92+H92+J92)/6 -> 1 | X92: =(4*M92+L92+N92)/6 -> 5 | Y92: =(4*Q92+P92+R92)/6 -> 3 | AA92: 2 | AB92: =V92/SUM($V$91:$V$94) -> 0.49180328 | AC92: =W92/SUM($W$91:$W$94) -> 0.57052298 | AD92: =X92/SUM($X$91:$X$94) -> 0.49180328 | AE92: =Y92/SUM($Y$91:$Y$94) -> 0.63905325 | AG92: 2 | AH92: =AVERAGE(AB92:AE92) -> 0.5482957 | AJ92: 2 | AK92: =V92*$AH$91+W92*$AH$92+X92*$AH$93+Y92*$AH$94 -> 2.3061772 | AM92: 2 | AN92: =AK92/AH92 -> 4.206083
B93: 3 | D93: 1 | E93: 1 | F93: 2 | H93: 0.16666667 | I93: 0.2 | J93: 0.25 | L93: 1 | M93: 1 | N93: 1 | P93: 0.25 | Q93: 0.33333333 | R93: 0.5 | U93: 3 | V93: =(4*E93+D93+F93)/6 -> 1.1666667 | W93: =(4*I93+H93+J93)/6 -> 0.20277778 | X93: =(4*M93+L93+N93)/6 -> 1 | Y93: =(4*Q93+P93+R93)/6 -> 0.34722222 | AA93: 3 | AB93: =V93/SUM($V$91:$V$94) -> 0.1147541 | AC93: =W93/SUM($W$91:$W$94) -> 0.11568938 | AD93: =X93/SUM($X$91:$X$94) -> 0.098360656 | AE93: =Y93/SUM($Y$91:$Y$94) -> 0.073964497 | AG93: 3 | AH93: =AVERAGE(AB93:AE93) -> 0.10069216 | AJ93: 3 | AK93: =V93*$AH$91+W93*$AH$92+X93*$AH$93+Y93*$AH$94 -> 0.41626519 | AM93: 3 | AN93: =AK93/AH93 -> 4.1340378 | AT93: 1.98 | AV93: =AR91/AT93 -> 0.027282391
B94: 4 | D94: 2 | E94: 3 | F94: 4 | H94: 0.25 | I94: 0.33333333 | J94: 0.5 | L94: 2 | M94: 3 | N94: 4 | P94: 1 | Q94: 1 | R94: 1 | U94: 4 | V94: =(4*E94+D94+F94)/6 -> 3 | W94: =(4*I94+H94+J94)/6 -> 0.34722222 | X94: =(4*M94+L94+N94)/6 -> 3 | Y94: =(4*Q94+P94+R94)/6 -> 1 | AA94: 4 | AB94: =V94/SUM($V$91:$V$94) -> 0.29508197 | AC94: =W94/SUM($W$91:$W$94) -> 0.19809826 | AD94: =X94/SUM($X$91:$X$94) -> 0.29508197 | AE94: =Y94/SUM($Y$91:$Y$94) -> 0.21301775 | AG94: 4 | AH94: =AVERAGE(AB94:AE94) -> 0.25031999 | AJ94: 4 | AK94: =V94*$AH$91+W94*$AH$92+X94*$AH$93+Y94*$AH$94 -> 1.0448534 | AM94: 4 | AN94: =AK94/AH94 -> 4.174071
D95: =IF(AV91<=0.1,"MATRIZ CONSISTENTE","MATRIZ INCONSISTENTE") -> MATRIZ CONSISTENTE | AB95: =SUM(AB91:AB94) -> 1 | AC95: =SUM(AC91:AC94) -> 1 | AD95: =SUM(AD91:AD94) -> 1 | AE95: =SUM(AE91:AE94) -> 1
B98: Eficacia | D98: 1 | H98: 2 | L98: 3 | P98: 4
V99: 1 | W99: 2 | X99: 3 | Y99: 4 | AB99: 1 | AC99: 2 | AD99: 3 | AE99: 4
B100: 1 | D100: 1 | E100: 1 | F100: 1 | H100: 0.25 | I100: 0.33333333 | J100: 0.5 | L100: 1 | M100: 1 | N100: 2 | P100: 1 | Q100: 1 | R100: 2 | U100: 1 | V100: =(4*E100+D100+F100)/6 -> 1 | W100: =(4*I100+H100+J100)/6 -> 0.34722222 | X100: =(4*M100+L100+N100)/6 -> 1.1666667 | Y100: =(4*Q100+P100+R100)/6 -> 1.1666667 | AA100: 1 | AB100: =V100/SUM($V$100:$V$103) -> 0.17142857 | AC100: =W100/SUM($W$100:$W$103) -> 0.13297872 | AD100: =X100/SUM($X$100:$X$103) -> 0.14285714 | AE100: =Y100/SUM($Y$100:$Y$103) -> 0.31698113 | AG100: 1 | AH100: =AVERAGE(AB100:AE100) -> 0.19106139 | AJ100: 1 | AK100: =V100*$AH$100+W100*$AH$101+X100*$AH$102+Y100*$AH$103 -> 0.8108163 | AM100: 1 | AN100: =AK100/AH100 -> 4.2437475 | AP100: =AVERAGE(AN100:AN103) -> 4.2380712 | AR100: =(AP100-4)/(4-1) -> 0.079357081 | AT100: 0.882 | AV100: =AR100/AT100 -> 0.089974015
B101: 2 | D101: 2 | E101: 3 | F101: 4 | H101: 1 | I101: 1 | J101: 1 | L101: 2 | M101: 3 | N101: 4 | P101: 1 | Q101: 1 | R101: 2 | U101: 2 | V101: =(4*E101+D101+F101)/6 -> 3 | W101: =(4*I101+H101+J101)/6 -> 1 | X101: =(4*M101+L101+N101)/6 -> 3 | Y101: =(4*Q101+P101+R101)/6 -> 1.1666667 | AA101: 2 | AB101: =V101/SUM($V$100:$V$103) -> 0.51428571 | AC101: =W101/SUM($W$100:$W$103) -> 0.38297872 | AD101: =X101/SUM($X$100:$X$103) -> 0.36734694 | AE101: =Y101/SUM($Y$100:$Y$103) -> 0.31698113 | AG101: 2 | AH101: =AVERAGE(AB101:AE101) -> 0.39539813 | AJ101: 2 | AK101: =V101*$AH$100+W101*$AH$101+X101*$AH$102+Y101*$AH$103 -> 1.68338 | AM101: 2 | AN101: =AK101/AH101 -> 4.2574305
B102: 3 | D102: 0.5 | E102: 1 | F102: 1 | H102: 0.25 | I102: 0.33333333 | J102: 0.5 | L102: 1 | M102: 1 | N102: 1 | P102: 0.25 | Q102: 0.33333333 | R102: 0.5 | U102: 3 | V102: =(4*E102+D102+F102)/6 -> 0.91666667 | W102: =(4*I102+H102+J102)/6 -> 0.34722222 | X102: =(4*M102+L102+N102)/6 -> 1 | Y102: =(4*Q102+P102+R102)/6 -> 0.34722222 | AA102: 3 | AB102: =V102/SUM($V$100:$V$103) -> 0.15714286 | AC102: =W102/SUM($W$100:$W$103) -> 0.13297872 | AD102: =X102/SUM($X$100:$X$103) -> 0.12244898 | AE102: =Y102/SUM($Y$100:$Y$103) -> 0.094339623 | AG102: 3 | AH102: =AVERAGE(AB102:AE102) -> 0.12672755 | AJ102: 3 | AK102: =V102*$AH$100+W102*$AH$101+X102*$AH$102+Y102*$AH$103 -> 0.538746 | AM102: 3 | AN102: =AK102/AH102 -> 4.2512146 | AT102: 1.98 | AV102: =AR100/AT102 -> 0.040079334
B103: 4 | D103: 0.5 | E103: 1 | F103: 1 | H103: 0.5 | I103: 1 | J103: 1 | L103: 2 | M103: 3 | N103: 4 | P103: 1 | Q103: 1 | R103: 1 | U103: 4 | V103: =(4*E103+D103+F103)/6 -> 0.91666667 | W103: =(4*I103+H103+J103)/6 -> 0.91666667 | X103: =(4*M103+L103+N103)/6 -> 3 | Y103: =(4*Q103+P103+R103)/6 -> 1 | AA103: 4 | AB103: =V103/SUM($V$100:$V$103) -> 0.15714286 | AC103: =W103/SUM($W$100:$W$103) -> 0.35106383 | AD103: =X103/SUM($X$100:$X$103) -> 0.36734694 | AE103: =Y103/SUM($Y$100:$Y$103) -> 0.27169811 | AG103: 4 | AH103: =AVERAGE(AB103:AE103) -> 0.28681293 | AJ103: 4 | AK103: =V103*$AH$100+W103*$AH$101+X103*$AH$102+Y103*$AH$103 -> 1.2045835 | AM103: 4 | AN103: =AK103/AH103 -> 4.1998924
D104: =IF(AV100<=0.1,"MATRIZ CONSISTENTE","MATRIZ INCONSISTENTE") -> MATRIZ CONSISTENTE | AB104: =SUM(AB100:AB103) -> 1 | AC104: =SUM(AC100:AC103) -> 1 | AD104: =SUM(AD100:AD103) -> 1 | AE104: =SUM(AE100:AE103) -> 1

Sheet Resultados
B2: Resultados
B4: Agregación de criterios | I4: Resultados
B6: Criterio | C6: Vector prioridad expertos | L6: PROYECTO
C7: Gaviria | D7: Belalcazar | E7: Agregación | F7: Normalizado | K7: 1 | L7: Formación en danza y baile | P7: =O26 -> 0.12212874
B8: Indicadores de pobreza | C8: ='Matrices Gaviria M'!CD11 -> 0.073620131 | D8: ='Matrices Belalcazar'!CD11 -> 0.33333333 | E8: =GEOMEAN(C8:D8) -> 0.15665262 | F8: =E8/(SUM($E$8:$E$11)) -> 0.16447351 | K8: 2 | L8: Jornadas complementarias | P8: =P26 -> 0.34933772
B9: Necesidad de la comunidad | C9: ='Matrices Gaviria M'!CD12 -> 0.3480725 | D9: ='Matrices Belalcazar'!CD12 -> 0.33333333 | E9: =GEOMEAN(C9:D9) -> 0.3406232 | F9: =E9/(SUM($E$8:$E$11)) -> 0.35762883 | K9: 3 | L9: Ludotecas comunitarias | P9: =Q26 -> 0.23971681
B10: Costo beneficio | C10: ='Matrices Gaviria M'!CD13 -> 0.20213537 | D10: ='Matrices Belalcazar'!CD13 -> 0 | E10: =AVERAGE(C10:D10) -> 0.10106769 | F10: =E10/(SUM($E$8:$E$11)) -> 0.10611349 | K10: 4 | L10: Ajedrez infantil | P10: =R26 -> 0.28881674
B11: Técnico | C11: ='Matrices Gaviria M'!CD14 -> 0.376172 | D11: ='Matrices Belalcazar'!CD14 -> 0.33333333 | E11: =GEOMEAN(C11:D11) -> 0.35410544 | F11: =E11/(SUM($E$8:$E$11)) -> 0.37178417
K12: Criterio | L12: Peso | M12: Subcriterio | N12: Peso | O12: 1 | P12: 2 | Q12: 3 | R12: 4
K13: Indicadores de pobreza | L13: =+F8 -> 0.16447351 | M13: Pertinencia | N13: =+F17 -> 0.38254124 | O13: =F27 -> 0.27149669 | P13: =+F28 -> 0.20091601 | Q13: =+F29 -> 0.27149669 | R13: =+F30 -> 0.25609061
M14: Focalización | N14: =+F18 -> 0.61745876 | O14: =+F32 -> 0.11034605 | P14: =+F33 -> 0.29757277 | Q14: =+F34 -> 0.42152005 | R14: =+F35 -> 0.17056113
B15: Subcriterios | C15: Vector prioridad expertos | K15: Necesidad de la comunidad | L15: =+F9 -> 0.35762883 | M15: - | N15: - | O15: =+F37 -> 0.13842376 | P15: =+F38 -> 0.34782552 | Q15: =+F39 -> 0.2496662 | R15: =+F40 -> 0.26408451
C16: Gaviria | D16: Belalcazar | E16: Agregación | F16: Normalizado | K16: Costo beneficio | L16: =+F10 -> 0.10611349 | M16: - | N16: - | O16: =+F42 -> 0.066905487 | P16: =+F43 -> 0.34220678 | Q16: =+F44 -> 0.24868096 | R16: =+F45 -> 0.34220678
B17: Pertinencia | C17: ='Matrices Gaviria M'!AH22 -> 0.53010033 | D17: ='Matrices Belalcazar'!AH22 -> 0.25386598 | E17: =GEOMEAN(C17:D17) -> 0.36684389 | F17: =E17/(SUM($E$17:$E$18)) -> 0.38254124 | K17: Ténico | L17: =+F11 -> 0.37178417 | M17: Coordinación | N17: =+F20 -> 0.20745874 | O17: =+F47 -> 0.15979557 | P17: =+F48 -> 0.47658712 | Q17: =+F49 -> 0.087879706 | R17: =+F50 -> 0.27573761
B18: Focalización | C18: ='Matrices Gaviria M'!AH23 -> 0.46989967 | D18: ='Matrices Belalcazar'!AH23 -> 0.74613402 | E18: =GEOMEAN(C18:D18) -> 0.59212172 | F18: =E18/(SUM($E$17:$E$18)) -> 0.61745876 | M18: Eficacia | N18: =+F21 -> 0.79254126 | O18: =+F52 -> 0.084545054 | P18: =+F53 -> 0.36996584 | Q18: =+F54 -> 0.19471188 | R18: =+F55 -> 0.35077722
G19: =SUM(F17:F18) -> 1
B20: Coordinación | C20: ='Matrices Gaviria M'!AH27 -> 0.25386598 | D20: ='Matrices Belalcazar'!AH27 -> 0.16762895 | E20: =GEOMEAN(C20:D20) -> 0.20628933 | F20: =E20/(SUM($E$20:$E$21)) -> 0.20745874 | O20: =$L$13*$N$13*O13 -> 0.017082001 | P20: =$L$13*$N$13*P13 -> 0.012641213 | Q20: =$L$13*$N$13*Q13 -> 0.017082001 | R20: =$L$13*$N$13*R13 -> 0.016112683
B21: Eficacia | C21: ='Matrices Gaviria M'!AH28 -> 0.74613402 | D21: ='Matrices Belalcazar'!AH28 -> 0.83237105 | E21: =GEOMEAN(C21:D21) -> 0.78807383 | F21: =E21/(SUM($E$20:$E$21)) -> 0.79254126 | O21: =+$L$13*$N$14*O14 -> 0.011206261 | P21: =$L$13*$N$14*P14 -> 0.030220184 | Q21: =$L$13*$N$14*Q14 -> 0.042807725 | R21: =$L$13*$N$14*R14 -> 0.017321439
G22: =SUM(F20:F21) -> 1 | O22: =+$L$15*O15 -> 0.049504328 | P22: =+$L$15*P15 -> 0.12439243 | Q22: =+$L$15*Q15 -> 0.089287832 | R22: =+$L$15*R15 -> 0.094444235
B23: Agregación de proyectos respecto criterios | O23: =+$L$16*O16 -> 0.007099575 | P23: =+$L$16*P16 -> 0.036312757 | Q23: =+$L$16*Q16 -> 0.026388405 | R23: =+$L$16*R16 -> 0.036312757
K24: =L8 -> Jornadas complementarias | L24: =L10 -> Ajedrez infantil | M24: =L9 -> Ludotecas comunitarias | N24: =L7 -> Formación en danza y baile | O24: =+$L$17*$N$17*O17 -> 0.012325012 | P24: =+$L$17*$N$17*P17 -> 0.036759105 | Q24: =+$L$17*$N$17*Q17 -> 0.0067781508 | R24: =+$L$17*$N$17*R17 -> 0.021267607
C25: Vector prioridad expertos | K25: 0.34933772 | L25: 0.28881674 | M25: 0.23971681 | N25: 0.12212874 | O25: =+$L$17*$N$18*O18 -> 0.024911563 | P25: =+$L$17*$N$18*P18 -> 0.10901203 | Q25: =+$L$17*$N$18*Q18 -> 0.057372693 | R25: =+$L$17*$N$18*R18 -> 0.10335801
B26: Pertinencia | C26: Gaviria | D26: Belalcazar | E26: Agregación | F26: Normalizado | O26: =SUM(O20:O25) -> 0.12212874 | P26: =SUM(P20:P25) -> 0.34933772 | Q26: =SUM(Q20:Q25) -> 0.23971681 | R26: =SUM(R20:R25) -> 0.28881674 | S26: =SUM(O26:R26) -> 1
B27: Formación en baile y danza | C27: ='Matrices Gaviria M'!CD55 -> 0.25246186 | D27: ='Matrices Belalcazar'!CD46 -> 0.28789495 | E27: =GEOMEAN(C27:D27) -> 0.26959691 | F27: =E27/(SUM($E$27:$E$30)) -> 0.27149669
B28: Jornadas Complementarias | C28: ='Matrices Gaviria M'!CD56 -> 0.25246186 | D28: ='Matrices Belalcazar'!CD47 -> 0.15766455 | E28: =GEOMEAN(C28:D28) -> 0.19951011 | F28: =E28/(SUM($E$27:$E$30)) -> 0.20091601
B29: Ludotecas Comunitarias | C29: ='Matrices Gaviria M'!CD57 -> 0.25246186 | D29: ='Matrices Belalcazar'!CD48 -> 0.28789495 | E29: =GEOMEAN(C29:D29) -> 0.26959691 | F29: =E29/(SUM($E$27:$E$30)) -> 0.27149669
B30: Ajedrez Infantil | C30: ='Matrices Gaviria M'!CD58 -> 0.24261443 | D30: ='Matrices Belalcazar'!CD49 -> 0.26654555 | E30: =GEOMEAN(C30:D30) -> 0.25429863 | F30: =E30/(SUM($E$27:$E$30)) -> 0.25609061
B31: Focalización | G31: =SUM(F27:F30) -> 1
B32: Formación en baile y danza | C32: ='Matrices Gaviria M'!CD64 -> 0.04 | D32: ='Matrices Belalcazar'!CD55 -> 0.2678758 | E32: =GEOMEAN(C32:D32) -> 0.10351344 | F32: =E32/(SUM($E$32:$E$35)) -> 0.11034605
B33: Jornadas Complementarias | C33: ='Matrices Gaviria M'!CD65 -> 0.32 | D33: ='Matrices Belalcazar'!CD56 -> 0.2435097 | E33: =GEOMEAN(C33:D33) -> 0.2791471 | F33: =E33/(SUM($E$32:$E$35)) -> 0.29757277
B34: Ludotecas Comunitarias | C34: ='Matrices Gaviria M'!CD66 -> 0.32 | D34: ='Matrices Belalcazar'!CD57 -> 0.48861451 | E34: =GEOMEAN(C34:D34) -> 0.39541958 | F34: =E34/(SUM($E$32:$E$35)) -> 0.42152005
B35: Ajedrez Infantil | C35: ='Matrices Gaviria M'!CD67 -> 0.32 | D35: 0 | E35: =AVERAGE(C35:D35) -> 0.16 | F35: =E35/(SUM($E$32:$E$35)) -> 0.17056113
B36: Necesidad de la comunidad | G36: =SUM(F32:F35) -> 1
B37: Formación en baile y danza | C37: ='Matrices Gaviria M'!CD73 -> 0 | D37: ='Matrices Belalcazar'!CD64 -> 0.26730307 | E37: =AVERAGE(C37:D37) -> 0.13365153 | F37: =E37/(SUM($E$37:$E$40)) -> 0.13842376
B38: Jornadas Complementarias | C38: ='Matrices Gaviria M'!CD74 -> 0.52173913 | D38: ='Matrices Belalcazar'!CD65 -> 0.21617032 | E38: =GEOMEAN(C38:D38) -> 0.33583406 | F38: =E38/(SUM($E$37:$E$40)) -> 0.34782552
B39: Ludotecas Comunitarias | C39: ='Matrices Gaviria M'!CD75 -> 0.2173913 | D39: ='Matrices Belalcazar'!CD66 -> 0.26730307 | E39: =GEOMEAN(C39:D39) -> 0.24105884 | F39: =E39/(SUM($E$37:$E$40)) -> 0.2496662
B40: Ajedrez Infantil | C40: ='Matrices Gaviria M'!CD76 -> 0.26086957 | D40: ='Matrices Belalcazar'!CD67 -> 0.24922354 | E40: =GEOMEAN(C40:D40) -> 0.25498007 | F40: =E40/(SUM($E$37:$E$40)) -> 0.26408451
B41: Costo-Beneficio | G41: =SUM(F37:F40) -> 1
B42: Formación en baile y danza | C42: ='Matrices Gaviria M'!CD82 -> 0.13226355 | D42: ='Matrices Belalcazar'!CD73 -> 0 | E42: =AVERAGE(C42:D42) -> 0.066131773 | F42: =E42/(SUM($E$42:$E$45)) -> 0.066905487
B43: Jornadas Complementarias | C43: ='Matrices Gaviria M'!CD83 -> 0.34323797 | D43: ='Matrices Belalcazar'!CD74 -> 0.33333333 | E43: =GEOMEAN(C43:D43) -> 0.3382494 | F43: =E43/(SUM($E$42:$E$45)) -> 0.34220678
B44: Ludotecas Comunitarias | C44: ='Matrices Gaviria M'!CD84 -> 0.1812605 | D44: ='Matrices Belalcazar'!CD75 -> 0.33333333 | E44: =GEOMEAN(C44:D44) -> 0.24580514 | F44: =E44/(SUM($E$42:$E$45)) -> 0.24868096
B45: Ajedrez Infantil | C45: ='Matrices Gaviria M'!CD85 -> 0.34323797 | D45: ='Matrices Belalcazar'!CD76 -> 0.33333333 | E45: =GEOMEAN(C45:D45) -> 0.3382494 | F45: =E45/(SUM($E$42:$E$45)) -> 0.34220678
B46: Coordinación | G46: =SUM(F42:F45) -> 1
B47: Formación en baile y danza | C47: ='Matrices Gaviria M'!CD91 -> 0.073089434 | D47: ='Matrices Belalcazar'!CD82 -> 0.29983856 | E47: =GEOMEAN(C47:D47) -> 0.14803726 | F47: =E47/(SUM($E$47:$E$50)) -> 0.15979557
B48: Jornadas Complementarias | C48: ='Matrices Gaviria M'!CD92 -> 0.63969105 | D48: ='Matrices Belalcazar'!CD83 -> 0.30473824 | E48: =GEOMEAN(C48:D48) -> 0.4415182 | F48: =E48/(SUM($E$47:$E$50)) -> 0.47658712
B49: Ludotecas Comunitarias | C49: ='Matrices Gaviria M'!CD93 -> 0.073089434 | D49: ='Matrices Belalcazar'!CD84 -> 0.090684952 | E49: =GEOMEAN(C49:D49) -> 0.081413216 | F49: =E49/(SUM($E$47:$E$50)) -> 0.087879706
B50: Ajedrez Infantil | C50: ='Matrices Gaviria M'!CD94 -> 0.21413009 | D50: ='Matrices Belalcazar'!CD85 -> 0.30473824 | E50: =GEOMEAN(C50:D50) -> 0.25544789 | F50: =E50/(SUM($E$47:$E$50)) -> 0.27573761
B51: Eficacia | G51: =SUM(F47:F50) -> 1
B52: Formación en baile y danza | C52: ='Matrices Gaviria M'!CD100 -> 0.16017657 | D52: ='Matrices Belalcazar'!CD91 -> 0 | E52: =AVERAGE(C52:D52) -> 0.080088284 | F52: =E52/(SUM($E$52:$E$55)) -> 0.084545054
B53: Jornadas Complementarias | C53: ='Matrices Gaviria M'!CD101 -> 0.438591 | D53: ='Matrices Belalcazar'!CD92 -> 0.28004325 | E53: =GEOMEAN(C53:D53) -> 0.35046319 | F53: =E53/(SUM($E$52:$E$55)) -> 0.36996584
B54: Ludotecas Comunitarias | C54: ='Matrices Gaviria M'!CD102 -> 0.094508325 | D54: ='Matrices Belalcazar'!CD93 -> 0.35997837 | E54: =GEOMEAN(C54:D54) -> 0.1844477 | F54: =E54/(SUM($E$52:$E$55)) -> 0.19471188
B55: Ajedrez Infantil | C55: ='Matrices Gaviria M'!CD103 -> 0.30672411 | D55: ='Matrices Belalcazar'!CD94 -> 0.35997837 | E55: =GEOMEAN(C55:D55) -> 0.33228609 | F55: =E55/(SUM($E$52:$E$55)) -> 0.35077722
G56: =SUM(F52:F55) -> 1
