Workbook
Name _Toc371412829: ClasCriterios!#REF!
Name _Toc371412829: ComProyectos!#REF!
Name _Toc371412829: 'Valoración Belalcazar'!#REF!
Name _Toc371412829: 'Valoración Gaviria.'!#REF!

Sheet ClasCriterios
D2: Selección multicriterio de proyectos en la secretaría de integración social de palmira
C6: Encuesta 1: Ranking de criterios selección
C8: Fecha de aplicación: 30/04/14
C9: Encuestados: Martha Lucy Gaviria
D10: Jhon Gregory Belalcazar
C11: Procedimiento | D11: Proponente | E11: Criterios | F11: Clasificación
C12: Clasificar los criterios considerados más importantes en la selección de proyectos del PEIS. En una escala de 1-8. Siendo 1 el critero más importante. | D12: Comité Técnico | E12: Necesidad de la comunidad | F12: 2
E14: Iniciativa o solicitud de la comunidad | F14: 5
E16: Cumplimientos con Politicas locales o nacionales | F16: 8
E18: Costo beneficio | F18: 3
D20: Revisión bibliográfica | E20: Reducción en indicadores de pobreza | F20: 1
E22: Técnico | F22: 4
E24: Económicos | F24: 6
E26: Institucional | F26: 7

Sheet Escala de preferencia
B3: Escala Saaty | C3: Escala difusa | D3: Representación | E3: Escala Verbal | F3: Explicación
B4: 1 | C4: (1,1,2) | D4: M1 | E4: Igual importancia de ambos elementos | F4: Los dos elementos contribuyen de igual forma al objetivo
B6: 3 | C6: (2,3,4) | D6: M3 | E6: Moderada importancia de un elemento sobre otro | F6: La experiencia y el juicio favorecen levemente a un elemento sobre el otro
B8: 5 | C8: (4,5,6) | D8: M5 | E8: Fuerte importancia de un elemento sobre otro | F8: Uno de los elementos es fuertemente favorecido
B10: 7 | C10: (6,7,8) | D10: M7 | E10: Muy fuerte importancia de un elemento sobre otro | F10: Uno de los elementos es fuertemente dominante
B12: 9 | C12: (8,9,9) | D12: M9 | E12: Extrema importancia de un elemento sobre otro | F12: La evidencia que favorece a uno de los elementos es del mayor orden de afirmación
B14: 2,4,6,8 | C14: (1,1,2), (2,3,4), (4,5,6), (6,7,8), (8,9,9) | D14: M2,M4,M6,M8 | E14: Valores intermedios entre dos juicios adyacentes | F14: Usados como valores de consenso entre dos juicios
B18: Rep Gráfica | C18: Rep Gráfica
B19: Elemento 1 | C19: 5
B20: Elemento 2 | C20: 5
B21: Elemento 1 | C21: 6
B22: Elemento 2 | C22: 4
B23: Elemento 1 | C23: 7
B24: Elemento 2 | C24: 3
B25: Elemento 1 | C25: 8
B26: Elemento 2 | C26: 2
B27: Elemento 1 | C27: 9
B28: Elemento 2 | C28: 1

Sheet Valoración Gaviria.
D2: Selección multicriterio de proyectos en la secretaría de integración social de palmira
C7: Encuesta 2: Calificación de Criterios
C9: Fecha de aplicación: 29 de Abril de 2014
C11: Encuestado: Martha Lucy Gaviria
E13: Indicadores de pobreza | F13: Necesidad de la comunidad | G13: Costo beneficio | H13: Técnico
C14: Indicadores de pobreza | E14: (1,1,1) | F14: (1,1,2) | G14: (1/4,1/3,1/2) | H14: (1/4,1/3,1/2)
C15: Necesidad de la comunidad | E15: (1/2,1,1) | F15: (1,1,1) | G15: (1/4,1/3,1/2) | H15: (1/6,1/5,1/4)
C16: Costo beneficio | E16: (2,3,4) | F16: (2,3,4) | G16: (1,1,1) | H16: (1/4,1/3,1/2)
C17: Técnico | E17: (2,3,4) | F17: (4,5,6) | G17: (2,3,4) | H17: (1,1,1)
D21: Selección multicriterio de proyectos en la secretaría de integración social de palmira
C26: Encuesta 3: Calificación de Subcriterios
C28: Fecha de aplicación: 29 de Abril de 2014
C30: Encuestado: Martha Lucy Gaviria
F32: Pertinencia | G32: Focalización
E33: Pertinencia | F33: (1,1,1) | G33: (1,1,2)
E34: Focalización | F34: (1/2,1,1) | G34: (1,1,1)
F36: Coordinación | G36: Eficacia
E37: Coordinación | F37: (1,1,1) | G37: (1/4,1/3,1/2)
E38: Eficacia | F38: (2,3,4) | G38: (1,1,1)
D42: Selección multicriterio de proyectos en la secretaría de integración social de palmira
C47: Encuesta 4: Calificación pareada entre criterios, subriterios y proyectos
C49: Fecha de aplicación: 29 de Abril de 2014
C51: Encuestado: Martha Lucy Gaviria
C53: PERTINENCIA | E53: Formación en baile y danza | F53: Jornadas Complementarias | G53: Ludotecas Comunitarias | H53: Ajedrez Infantil
C54: Formación en baile y danza | E54: (1,1,1) | F54: (1/4,1/3,1/2) | G54: (1,1,2) | H54: (1,1,2)
C55: Jornadas Complementarias | E55: (2,3,4) | F55: (1,1,1) | G55: (2,3,4) | H55: (4,5,6)
C56: Ludotecas Comunitarias | E56: (1/2,1,1) | F56: (1/4,1/3,1/2) | G56: (1,1,1) | H56: (1,1,2)
C57: Ajedrez Infantil | E57: (1/2,1,1) | F57: (1/6,1/5,1/4) | G57: (1/2,1,1) | H57: (1,1,1)
C60: FOCALIZACIÓN | E60: Formación en baile y danza | F60: Jornadas Complementarias | G60: Ludotecas Comunitarias | H60: Ajedrez Infantil
C61: Formación en baile y danza | E61: (1,1,1) | F61: (1/4,1/3,1/2) | G61: (1,1,2) | H61: (1/4,1/3,1/2)
C62: Jornadas Complementarias | E62: (2,3,4) | F62: (1,1,1) | G62: (2,3,4) | H62: (1,1,2)
C63: Ludotecas Comunitarias | E63: (1/2,1,1) | F63: (1/4,1/3,1/2) | G63: (1,1,1) | H63: (2,3,4)
C64: Ajedrez Infantil | E64: (2,3,4) | F64: (1/2,1,1) | G64: (1/4,1/3,1/2) | H64: (1,1,1)
C67: COORDINACIÓN | E67: Formación en baile y danza | F67: Jornadas Complementarias | G67: Ludotecas Comunitarias | H67: Ajedrez Infantil
C68: Formación en baile y danza | E68: (1,1,1) | F68: (1/6,1/5,1/4) | G68: (1,1,2) | H68: (1/4,1/3,1/2)
... C92: Ajedrez Infantil | E92: (2,3,4) | F92: (1/4,1/3,1/2) | G92: (1/2,1,1) | H92: (1,1,1)

Sheet Valoración Belalcazar
D2: Selección multicriterio de proyectos en la secretaría de integración social de palmira
C7: Encuesta 2: Calificación de Criterios
C9: Fecha de aplicación: 30 de Abril de 2014
C11: Encuestado: Jhon Gregory Belalcazar
E13: Indicadores de pobreza | F13: Necesidad de la comunidad | G13: Costo beneficio | H13: Técnico
C14: Indicadores de pobreza | E14: (1,1,1) | F14: (1/6,1/5,1/4) | G14: (2,3,4) | H14: (1,1,2)
C15: Necesidad de la comunidad | E15: (4,5,6) | F15: (1,1,1) | G15: (4,5,6) | H15: (4,5,6)
C16: Costo beneficio | E16: (1/4,1/3,1/2) | F16: (1/6,1/5,1/4) | G16: (1,1,1) | H16: (1/4,1/3,1/2)
C17: Técnico | E17: (1/2,1,1) | F17: (1/6,1/5,1/4) | G17: (2,3,4) | H17: (1,1,1)
D20: Selección multicriterio de proyectos en la secretaría de integración social de palmira
C25: Encuesta 3: Calificación de Subcriterios
C27: Fecha de aplicación: 30 de Abril de 2014
C29: Encuestado: Jhon Gregory Belalcazar
F31: Pertinencia | G31: Focalización
E32: Pertinencia | F32: (1,1,1) | G32: (1/4,1/3,1/2)
E33: Focalización | F33: (2,3,4) | G33: (1,1,1)
F35: Coordinación | G35: Eficacia
E36: Coordinación | F36: (1,1,1) | G36: (1/6,1/5,1/4)
E37: Eficacia | F37: (4,5,6) | G37: (1,1,1)
D40: Selección multicriterio de proyectos en la secretaría de integración social de palmira
C45: Encuesta 4: Calificación pareada entre criterios, subriterios y proyectos
C47: Fecha de aplicación: 30 de Abril de 2014
C49: Encuestado: Jhon Gregory Belalcazar
C51: PERTINENCIA | E51: Formación en baile y danza | F51: Jornadas Complementarias | G51: Ludotecas Comunitarias | H51: Ajedrez Infantil
C52: Formación en baile y danza | E52: (1,1,1) | F52: (1/4,1/3,1/2) | G52: (1/8,1/7,1/6) | H52: (1,1,2)
C53: Jornadas Complementarias | E53: (2,3,4) | F53: (1,1,1) | G53: (1,1,2) | H53: (6,7,8)
C54: Ludotecas Comunitarias | E54: (6,7,8) | F54: (1/2,1,1) | G54: (1,1,1) | H54: (6,7,8)
C55: Ajedrez Infantil | E55: (1/2,1,1) | F55: (1/8,1/7,1/6) | G55: (1/8,1/7,1/6) | H55: (1,1,1)
C58: FOCALIZACIÓN | E58: Formación en baile y danza | F58: Jornadas Complementarias | G58: Ludotecas Comunitarias | H58: Ajedrez Infantil
C59: Formación en baile y danza | E59: (1,1,1) | F59: (2,3,4) | G59: (1,1,2) | H59: (2,3,4)
C60: Jornadas Complementarias | E60: (1/4,1/3,1/2) | F60: (1,1,1) | G60: (1/4,1/3,1/2) | H60: (2,3,4)
C61: Ludotecas Comunitarias | E61: (1/2,1,1) | F61: (2,3,4) | G61: (1,1,1) | H61: (6,7,8)
C62: Ajedrez Infantil | E62: (1/4,1/3,1/2) | F62: (1/4,1/3,1/2) | G62: (1/8,1/7,1/6) | H62: (1,1,1)
C65: COORDINACIÓN | E65: Formación en baile y danza | F65: Jornadas Complementarias | G65: Ludotecas Comunitarias | H65: Ajedrez Infantil
C66: Formación en baile y danza | E66: (1,1,1) | F66: (1/9,1/9,1/8) | G66: (1/6,1/5,1/4) | H66: (1,1,2)
... C90: Ajedrez Infantil | E90: (1/2,1,1) | F90: (1/8,1/7,1/6) | G90: (1/8,1/7,1/6) | H90: (1,1,1)

Sheet ComProyectos
D2: Selección multicriterio de proyectos en la secretaría de integración social de palmira
C7: Encuesta 4: Calificación pareada entre Subriterios y proyectos
C9: Fecha de aplicación:______________________
C11: Encuestado: Mesa técnica del PEIS
E13: Formación en baile y danza | F13: Jornadas Complementarias | G13: Ludotecas Comunitarias | H13: Ajedrez Infantil
C14: Formación en baile y danza | E14: (1,1,1)
C15: Jornadas Complementarias | F15: (1,1,1)
C16: Ludotecas Comunitarias | G16: (1,1,1)
C17: Ajedrez Infantil | H17: (1,1,1)
E20: Formación en baile y danza | F20: Jornadas Complementarias | G20: Ludotecas Comunitarias | H20: Ajedrez Infantil
C21: Formación en baile y danza | E21: (1,1,1)
C22: Jornadas Complementarias | F22: (1,1,1)
C23: Ludotecas Comunitarias | G23: (1,1,1)
C24: Ajedrez Infantil | H24: (1,1,1)
E27: Formación en baile y danza | F27: Jornadas Complementarias | G27: Ludotecas Comunitarias | H27: Ajedrez Infantil
C28: Formación en baile y danza | E28: (1,1,1)
C29: Jornadas Complementarias | F29: (1,1,1)
C30: Ludotecas Comunitarias | G30: (1,1,1)
C31: Ajedrez Infantil | H31: (1,1,1)
E34: Formación en baile y danza | F34: Jornadas Complementarias | G34: Ludotecas Comunitarias | H34: Ajedrez Infantil
C35: Formación en baile y danza | E35: (1,1,1)
C36: Jornadas Complementarias | F36: (1,1,1)
C37: Ludotecas Comunitarias | G37: (1,1,1)
C38: Ajedrez Infantil | H38: (1,1,1)

Sheet Matrices Gaviria M
B5: MATRICES DE COMPARACIÓN POR PARES DE CRITERIOS
B7: Nivel Uno | U7: Matriz defuzzificada | AA7: Matriz normalizada | AG7: Vector prioridad | AJ7: Nuevo vector | AM7: Vector prueba | AP7: Lambda máx | AR7: IC | AT7: IA | AV7: CC | AX7: Vector suma de la matriz | BC7: Vector suma de las filas | BL7: Grado sintetico difuso | BQ7: Comparacion | BZ7: Vector peso | CC7: Vector peso
B9: Criterios | D9: Indicadores de pobreza | H9: Necesidad de la comunidad | L9: Costo beneficio | P9: Técnico | V9: Indicadores de pobreza | W9: Necesidad de la comunidad | X9: Costo beneficio | Y9: Técnico | AB9: Indicadores de pobreza | AC9: Necesidad de la comunidad | AD9: Costo beneficio | AE9: Técnico
W10: Necesidad de la comunidad | X10: Costo beneficio | Y10: Ténico | AC10: Necesidad de la comunidad | AD10: Costo beneficio | AE10: Ténico
B11: Indicadores de pobreza | D11: 1 | E11: 1 | F11: 1 | H11: 1 | I11: 1 | J11: 2 | L11: 0.25 | M11: 0.33333333 | N11: 0.5 | P11: 0.25 | Q11: 0.33333333 | R11: 0.5 | U11: Indicadores de pobreza | V11: =(4*E11+D11+F11)/6 -> 1 | W11: =(4*I11+H11+J11)/6 -> 1.1666667 | X11: =(4*M11+L11+N11)/6 -> 0.34722222 | Y11: =(4*Q11+P11+R11)/6 -> 0.34722222 | AA11: Indicadores de pobreza | AB11: =V11/SUM($V$11:$V$14) -> 0.12631579 | AC11: =W11/SUM($W$11:$W$14) -> 0.1147541 | AD11: =X11/SUM($X$11:$X$14) -> 0.073964497 | AE11: =Y11/SUM($Y$11:$Y$14) -> 0.18301611 | AG11: Indicadores de pobreza | AH11: =AVERAGE(AB11:AE11) -> 0.12451262 | AJ11: Indicadores de pobreza | AK11: =V11*$AH$11+W11*$AH$12+X11*$AH$13+Y11*$AH$14 -> 0.50942062 | AM11: Indicadores de pobreza | AN11: =AK11/AH11 -> 4.0913171 | AP11: =AVERAGE(AN11:AN14) -> 4.1693244 | AR11: =(AP11-4)/(4-1) -> 0.056441454 | AT11: 0.882 | AV11: =AR11/AT11 -> 0.063992579 | AX11: Indicadores de pobreza | AY11: =1/((SUM($F$11:$F$14)+SUM($J$11:$J$14)+SUM($N$11:$N$14)+SUM($R$11:$R$14))) -> 0.032 | AZ11: =1/(SUM($E$11:$E$14)+SUM($I$11:$I$14)+SUM($M$11:$M$14)+SUM($Q$11:$Q$14)) -> 0.04076087 | BA11: =1/(SUM($D$11:$D$14)+SUM($H$11:$H$14)+SUM($L$11:$L$14)+SUM($P$11:$P$14)) -> 0.053571429 | BC11: Indicadores de pobreza | BD11: =D11+H11+L11+P11 -> 2.5 | BE11: =E11+I11+M11+Q11 -> 2.6666667 | BF11: =F11+J11+N11+R11 -> 4 | BL11: Indicadores de pobreza | BM11: =AY11*BD11 -> 0.08 | BN11: =AZ11*BE11 -> 0.10869565 | BO11: =BA11*BF11 -> 0.21428571 | BQ11: Ind-nec | BR11: =IF((BN11>=BN12),1,(IF((BM12>BO11),"",((BM12-BO11)/((BN11-BO11)-(BN12-BM12)))))) -> 1 | BS11: nec-Ind | BT11: =IF((BN12>=BN11),1,(IF((BM11>BO12),"",((BM11-BO12)/((BN12-BO12)-(BN11-BM11)))))) -> 0.92530146 | BU11: cto-Ind | BV11: =IF((BN13>=BN11),1,(IF((BM11>BO13),"",((BM11-BO13)/((BN13-BO13)-(BN11-BM11)))))) -> 1 | BW11: tec-Ind | BX11: =IF((BN14>=BN11),1,(IF((BM11>BO14),"",((BM11-BO14)/((BN14-BO14)-(BN11-BM11)))))) -> 1 | BZ11: Indicadores de pobreza | CA11: =MIN(BR11:BR13) -> 0.1957087 | CC11: Indicadores de pobreza | CD11: =CA11/SUM($CA$11:$CA$14) -> 0.073620131
B12: Necesidad de la comunidad | D12: 0.5 | E12: 1 | F12: 1 | H12: 1 | I12: 1 | J12: 1 | L12: 0.25 | M12: 0.33333333 | N12: 0.5 | P12: 0.16666667 | Q12: 0.2 | R12: 0.25 | U12: Necesidad de la comunidad | V12: =(4*E12+D12+F12)/6 -> 0.91666667 | W12: =(4*I12+H12+J12)/6 -> 1 | X12: =(4*M12+L12+N12)/6 -> 0.34722222 | Y12: =(4*Q12+P12+R12)/6 -> 0.20277778 | AA12: Necesidad de la comunidad | AB12: =V12/SUM($V$11:$V$14) -> 0.11578947 | AC12: =W12/SUM($W$11:$W$14) -> 0.098360656 | AD12: =X12/SUM($X$11:$X$14) -> 0.073964497 | AE12: =Y12/SUM($Y$11:$Y$14) -> 0.10688141 | AG12: Necesidad de la comunidad | AH12: =AVERAGE(AB12:AE12) -> 0.098749008 | AJ12: Necesidad de la comunidad | AK12: =V12*$AH$11+W12*$AH$12+X12*$AH$13+Y12*$AH$14 -> 0.40903203 | AM12: Necesidad de la comunidad | AN12: =AK12/AH12 -> 4.1421381 | AX12: Necesidad de la comunidad | AY12: =1/((SUM($F$11:$F$14)+SUM($J$11:$J$14)+SUM($N$11:$N$14)+SUM($R$11:$R$14))) -> 0.032 | AZ12: =1/(SUM($E$11:$E$14)+SUM($I$11:$I$14)+SUM($M$11:$M$14)+SUM($Q$11:$Q$14)) -> 0.04076087 | BA12: =1/(SUM($D$11:$D$14)+SUM($H$11:$H$14)+SUM($L$11:$L$14)+SUM($P$11:$P$14)) -> 0.053571429 | BC12: Necesidad de la comunidad | BD12: =D12+H12+L12+P12 -> 1.9166667 | BE12: =E12+I12+M12+Q12 -> 2.5333333 | BF12: =F12+J12+N12+R12 -> 2.75 | BL12: Necesidad de la comunidad | BM12: =AY12*BD12 -> 0.061333333 | BN12: =AZ12*BE12 -> 0.10326087 | BO12: =BA12*BF12 -> 0.14732143 | BQ12: Ind-cto | BR12: =IF((BN11>=BN13),1,(IF((BM13>BO11),"",((BM13-BO11)/((BN11-BO11)-(BN13-BM13)))))) -> 0.1957087 | BS12: nec-cto | BT12: =IF((BN12>=BN13),1,(IF((BM13>BO12),"",((BM13-BO12)/((BN12-BO12)-(BN13-BM13)))))) | BU12: cto-nec | BV12: =IF((BN13>=BN12),1,(IF((BM12>BO13),"",((BM12-BO13)/((BN13-BO13)-(BN12-BM12)))))) -> 1 | BW12: tec-nec | BX12: =IF((BN14>=BN12),1,(IF((BM12>BO14),"",((BM12-BO14)/((BN14-BO14)-(BN12-BM12)))))) -> 1 | BZ12: Necesidad de la comunidad | CA12: =MIN(BT11:BT13) -> 0.92530146 | CC12: Necesidad de la comunidad | CD12: =CA12/SUM($CA$11:$CA$14) -> 0.3480725
B13: Costo beneficio | D13: 2 | E13: 3 | F13: 4 | H13: 2 | I13: 3 | J13: 4 | L13: 1 | M13: 1 | N13: 1 | P13: 0.25 | Q13: 0.33333333 | R13: 0.5 | U13: Costo beneficio | V13: =(4*E13+D13+F13)/6 -> 3 | W13: =(4*I13+H13+J13)/6 -> 3 | X13: =(4*M13+L13+N13)/6 -> 1 | Y13: =(4*Q13+P13+R13)/6 -> 0.34722222 | AA13: Costo beneficio | AB13: =V13/SUM($V$11:$V$14) -> 0.37894737 | AC13: =W13/SUM($W$11:$W$14) -> 0.29508197 | AD13: =X13/SUM($X$11:$X$14) -> 0.21301775 | AE13: =Y13/SUM($Y$11:$Y$14) -> 0.18301611 | AG13: Costo beneficio | AH13: =AVERAGE(AB13:AE13) -> 0.2675158 | AJ13: Costo beneficio | AK13: =V13*$AH$11+W13*$AH$12+X13*$AH$13+Y13*$AH$14 -> 1.1141141 | AM13: Costo beneficio | AN13: =AK13/AH13 -> 4.1646665 | AX13: Costo beneficio | AY13: =1/((SUM($F$11:$F$14)+SUM($J$11:$J$14)+SUM($N$11:$N$14)+SUM($R$11:$R$14))) -> 0.032 | AZ13: =1/(SUM($E$11:$E$14)+SUM($I$11:$I$14)+SUM($M$11:$M$14)+SUM($Q$11:$Q$14)) -> 0.04076087 | BA13: =1/(SUM($D$11:$D$14)+SUM($H$11:$H$14)+SUM($L$11:$L$14)+SUM($P$11:$P$14)) -> 0.053571429 | BC13: Costo beneficio | BD13: =D13+H13+L13+P13 -> 5.25 | BE13: =E13+I13+M13+Q13 -> 7.3333333 | BF13: =F13+J13+N13+R13 -> 9.5 | BL13: Costo beneficio | BM13: =AY13*BD13 -> 0.168 | BN13: =AZ13*BE13 -> 0.29891304 | BO13: =BA13*BF13 -> 0.50892857 | BQ13: Ind-tec | BR13: =IF((BN11>=BN14),1,(IF((BM14>BO11),"",((BM14-BO11)/((BN11-BO11)-(BN14-BM14)))))) | BS13: nec-tec | BT13: =IF((BN12>=BN14),1,(IF((BM14>BO12),"",((BM14-BO12)/((BN12-BO12)-(BN14-BM14)))))) | BU13: cto-tec | BV13: =IF((BN13>=BN14),1,(IF((BM14>BO13),"",((BM14-BO13)/((BN13-BO13)-(BN14-BM14)))))) -> 0.53734827 | BW13: tec-cto | BX13: =IF((BN14>=BN13),1,(IF((BM13>BO14),"",((BM13-BO14)/((BN14-BO14)-(BN13-BM13)))))) -> 1 | BZ13: Costo beneficio | CA13: =MIN(BV11:BV13) -> 0.53734827 | CC13: Costo beneficio | CD13: =CA13/SUM($CA$11:$CA$14) -> 0.20213537
B14: Técnico | D14: 2 | E14: 3 | F14: 4 | H14: 4 | I14: 5 | J14: 6 | L14: 2 | M14: 3 | N14: 4 | P14: 1 | Q14: 1 | R14: 1 | U14: Técnico | V14: =(4*E14+D14+F14)/6 -> 3 | W14: =(4*I14+H14+J14)/6 -> 5 | X14: =(4*M14+L14+N14)/6 -> 3 | Y14: =(4*Q14+P14+R14)/6 -> 1 | AA14: Técnico | AB14: =V14/SUM($V$11:$V$14) -> 0.37894737 | AC14: =W14/SUM($W$11:$W$14) -> 0.49180328 | AD14: =X14/SUM($X$11:$X$14) -> 0.63905325 | AE14: =Y14/SUM($Y$11:$Y$14) -> 0.52708638 | AG14: Técnico | AH14: =AVERAGE(AB14:AE14) -> 0.50922257 | AJ14: Técnico | AK14: =V14*$AH$11+W14*$AH$12+X14*$AH$13+Y14*$AH$14 -> 2.1790529 | AM14: Técnico | AN14: =AK14/AH14 -> 4.2791757 | AX14: Técnico | AY14: =1/((SUM($F$11:$F$14)+SUM($J$11:$J$14)+SUM($N$11:$N$14)+SUM($R$11:$R$14))) -> 0.032 | AZ14: =1/(SUM($E$11:$E$14)+SUM($I$11:$I$14)+SUM($M$11:$M$14)+SUM($Q$11:$Q$14)) -> 0.04076087 | BA14: =1/(SUM($D$11:$D$14)+SUM($H$11:$H$14)+SUM($L$11:$L$14)+SUM($P$11:$P$14)) -> 0.053571429 | BC14: Técnico | BD14: =D14+H14+L14+P14 -> 9 | BE14: =E14+I14+M14+Q14 -> 12 | BF14: =F14+J14+N14+R14 -> 15 | BL14: Técnico | BM14: =AY14*BD14 -> 0.288 | BN14: =AZ14*BE14 -> 0.48913043 | BO14: =BA14*BF14 -> 0.80357143 | BZ14: Técnico | CA14: =MIN(BX11:BX13) -> 1 | CC14: Técnico | CD14: =CA14/SUM($CA$11:$CA$14) -> 0.376172
D15: =IF(AV11<=0.1,"MATRIZ CONSISTENTE","MATRIZ INCONSISTENTE") -> MATRIZ CONSISTENTE | AB15: =SUM(AB11:AB14) -> 1 | AC15: =SUM(AC11:AC14) -> 1 | AD15: =SUM(AD11:AD14) -> 1 | AE15: =SUM(AE11:AE14) -> 1 | CD15: =SUM(CD11:CD14) -> 1
B18: Nivel Dos
B20: Indicadores de pobreza | D20: Pertinencia | H20: Focalización | V20: Pertinencia | W20: Focalización | AB20: Pertinencia | AC20: Focalización
B22: Pertinencia | D22: 1 | E22: 1 | F22: 1 | H22: 1 | I22: 1 | J22: 2 | U22: Pertinencia | V22: 1 | W22: =(4*I22+H22+J22)/6 -> 1.1666667 | AA22: Pertinencia | AB22: =V22/($V$22+$V$23) -> 0.52173913 | AC22: =W22/($W$22+$W$23) -> 0.53846154 | AG22: Pertinencia | AH22: =AVERAGE(AB22:AC22) -> 0.53010033
B23: Focalización | D23: 1 | E23: 1 | F23: 0.5 | H23: 1 | I23: 1 | J23: 1 | U23: Focalización | V23: =(4*E23+D23+F23)/6 -> 0.91666667 | W23: 1 | AA23: Focalización | AB23: =V23/($V$22+$V$23) -> 0.47826087 | AC23: =W23/($W$22+$W$23) -> 0.46153846 | AG23: Focalización | AH23: =AVERAGE(AB23:AC23) -> 0.46989967
B25: Técnico | D25: Coordinación | H25: Eficacia | V25: Coordinación | W25: Eficacia | AB25: Pertinencia | AC25: Focalización
B27: Coordinación | D27: 1 | E27: 1 | F27: 1 | H27: 0.5 | I27: 0.33333333 | J27: 0.25 | U27: Coordinación | V27: =(4*E27+D27+F27)/6 -> 1 | W27: =(4*I27+H27+J27)/6 -> 0.34722222 | AA27: Coordinación | AB27: =V27/(V27+V28) -> 0.25 | AC27: =W27/($W$27+$W$28) -> 0.25773196 | AG27: Coordinación | AH27: =AVERAGE(AB27:AC27) -> 0.25386598
B28: Eficacia | D28: 2 | E28: 3 | F28: 4 | H28: 1 | I28: 1 | J28: 1 | U28: Eficacia | V28: =(4*E28+D28+F28)/6 -> 3 | W28: =(4*I28+H28+J28)/6 -> 1 | AA28: Eficacia | AB28: =V28/(V28+V27) -> 0.75 | AC28: =W28/($W$27+$W$28) -> 0.74226804 | AG28: Eficacia | AH28: =AVERAGE(AB28:AC28) -> 0.74613402
B32: Criterios | D32: Indicadores de pobreza | H32: Necesidad de la comunidad | L32: Costo beneficio | P32: Técnico | V32: Indicadores de pobreza | W32: Necesidad de la comunidad | X32: Costo beneficio | Y32: Técnico | AB32: Indicadores de pobreza | AC32: Necesidad de la comunidad | AD32: Costo beneficio | AE32: Técnico
W33: Necesidad de la comunidad | AE33: Técnico
B34: Indicadores de pobreza | D34: 1 | E34: 1 | F34: 1 | H34: 1 | I34: 1 | J34: 2 | L34: 0.25 | M34: 0.33333333 | N34: 0.5 | P34: 0.25 | Q34: 0.33333333 | R34: 0.5 | U34: Indicadores de pobreza | V34: 1 | W34: 0.2 | X34: 0.2 | Y34: 0.33333333 | AA34: Indicadores de pobreza | AB34: =V34/SUM($V$34:$V$37) -> 0.071428571 | AC34: =W34/SUM($W$34:$W$37) -> 0.03125 | AD34: =X34/SUM($X$34:$X$37) -> 0.12962963 | AE34: =Y34/SUM($Y$34:$Y$37) -> 0.025 | AG34: Indicadores de pobreza | AH34: =AVERAGE(AB34:AE34) -> 0.06432705 | AJ34: Indicadores de pobreza | AK34: =V34*$AH$34+W34*$AH$35+X34*$AH$36+Y34*$AH$37 -> 0.26523258 | AM34: Indicadores de pobreza | AN34: =AK34/AH34 -> 4.123189 | AP34: =AVERAGE(AN34:AN37) -> 4.5101185 | AR34: =(AP34-4)/(4-1) -> 0.17003948 | AT34: 0.882 | AV34: =AR34/AT34 -> 0.19278853
B35: Necesidad de la comunidad | D35: 0.5 | E35: 1 | F35: 1 | H35: 1 | I35: 1 | J35: 1 | L35: 0.25 | M35: 0.33333333 | N35: 0.5 | P35: 4 | Q35: 5 | R35: 6 | U35: Necesidad de la comunidad | V35: 5 | W35: 1 | X35: 0.2 | Y35: 5 | AA35: Necesidad de la comunidad | AB35: =V35/SUM($V$34:$V$37) -> 0.35714286 | AC35: =W35/SUM($W$34:$W$37) -> 0.15625 | AD35: =X35/SUM($X$34:$X$37) -> 0.12962963 | AE35: =Y35/SUM($Y$34:$Y$37) -> 0.375 | AG35: Necesidad de la comunidad | AH35: =AVERAGE(AB35:AE35) -> 0.25450562 | AJ35: Necesidad de la comunidad | AK35: =V35*$AH$34+W35*$AH$35+X35*$AH$36+Y35*$AH$37 -> 1.2081283 | AM35: Necesidad de la comunidad | AN35: =AK35/AH35 -> 4.7469612
B36: Costo beneficio | D36: 2 | E36: 3 | F36: 4 | H36: 2 | I36: 3 | J36: 4 | L36: 1 | M36: 1 | N36: 1 | P36: 0.25 | Q36: 0.33333333 | R36: 0.5 | U36: Costo beneficio | V36: 5 | W36: 5 | X36: 1 | Y36: 7 | AA36: Costo beneficio | AB36: =V36/SUM($V$34:$V$37) -> 0.35714286 | AC36: =W36/SUM($W$34:$W$37) -> 0.78125 | AD36: =X36/SUM($X$34:$X$37) -> 0.64814815 | AE36: =Y36/SUM($Y$34:$Y$37) -> 0.525 | AG36: Costo beneficio | AH36: =AVERAGE(AB36:AE36) -> 0.57788525 | AJ36: Costo beneficio | AK36: =V36*$AH$34+W36*$AH$35+X36*$AH$36+Y36*$AH$37 -> 2.8950231 | AM36: Costo beneficio | AN36: =AK36/AH36 -> 5.0096851 | AT36: 1.98 | AV36: =AR34/AT36 -> 0.085878527
B37: Técnico | D37: 2 | E37: 3 | F37: 4 | H37: 0.16666667 | I37: 0.2 | J37: 0.25 | L37: 2 | M37: 3 | N37: 4 | P37: 1 | Q37: 1 | R37: 1 | U37: Técnico | V37: 3 | W37: 0.2 | X37: 0.14285714 | Y37: 1 | AA37: Técnico | AB37: =V37/SUM($V$34:$V$37) -> 0.21428571 | AC37: =W37/SUM($W$34:$W$37) -> 0.03125 | AD37: =X37/SUM($X$34:$X$37) -> 0.092592593 | AE37: =Y37/SUM($Y$34:$Y$37) -> 0.075 | AG37: Técnico | AH37: =AVERAGE(AB37:AE37) -> 0.10328208 | AJ37: Técnico | AK37: =V37*$AH$34+W37*$AH$35+X37*$AH$36+Y37*$AH$37 -> 0.42971939 | AM37: Técnico | AN37: =AK37/AH37 -> 4.1606385
AB38: =SUM(AB34:AB37) -> 1 | AC38: =SUM(AC34:AC37) -> 1 | AD38: =SUM(AD34:AD37) -> 1 | AE38: =SUM(AE34:AE37) -> 1
B42: Proyectos
C44: PROYECTO
B45: 1 | C45: Formación en danza y baile
B46: 2 | C46: Jornadas complementarias
B47: 3 | C47: Ludotecas comunitarias
B48: 4 | C48: Ajedrez infantil
B50: Comparación por pares de proyectos respecto de criterios | U50: Matriz defuzzificada | AA50: Matriz normalizada | AG50: Vector prioridad | AJ50: Nuevo vector | AM50: Vector prueba | AP50: Lambda máx | AR50: IC | AT50: IA | AV50: CC
AX51: Vector suma de la matriz
B53: Pertinencia | D53: 1 | H53: 2 | L53: 3 | P53: 4
V54: 1 | W54: 2 | X54: 3 | Y54: 4 | AB54: 1 | AC54: 2 | AD54: 3 | AE54: 4
B55: 1 | D55: 1 | E55: 1 | F55: 1 | H55: 0.25 | I55: 0.33333333 | J55: 0.5 | L55: 1 | M55: 1 | N55: 2 | P55: 0.5 | Q55: 1 | R55: 1 | U55: 1 | V55: =(4*E55+D55+F55)/6 -> 1 | W55: =(4*I55+H55+J55)/6 -> 0.34722222 | X55: =(4*M55+L55+N55)/6 -> 1.1666667 | Y55: =(4*Q55+P55+R55)/6 -> 0.91666667 | AA55: 1 | AB55: =V55/SUM($V$55:$V$58) -> 0.16438356 | AC55: =W55/SUM($W$55:$W$58) -> 0.18301611 | AD55: =X55/SUM($X$55:$X$58) -> 0.19178082 | AE55: =Y55/SUM($Y$55:$Y$58) -> 0.11340206 | AG55: 1 | AH55: =AVERAGE(AB55:AE55) -> 0.16314564 | AJ55: 1 | AK55: =V55*$AH$55+W55*$AH$56+X55*$AH$57+Y55*$AH$58 -> 0.66690706 | AM55: 1 | AN55: =AK55/AH55 -> 4.087802 | AP55: =AVERAGE(AN55:AN58) -> 4.1222051 | AR55: =(AP55-4)/(4-1) -> 0.040735022 | AT55: 0.882 | AV55: =AR55/AT55 -> 0.046184832 | AX55: Indicadores de pobreza | AY55: =1/((SUM($F$55:$F$58)+SUM($J$55:$J$58)+SUM($N$55:$N$58)+SUM($R$55:$R$58))) -> 0.03539823 | AZ55: =1/(SUM($E$55:$E$58)+SUM($I$55:$I$58)+SUM($M$55:$M$58)+SUM($Q$55:$Q$58)) -> 0.045731707 | BA55: =1/(SUM($D$55:$D$58)+SUM($H$55:$H$58)+SUM($L$55:$L$58)+SUM($P$55:$P$58)) -> 0.058252427 | BC55: Indicadores de pobreza | BD55: =D55+H55+L55+P55 -> 2.75 | BE55: =E55+I55+M55+Q55 -> 3.3333333 | BF55: =F55+J55+N55+R55 -> 4.5 | BL55: Indicadores de pobreza | BM55: =AY55*BD55 -> 0.097345133 | BN55: =AZ55*BE55 -> 0.15243902 | BO55: =BA55*BF55 -> 0.26213592 | BQ55: Ind-nec | BR55: =IF((BN55>=BN56),1,(IF((BM56>BO55),"",((BM56-BO55)/((BN55-BO55)-(BN56-BM56)))))) | BS55: nec-Ind | BT55: =IF((BN56>=BN55),1,(IF((BM55>BO56),"",((BM55-BO56)/((BN56-BO56)-(BN55-BM55)))))) -> 1 | BU55: cto-Ind | BV55: =IF((BN57>=BN55),1,(IF((BM55>BO57),"",((BM55-BO57)/((BN57-BO57)-(BN55-BM55)))))) -> 1 | BW55: tec-Ind | BX55: =IF((BN58>=BN55),1,(IF((BM55>BO58),"",((BM55-BO58)/((BN58-BO58)-(BN55-BM55)))))) -> 0.96099439 | BZ55: Indicadores de pobreza | CA55: =MIN(BR55:BR57) -> 1 | CC55: Indicadores de pobreza | CD55: =CA55/SUM($CA$55:$CA$58) -> 0.25246186
B56: 2 | D56: 2 | E56: 3 | F56: 4 | H56: 1 | I56: 1 | J56: 1 | L56: 2 | M56: 3 | N56: 4 | P56: 4 | Q56: 5 | R56: 6 | U56: 2 | V56: =(4*E56+D56+F56)/6 -> 3 | W56: =(4*I56+H56+J56)/6 -> 1 | X56: =(4*M56+L56+N56)/6 -> 3 | Y56: =(4*Q56+P56+R56)/6 -> 5 | AA56: 2 | AB56: =V56/SUM($V$55:$V$58) -> 0.49315068 | AC56: =W56/SUM($W$55:$W$58) -> 0.52708638 | AD56: =X56/SUM($X$55:$X$58) -> 0.49315068 | AE56: =Y56/SUM($Y$55:$Y$58) -> 0.6185567 | AG56: 2 | AH56: =AVERAGE(AB56:AE56) -> 0.53298611 | AJ56: 2 | AK56: =V56*$AH$55+W56*$AH$56+X56*$AH$57+Y56*$AH$58 -> 2.220557 | AM56: 2 | AN56: =AK56/AH56 -> 4.1662568 | AX56: Necesidad de la comunidad | AY56: =1/((SUM($F$55:$F$58)+SUM($J$55:$J$58)+SUM($N$55:$N$58)+SUM($R$55:$R$58))) -> 0.03539823 | AZ56: =1/(SUM($E$55:$E$58)+SUM($I$55:$I$58)+SUM($M$55:$M$58)+SUM($Q$55:$Q$58)) -> 0.045731707 | BA56: =1/(SUM($D$55:$D$58)+SUM($H$55:$H$58)+SUM($L$55:$L$58)+SUM($P$55:$P$58)) -> 0.058252427 | BC56: Necesidad de la comunidad | BD56: =D56+H56+L56+P56 -> 9 | BE56: =E56+I56+M56+Q56 -> 12 | BF56: =F56+J56+N56+R56 -> 15 | BL56: Necesidad de la comunidad | BM56: =AY56*BD56 -> 0.31858407 | BN56: =AZ56*BE56 -> 0.54878049 | BO56: =BA56*BF56 -> 0.87378641 | BQ56: Ind-cto | BR56: =IF((BN55>=BN57),1,(IF((BM57>BO55),"",((BM57-BO55)/((BN55-BO55)-(BN57-BM57)))))) -> 1 | BS56: nec-cto | BT56: =IF((BN56>=BN57),1,(IF((BM57>BO56),"",((BM57-BO56)/((BN56-BO56)-(BN57-BM57)))))) -> 1 | BU56: cto-nec | BV56: =IF((BN57>=BN56),1,(IF((BM56>BO57),"",((BM56-BO57)/((BN57-BO57)-(BN56-BM56)))))) | BW56: tec-nec | BX56: =IF((BN58>=BN56),1,(IF((BM56>BO58),"",((BM56-BO58)/((BN58-BO58)-(BN56-BM56)))))) | BZ56: Necesidad de la comunidad | CA56: =MIN(BT55:BT57) -> 1 | CC56: Necesidad de la comunidad | CD56: =CA56/SUM($CA$55:$CA$58) -> 0.25246186
B57: 3 | D57: 0.5 | E57: 1 | F57: 1 | H57: 0.25 | I57: 0.33333333 | J57: 0.5 | L57: 1 | M57: 1 | N57: 1 | P57: 1 | Q57: 1 | R57: 2 | U57: 3 | V57: =(4*E57+D57+F57)/6 -> 0.91666667 | W57: =(4*I57+H57+J57)/6 -> 0.34722222 | X57: =(4*M57+L57+N57)/6 -> 1 | Y57: =(4*Q57+P57+R57)/6 -> 1.1666667 | AA57: 3 | AB57: =V57/SUM($V$55:$V$58) -> 0.15068493 | AC57: =W57/SUM($W$55:$W$58) -> 0.18301611 | AD57: =X57/SUM($X$55:$X$58) -> 0.16438356 | AE57: =Y57/SUM($Y$55:$Y$58) -> 0.1443299 | AG57: 3 | AH57: =AVERAGE(AB57:AE57) -> 0.16060362 | AJ57: 3 | AK57: =V57*$AH$55+W57*$AH$56+X57*$AH$57+Y57*$AH$58 -> 0.66236048 | AM57: 3 | AN57: =AK57/AH57 -> 4.1241938 | AX57: Costo beneficio | AY57: =1/((SUM($F$55:$F$58)+SUM($J$55:$J$58)+SUM($N$55:$N$58)+SUM($R$55:$R$58))) -> 0.03539823 | AZ57: =1/(SUM($E$55:$E$58)+SUM($I$55:$I$58)+SUM($M$55:$M$58)+SUM($Q$55:$Q$58)) -> 0.045731707 | BA57: =1/(SUM($D$55:$D$58)+SUM($H$55:$H$58)+SUM($L$55:$L$58)+SUM($P$55:$P$58)) -> 0.058252427 | BC57: Costo beneficio | BD57: =D57+H57+L57+P57 -> 2.75 | BE57: =E57+I57+M57+Q57 -> 3.3333333 | BF57: =F57+J57+N57+R57 -> 4.5 | BL57: Costo beneficio | BM57: =AY57*BD57 -> 0.097345133 | BN57: =AZ57*BE57 -> 0.15243902 | BO57: =BA57*BF57 -> 0.26213592 | BQ57: Ind-tec | BR57: =IF((BN55>=BN58),1,(IF((BM58>BO55),"",((BM58-BO55)/((BN55-BO55)-(BN58-BM58)))))) -> 1 | BS57: nec-tec | BT57: =IF((BN56>=BN58),1,(IF((BM58>BO56),"",((BM58-BO56)/((BN56-BO56)-(BN58-BM58)))))) -> 1 | BU57: cto-tec | BV57: =IF((BN57>=BN58),1,(IF((BM58>BO57),"",((BM58-BO57)/((BN57-BO57)-(BN58-BM58)))))) -> 1 | BW57: tec-cto | BX57: =IF((BN58>=BN57),1,(IF((BM57>BO58),"",((BM57-BO58)/((BN58-BO58)-(BN57-BM57)))))) -> 0.96099439 | BZ57: Costo beneficio | CA57: =MIN(BV55:BV57) -> 1 | CC57: Costo beneficio | CD57: =CA57/SUM($CA$55:$CA$58) -> 0.25246186
B58: 4 | D58: 1 | E58: 1 | F58: 2 | H58: 0.16666667 | I58: 0.2 | J58: 0.25 | L58: 0.5 | M58: 1 | N58: 1 | P58: 1 | Q58: 1 | R58: 1 | U58: 4 | V58: =(4*E58+D58+F58)/6 -> 1.1666667 | W58: =(4*I58+H58+J58)/6 -> 0.20277778 | X58: =(4*M58+L58+N58)/6 -> 0.91666667 | Y58: =(4*Q58+P58+R58)/6 -> 1 | AA58: 4 | AB58: =V58/SUM($V$55:$V$58) -> 0.19178082 | AC58: =W58/SUM($W$55:$W$58) -> 0.10688141 | AD58: =X58/SUM($X$55:$X$58) -> 0.15068493 | AE58: =Y58/SUM($Y$55:$Y$58) -> 0.12371134 | AG58: 4 | AH58: =AVERAGE(AB58:AE58) -> 0.14326462 | AJ58: 4 | AK58: =V58*$AH$55+W58*$AH$56+X58*$AH$57+Y58*$AH$58 -> 0.58889893 | AM58: 4 | AN58: =AK58/AH58 -> 4.1105676 | AX58: Técnico | AY58: =1/((SUM($F$55:$F$58)+SUM($J$55:$J$58)+SUM($N$55:$N$58)+SUM($R$55:$R$58))) -> 0.03539823 | AZ58: =1/(SUM($E$55:$E$58)+SUM($I$55:$I$58)+SUM($M$55:$M$58)+SUM($Q$55:$Q$58)) -> 0.045731707 | BA58: =1/(SUM($D$55:$D$58)+SUM($H$55:$H$58)+SUM($L$55:$L$58)+SUM($P$55:$P$58)) -> 0.058252427 | BC58: Técnico | BD58: =D58+H58+L58+P58 -> 2.6666667 | BE58: =E58+I58+M58+Q58 -> 3.2 | BF58: =F58+J58+N58+R58 -> 4.25 | BL58: Técnico | BM58: =AY58*BD58 -> 0.09439528 | BN58: =AZ58*BE58 -> 0.14634146 | BO58: =BA58*BF58 -> 0.24757282 | BZ58: Técnico | CA58: =MIN(BX55:BX57) -> 0.96099439 | CC58: Técnico | CD58: =CA58/SUM($CA$55:$CA$58) -> 0.24261443
D59: =IF(AV55<=0.1,"MATRIZ CONSISTENTE","MATRIZ INCONSISTENTE") -> MATRIZ CONSISTENTE | AB59: =SUM(AB55:AB58) -> 1 | AC59: =SUM(AC55:AC58) -> 1 | AD59: =SUM(AD55:AD58) -> 1 | AE59: =SUM(AE55:AE58) -> 1 | CD59: =SUM(CD55:CD58) -> 1
B62: Focalización | D62: 1 | H62: 2 | L62: 3 | P62: 4
V63: 1 | W63: 2 | X63: 3 | Y63: 4 | AB63: 1 | AC63: 2 | AD63: 3 | AE63: 4
...

Sheet Matrices Belalcazar
B5: MATRICES DE COMPARACIÓN POR PARES DE CRITERIOS
B7: Nivel Uno | U7: Matriz defuzzificada | AA7: Matriz normalizada | AG7: Vector prioridad | AJ7: Nuevo vector | AM7: Vector prueba | AP7: Lambda máx | AR7: IC | AT7: IA | AV7: CC | AX7: Vector suma de la matriz | BC7: Vector suma de las filas | BL7: Grado sintetico difuso | BQ7: Comparacion | BZ7: Vector peso | CC7: Vector peso
B9: Criterios | D9: Indicadores de pobreza | H9: Necesidad de la comunidad | L9: Costo beneficio | P9: Técnico | V9: Indicadores de pobreza | W9: Necesidad de la comunidad | X9: Costo beneficio | Y9: Técnico | AB9: Indicadores de pobreza | AC9: Necesidad de la comunidad | AD9: Costo beneficio | AE9: Técnico
W10: Necesidad de la comunidad | X10: Costo beneficio | Y10: Ténico | AC10: Necesidad de la comunidad | AD10: Costo beneficio | AE10: Ténico
B11: Indicadores de pobreza | D11: 1 | E11: 1 | F11: 1 | H11: 0.16666667 | I11: 0.2 | J11: 0.25 | L11: 2 | M11: 3 | N11: 4 | P11: 1 | Q11: 1 | R11: 2 | U11: Indicadores de pobreza | V11: =(4*E11+D11+F11)/6 -> 1 | W11: =(4*I11+H11+J11)/6 -> 0.20277778 | X11: =(4*M11+L11+N11)/6 -> 3 | Y11: =(4*Q11+P11+R11)/6 -> 1.1666667 | AA11: Indicadores de pobreza | AB11: =V11/SUM($V$11:$V$14) -> 0.1376673 | AC11: =W11/SUM($W$11:$W$14) -> 0.12607945 | AD11: =X11/SUM($X$11:$X$14) -> 0.25 | AE11: =Y11/SUM($Y$11:$Y$14) -> 0.15526802 | AG11: Indicadores de pobreza | AH11: =AVERAGE(AB11:AE11) -> 0.16725369 | AJ11: Indicadores de pobreza | AK11: =V11*$AH$11+W11*$AH$12+X11*$AH$13+Y11*$AH$14 -> 0.70140712 | AM11: Indicadores de pobreza | AN11: =AK11/AH11 -> 4.1936719 | AP11: =AVERAGE(AN11:AN14) -> 4.20173 | AR11: =(AP11-4)/(4-1) -> 0.067243341 | AT11: 0.882 | AV11: =AR11/AT11 -> 0.076239615 | AX11: Indicadores de pobreza | AY11: =1/((SUM($F$11:$F$14)+SUM($J$11:$J$14)+SUM($N$11:$N$14)+SUM($R$11:$R$14))) -> 0.028776978 | AZ11: =1/(SUM($E$11:$E$14)+SUM($I$11:$I$14)+SUM($M$11:$M$14)+SUM($Q$11:$Q$14)) -> 0.035377358 | BA11: =1/(SUM($D$11:$D$14)+SUM($H$11:$H$14)+SUM($L$11:$L$14)+SUM($P$11:$P$14)) -> 0.044444444 | BC11: Indicadores de pobreza | BD11: =D11+H11+L11+P11 -> 4.1666667 | BE11: =E11+I11+M11+Q11 -> 5.2 | BF11: =F11+J11+N11+R11 -> 7.25 | BL11: Indicadores de pobreza | BM11: =AY11*BD11 -> 0.11990408 | BN11: =AZ11*BE11 -> 0.18396226 | BO11: =BA11*BF11 -> 0.32222222 | BQ11: Ind-nec | BR11: =IF((BN11>=BN12),1,(IF((BM12>BO11),"",((BM12-BO11)/((BN11-BO11)-(BN12-BM12)))))) | BS11: nec-Ind | BT11: =IF((BN12>=BN11),1,(IF((BM11>BO12),"",((BM11-BO12)/((BN12-BO12)-(BN11-BM11)))))) -> 1 | BU11: cto-Ind | BV11: =IF((BN13>=BN11),1,(IF((BM11>BO13),"",((BM11-BO13)/((BN13-BO13)-(BN11-BM11)))))) | BW11: tec-Ind | BX11: =IF((BN14>=BN11),1,(IF((BM11>BO14),"",((BM11-BO14)/((BN14-BO14)-(BN11-BM11)))))) -> 1 | BZ11: Indicadores de pobreza | CA11: =MIN(BR11:BR13) -> 1 | CC11: Indicadores de pobreza | CD11: =CA11/SUM($CA$11:$CA$14) -> 0.33333333
B12: Necesidad de la comunidad | D12: 4 | E12: 5 | F12: 6 | H12: 1 | I12: 1 | J12: 1 | L12: 4 | M12: 5 | N12: 6 | P12: 4 | Q12: 5 | R12: 6 | U12: Necesidad de la comunidad | V12: =(4*E12+D12+F12)/6 -> 5 | W12: =(4*I12+H12+J12)/6 -> 1 | X12: =(4*M12+L12+N12)/6 -> 5 | Y12: =(4*Q12+P12+R12)/6 -> 5 | AA12: Necesidad de la comunidad | AB12: =V12/SUM($V$11:$V$14) -> 0.68833652 | AC12: =W12/SUM($W$11:$W$14) -> 0.62176166 | AD12: =X12/SUM($X$11:$X$14) -> 0.41666667 | AE12: =Y12/SUM($Y$11:$Y$14) -> 0.66543438 | AG12: Necesidad de la comunidad | AH12: =AVERAGE(AB12:AE12) -> 0.59804981 | AJ12: Necesidad de la comunidad | AK12: =V12*$AH$11+W12*$AH$12+X12*$AH$13+Y12*$AH$14 -> 2.6078008 | AM12: Necesidad de la comunidad | AN12: =AK12/AH12 -> 4.3605077 | AX12: Necesidad de la comunidad | AY12: =1/((SUM($F$11:$F$14)+SUM($J$11:$J$14)+SUM($N$11:$N$14)+SUM($R$11:$R$14))) -> 0.028776978 | AZ12: =1/(SUM($E$11:$E$14)+SUM($I$11:$I$14)+SUM($M$11:$M$14)+SUM($Q$11:$Q$14)) -> 0.035377358 | BA12: =1/(SUM($D$11:$D$14)+SUM($H$11:$H$14)+SUM($L$11:$L$14)+SUM($P$11:$P$14)) -> 0.044444444 | BC12: Necesidad de la comunidad | BD12: =D12+H12+L12+P12 -> 13 | BE12: =E12+I12+M12+Q12 -> 16 | BF12: =F12+J12+N12+R12 -> 19 | BL12: Necesidad de la comunidad | BM12: =AY12*BD12 -> 0.37410072 | BN12: =AZ12*BE12 -> 0.56603774 | BO12: =BA12*BF12 -> 0.84444444 | BQ12: Ind-cto | BR12: =IF((BN11>=BN13),1,(IF((BM13>BO11),"",((BM13-BO11)/((BN11-BO11)-(BN13-BM13)))))) -> 1 | BS12: nec-cto | BT12: =IF((BN12>=BN13),1,(IF((BM13>BO12),"",((BM13-BO12)/((BN12-BO12)-(BN13-BM13)))))) -> 1 | BU12: cto-nec | BV12: =IF((BN13>=BN12),1,(IF((BM12>BO13),"",((BM12-BO13)/((BN13-BO13)-(BN12-BM12)))))) | BW12: tec-nec | BX12: =IF((BN14>=BN12),1,(IF((BM12>BO14),"",((BM12-BO14)/((BN14-BO14)-(BN12-BM12)))))) | BZ12: Necesidad de la comunidad | CA12: =MIN(BT11:BT13) -> 1 | CC12: Necesidad de la comunidad | CD12: =CA12/SUM($CA$11:$CA$14) -> 0.33333333
B13: Costo beneficio | D13: 0.25 | E13: 0.33333333 | F13: 0.5 | H13: 0.16666667 | I13: 0.2 | J13: 0.25 | L13: 1 | M13: 1 | N13: 1 | P13: 0.25 | Q13: 0.33333333 | R13: 0.5 | U13: Costo beneficio | V13: =(4*E13+D13+F13)/6 -> 0.34722222 | W13: =(4*I13+H13+J13)/6 -> 0.20277778 | X13: =(4*M13+L13+N13)/6 -> 1 | Y13: =(4*Q13+P13+R13)/6 -> 0.34722222 | AA13: Costo beneficio | AB13: =V13/SUM($V$11:$V$14) -> 0.047801147 | AC13: =W13/SUM($W$11:$W$14) -> 0.12607945 | AD13: =X13/SUM($X$11:$X$14) -> 0.083333333 | AE13: =Y13/SUM($Y$11:$Y$14) -> 0.046210721 | AG13: Costo beneficio | AH13: =AVERAGE(AB13:AE13) -> 0.075856162 | AJ13: Costo beneficio | AK13: =V13*$AH$11+W13*$AH$12+X13*$AH$13+Y13*$AH$14 -> 0.31035447 | AM13: Costo beneficio | AN13: =AK13/AH13 -> 4.0913547 | AX13: Costo beneficio | AY13: =1/((SUM($F$11:$F$14)+SUM($J$11:$J$14)+SUM($N$11:$N$14)+SUM($R$11:$R$14))) -> 0.028776978 | AZ13: =1/(SUM($E$11:$E$14)+SUM($I$11:$I$14)+SUM($M$11:$M$14)+SUM($Q$11:$Q$14)) -> 0.035377358 | BA13: =1/(SUM($D$11:$D$14)+SUM($H$11:$H$14)+SUM($L$11:$L$14)+SUM($P$11:$P$14)) -> 0.044444444 | BC13: Costo beneficio | BD13: =D13+H13+L13+P13 -> 1.6666667 | BE13: =E13+I13+M13+Q13 -> 1.8666667 | BF13: =F13+J13+N13+R13 -> 2.25 | BL13: Costo beneficio | BM13: =AY13*BD13 -> 0.047961631 | BN13: =AZ13*BE13 -> 0.066037736 | BO13: =BA13*BF13 -> 0.1 | BQ13: Ind-tec | BR13: =IF((BN11>=BN14),1,(IF((BM14>BO11),"",((BM14-BO11)/((BN11-BO11)-(BN14-BM14)))))) -> 1 | BS13: nec-tec | BT13: =IF((BN12>=BN14),1,(IF((BM14>BO12),"",((BM14-BO12)/((BN12-BO12)-(BN14-BM14)))))) -> 1 | BU13: cto-tec | BV13: =IF((BN13>=BN14),1,(IF((BM14>BO13),"",((BM14-BO13)/((BN13-BO13)-(BN14-BM14)))))) | BW13: tec-cto | BX13: =IF((BN14>=BN13),1,(IF((BM13>BO14),"",((BM13-BO14)/((BN14-BO14)-(BN13-BM13)))))) -> 1 | BZ13: Costo beneficio | CA13: =MIN(BV11:BV13) -> 0 | CC13: Costo beneficio | CD13: =CA13/SUM($CA$11:$CA$14) -> 0
B14: Técnico | D14: 0.5 | E14: 1 | F14: 1 | H14: 0.16666667 | I14: 0.2 | J14: 0.25 | L14: 2 | M14: 3 | N14: 4 | P14: 1 | Q14: 1 | R14: 1 | U14: Técnico | V14: =(4*E14+D14+F14)/6 -> 0.91666667 | W14: =(4*I14+H14+J14)/6 -> 0.20277778 | X14: =(4*M14+L14+N14)/6 -> 3 | Y14: =(4*Q14+P14+R14)/6 -> 1 | AA14: Técnico | AB14: =V14/SUM($V$11:$V$14) -> 0.12619503 | AC14: =W14/SUM($W$11:$W$14) -> 0.12607945 | AD14: =X14/SUM($X$11:$X$14) -> 0.25 | AE14: =Y14/SUM($Y$11:$Y$14) -> 0.13308688 | AG14: Técnico | AH14: =AVERAGE(AB14:AE14) -> 0.15884034 | AJ14: Técnico | AK14: =V14*$AH$11+W14*$AH$12+X14*$AH$13+Y14*$AH$14 -> 0.66099592 | AM14: Técnico | AN14: =AK14/AH14 -> 4.1613858 | AX14: Técnico | AY14: =1/((SUM($F$11:$F$14)+SUM($J$11:$J$14)+SUM($N$11:$N$14)+SUM($R$11:$R$14))) -> 0.028776978 | AZ14: =1/(SUM($E$11:$E$14)+SUM($I$11:$I$14)+SUM($M$11:$M$14)+SUM($Q$11:$Q$14)) -> 0.035377358 | BA14: =1/(SUM($D$11:$D$14)+SUM($H$11:$H$14)+SUM($L$11:$L$14)+SUM($P$11:$P$14)) -> 0.044444444 | BC14: Técnico | BD14: =D14+H14+L14+P14 -> 3.6666667 | BE14: =E14+I14+M14+Q14 -> 5.2 | BF14: =F14+J14+N14+R14 -> 6.25 | BL14: Técnico | BM14: =AY14*BD14 -> 0.10551559 | BN14: =AZ14*BE14 -> 0.18396226 | BO14: =BA14*BF14 -> 0.27777778 | BZ14: Técnico | CA14: =MIN(BX11:BX13) -> 1 | CC14: Técnico | CD14: =CA14/SUM($CA$11:$CA$14) -> 0.33333333
D15: =IF(AV11<=0.1,"MATRIZ CONSISTENTE","MATRIZ INCONSISTENTE") -> MATRIZ CONSISTENTE | AB15: =SUM(AB11:AB14) -> 1 | AC15: =SUM(AC11:AC14) -> 1 | AD15: =SUM(AD11:AD14) -> 1 | AE15: =SUM(AE11:AE14) -> 1
B18: Nivel Dos
B20: Indicadores de pobreza | D20: Pertinencia | H20: Focalización | V20: Pertinencia | W20: Focalización | AB20: Pertinencia | AC20: Focalización
B22: Pertinencia | D22: 1 | E22: 1 | F22: 1 | H22: 0.25 | I22: 0.33333333 | J22: 0.5 | U22: Pertinencia | V22: 1 | W22: =(4*I22+H22+J22)/6 -> 0.34722222 | AA22: Pertinencia | AB22: =V22/($V$22+$V$23) -> 0.25 | AC22: =W22/($W$22+$W$23) -> 0.25773196 | AG22: Pertinencia | AH22: =AVERAGE(AB22:AC22) -> 0.25386598
B23: Focalización | D23: 2 | E23: 3 | F23: 4 | H23: 1 | I23: 1 | J23: 1 | U23: Focalización | V23: =(4*E23+D23+F23)/6 -> 3 | W23: 1 | AA23: Focalización | AB23: =V23/($V$22+$V$23) -> 0.75 | AC23: =W23/($W$22+$W$23) -> 0.74226804 | AG23: Focalización | AH23: =AVERAGE(AB23:AC23) -> 0.74613402
B25: Técnico | D25: Coordinación | H25: Eficacia | V25: Coordinación | W25: Eficacia | AB25: Pertinencia | AC25: Focalización
B27: Coordinación | D27: 1 | E27: 1 | F27: 1 | H27: 0.16666667 | I27: 0.2 | J27: 0.25 | U27: Coordinación | V27: =(4*E27+D27+F27)/6 -> 1 | W27: =(4*I27+H27+J27)/6 -> 0.20277778 | AA27: Coordinación | AB27: =V27/(V27+V28) -> 0.16666667 | AC27: =W27/($W$27+$W$28) -> 0.16859122 | AG27: Coordinación | AH27: =AVERAGE(AB27:AC27) -> 0.16762895
B28: Eficacia | D28: 4 | E28: 5 | F28: 6 | H28: 1 | I28: 1 | J28: 1 | U28: Eficacia | V28: =(4*E28+D28+F28)/6 -> 5 | W28: =(4*I28+H28+J28)/6 -> 1 | AA28: Eficacia | AB28: =V28/(V28+V27) -> 0.83333333 | AC28: =W28/($W$27+$W$28) -> 0.83140878 | AG28: Eficacia | AH28: =AVERAGE(AB28:AC28) -> 0.83237105
B33: Proyectos
C35: PROYECTO
B36: 1 | C36: Formación en danza y baile
B37: 2 | C37: Jornadas complementarias
B38: 3 | C38: Ludotecas comunitarias
B39: 4 | C39: Ajedrez infantil
B41: Comparación por pares de proyectos respecto de criterios | U41: Matriz defuzzificada | AA41: Matriz normalizada | AG41: Vector prioridad | AJ41: Nuevo vector | AM41: Vector prueba | AP41: Lambda máx | AR41: IC | AT41: IA | AV41: CC
AX42: Vector suma de la matriz
B44: Pertinencia | D44: 1 | H44: 2 | L44: 3 | P44: 4
V45: 1 | W45: 2 | X45: 3 | Y45: 4 | AB45: 1 | AC45: 2 | AD45: 3 | AE45: 4
B46: 1 | D46: 1 | E46: 1 | F46: 1 | H46: 0.25 | I46: 0.33333333 | J46: 0.5 | L46: 0.125 | M46: 0.14285714 | N46: 0.16666667 | P46: 0.5 | Q46: 1 | R46: 1 | U46: 1 | V46: =(4*E46+D46+F46)/6 -> 1 | W46: =(4*I46+H46+J46)/6 -> 0.34722222 | X46: =(4*M46+L46+N46)/6 -> 0.14384921 | Y46: =(4*Q46+P46+R46)/6 -> 0.91666667 | AA46: 1 | AB46: =V46/SUM($V$46:$V$49) -> 0.082191781 | AC46: =W46/SUM($W$46:$W$49) -> 0.13064576 | AD46: =X46/SUM($X$46:$X$49) -> 0.065256526 | AE46: =Y46/SUM($Y$46:$Y$49) -> 0.057591623 | AG46: 1 | AH46: =AVERAGE(AB46:AE46) -> 0.083921423 | AJ46: 1 | AK46: =V46*$AH$46+W46*$AH$47+X46*$AH$48+Y46*$AH$49 -> 0.3445986 | AM46: 1 | AN46: =AK46/AH46 -> 4.1062053 | AP46: =AVERAGE(AN46:AN49) -> 4.1507378 | AR46: =(AP46-4)/(4-1) -> 0.050245917 | AT46: 0.882 | AV46: =AR46/AT46 -> 0.05696816 | AX46: Indicadores de pobreza | AY46: =1/((SUM($F$46:$F$49)+SUM($J$46:$J$49)+SUM($N$46:$N$49)+SUM($R$46:$R$49))) -> 0.025641026 | AZ46: =1/(SUM($E$46:$E$49)+SUM($I$46:$I$49)+SUM($M$46:$M$49)+SUM($Q$46:$Q$49)) -> 0.030523256 | BA46: =1/(SUM($D$46:$D$49)+SUM($H$46:$H$49)+SUM($L$46:$L$49)+SUM($P$46:$P$49)) -> 0.036199095 | BC46: Indicadores de pobreza | BD46: =D46+H46+L46+P46 -> 1.875 | BE46: =E46+I46+M46+Q46 -> 2.4761905 | BF46: =F46+J46+N46+R46 -> 2.6666667 | BL46: Indicadores de pobreza | BM46: =AY46*BD46 -> 0.048076923 | BN46: =AZ46*BE46 -> 0.075581395 | BO46: =BA46*BF46 -> 0.09653092 | BQ46: Ind-nec | BR46: =IF((BN46>=BN47),1,(IF((BM47>BO46),"",((BM47-BO46)/((BN46-BO46)-(BN47-BM47)))))) | BS46: nec-Ind | BT46: =IF((BN47>=BN46),1,(IF((BM46>BO47),"",((BM46-BO47)/((BN47-BO47)-(BN46-BM46)))))) -> 1 | BU46: cto-Ind | BV46: =IF((BN48>=BN46),1,(IF((BM46>BO48),"",((BM46-BO48)/((BN48-BO48)-(BN46-BM46)))))) -> 1 | BW46: tec-Ind | BX46: =IF((BN49>=BN46),1,(IF((BM46>BO49),"",((BM46-BO49)/((BN49-BO49)-(BN46-BM46)))))) -> 0.92584307 | BZ46: Indicadores de pobreza | CA46: =MIN(BR46:BR48) -> 1 | CC46: Indicadores de pobreza | CD46: =CA46/SUM($CA$46:$CA$49) -> 0.28789495
B47: 2 | D47: 2 | E47: 3 | F47: 4 | H47: 1 | I47: 1 | J47: 1 | L47: 0.5 | M47: 1 | N47: 1 | P47: 6 | Q47: 7 | R47: 8 | U47: 2 | V47: =(4*E47+D47+F47)/6 -> 3 | W47: =(4*I47+H47+J47)/6 -> 1 | X47: =(4*M47+L47+N47)/6 -> 0.91666667 | Y47: =(4*Q47+P47+R47)/6 -> 7 | AA47: 2 | AB47: =V47/SUM($V$46:$V$49) -> 0.24657534 | AC47: =W47/SUM($W$46:$W$49) -> 0.3762598 | AD47: =X47/SUM($X$46:$X$49) -> 0.41584158 | AE47: =Y47/SUM($Y$46:$Y$49) -> 0.43979058 | AG47: 2 | AH47: =AVERAGE(AB47:AE47) -> 0.36961683 | AJ47: 2 | AK47: =V47*$AH$46+W47*$AH$47+X47*$AH$48+Y47*$AH$49 -> 1.5452463 | AM47: 2 | AN47: =AK47/AH47 -> 4.180671 | AX47: Necesidad de la comunidad | AY47: =1/((SUM($F$46:$F$49)+SUM($J$46:$J$49)+SUM($N$46:$N$49)+SUM($R$46:$R$49))) -> 0.025641026 | AZ47: =1/(SUM($E$46:$E$49)+SUM($I$46:$I$49)+SUM($M$46:$M$49)+SUM($Q$46:$Q$49)) -> 0.030523256 | BA47: =1/(SUM($D$46:$D$49)+SUM($H$46:$H$49)+SUM($L$46:$L$49)+SUM($P$46:$P$49)) -> 0.036199095 | BC47: Necesidad de la comunidad | BD47: =D47+H47+L47+P47 -> 9.5 | BE47: =E47+I47+M47+Q47 -> 12 | BF47: =F47+J47+N47+R47 -> 14 | BL47: Necesidad de la comunidad | BM47: =AY47*BD47 -> 0.24358974 | BN47: =AZ47*BE47 -> 0.36627907 | BO47: =BA47*BF47 -> 0.50678733 | BQ47: Ind-cto | BR47: =IF((BN46>=BN48),1,(IF((BM48>BO46),"",((BM48-BO46)/((BN46-BO46)-(BN48-BM48)))))) | BS47: nec-cto | BT47: =IF((BN47>=BN48),1,(IF((BM48>BO47),"",((BM48-BO47)/((BN47-BO47)-(BN48-BM48)))))) -> 0.54764612 | BU47: cto-nec | BV47: =IF((BN48>=BN47),1,(IF((BM47>BO48),"",((BM47-BO48)/((BN48-BO48)-(BN47-BM47)))))) -> 1 | BW47: tec-nec | BX47: =IF((BN49>=BN47),1,(IF((BM47>BO49),"",((BM47-BO49)/((BN49-BO49)-(BN47-BM47)))))) | BZ47: Necesidad de la comunidad | CA47: =MIN(BT46:BT48) -> 0.54764612 | CC47: Necesidad de la comunidad | CD47: =CA47/SUM($CA$46:$CA$49) -> 0.15766455
B48: 3 | D48: 6 | E48: 7 | F48: 8 | H48: 1 | I48: 1 | J48: 2 | L48: 1 | M48: 1 | N48: 1 | P48: 6 | Q48: 7 | R48: 8 | U48: 3 | V48: =(4*E48+D48+F48)/6 -> 7 | W48: =(4*I48+H48+J48)/6 -> 1.1666667 | X48: =(4*M48+L48+N48)/6 -> 1 | Y48: =(4*Q48+P48+R48)/6 -> 7 | AA48: 3 | AB48: =V48/SUM($V$46:$V$49) -> 0.57534247 | AC48: =W48/SUM($W$46:$W$49) -> 0.43896976 | AD48: =X48/SUM($X$46:$X$49) -> 0.45364536 | AE48: =Y48/SUM($Y$46:$Y$49) -> 0.43979058 | AG48: 3 | AH48: =AVERAGE(AB48:AE48) -> 0.47693704 | AJ48: 3 | AK48: =V48*$AH$46+W48*$AH$47+X48*$AH$48+Y48*$AH$49 -> 1.9822796 | AM48: 3 | AN48: =AK48/AH48 -> 4.156271 | AX48: Costo beneficio | AY48: =1/((SUM($F$46:$F$49)+SUM($J$46:$J$49)+SUM($N$46:$N$49)+SUM($R$46:$R$49))) -> 0.025641026 | AZ48: =1/(SUM($E$46:$E$49)+SUM($I$46:$I$49)+SUM($M$46:$M$49)+SUM($Q$46:$Q$49)) -> 0.030523256 | BA48: =1/(SUM($D$46:$D$49)+SUM($H$46:$H$49)+SUM($L$46:$L$49)+SUM($P$46:$P$49)) -> 0.036199095 | BC48: Costo beneficio | BD48: =D48+H48+L48+P48 -> 14 | BE48: =E48+I48+M48+Q48 -> 16 | BF48: =F48+J48+N48+R48 -> 19 | BL48: Costo beneficio | BM48: =AY48*BD48 -> 0.35897436 | BN48: =AZ48*BE48 -> 0.48837209 | BO48: =BA48*BF48 -> 0.68778281 | BQ48: Ind-tec | BR48: =IF((BN46>=BN49),1,(IF((BM49>BO46),"",((BM49-BO46)/((BN46-BO46)-(BN49-BM49)))))) -> 1 | BS48: nec-tec | BT48: =IF((BN47>=BN49),1,(IF((BM49>BO47),"",((BM49-BO47)/((BN47-BO47)-(BN49-BM49)))))) -> 1 | BU48: cto-tec | BV48: =IF((BN48>=BN49),1,(IF((BM49>BO48),"",((BM49-BO48)/((BN48-BO48)-(BN49-BM49)))))) -> 1 | BW48: tec-cto | BX48: =IF((BN49>=BN48),1,(IF((BM48>BO49),"",((BM48-BO49)/((BN49-BO49)-(BN48-BM48)))))) | BZ48: Costo beneficio | CA48: =MIN(BV46:BV48) -> 1 | CC48: Costo beneficio | CD48: =CA48/SUM($CA$46:$CA$49) -> 0.28789495
B49: 4 | D49: 1 | E49: 1 | F49: 2 | H49: 0.125 | I49: 0.14285714 | J49: 0.16666667 | L49: 0.125 | M49: 0.14285714 | N49: 0.16666667 | P49: 1 | Q49: 1 | R49: 1 | U49: 4 | V49: =(4*E49+D49+F49)/6 -> 1.1666667 | W49: =(4*I49+H49+J49)/6 -> 0.14384921 | X49: =(4*M49+L49+N49)/6 -> 0.14384921 | Y49: =(4*Q49+P49+R49)/6 -> 1 | AA49: 4 | AB49: =V49/SUM($V$46:$V$49) -> 0.095890411 | AC49: =W49/SUM($W$46:$W$49) -> 0.054124673 | AD49: =X49/SUM($X$46:$X$49) -> 0.065256526 | AE49: =Y49/SUM($Y$46:$Y$49) -> 0.062827225 | AG49: 4 | AH49: =AVERAGE(AB49:AE49) -> 0.069524709 | AJ49: 4 | AK49: =V49*$AH$46+W49*$AH$47+X49*$AH$48+Y49*$AH$49 -> 0.28920914 | AM49: 4 | AN49: =AK49/AH49 -> 4.1598037 | AX49: Técnico | AY49: =1/((SUM($F$46:$F$49)+SUM($J$46:$J$49)+SUM($N$46:$N$49)+SUM($R$46:$R$49))) -> 0.025641026 | AZ49: =1/(SUM($E$46:$E$49)+SUM($I$46:$I$49)+SUM($M$46:$M$49)+SUM($Q$46:$Q$49)) -> 0.030523256 | BA49: =1/(SUM($D$46:$D$49)+SUM($H$46:$H$49)+SUM($L$46:$L$49)+SUM($P$46:$P$49)) -> 0.036199095 | BC49: Técnico | BD49: =D49+H49+L49+P49 -> 2.25 | BE49: =E49+I49+M49+Q49 -> 2.2857143 | BF49: =F49+J49+N49+R49 -> 3.3333333 | BL49: Técnico | BM49: =AY49*BD49 -> 0.057692308 | BN49: =AZ49*BE49 -> 0.069767442 | BO49: =BA49*BF49 -> 0.12066365 | BZ49: Técnico | CA49: =MIN(BX46:BX48) -> 0.92584307 | CC49: Técnico | CD49: =CA49/SUM($CA$46:$CA$49) -> 0.26654555
D50: =IF(AV46<=0.1,"MATRIZ CONSISTENTE","MATRIZ INCONSISTENTE") -> MATRIZ CONSISTENTE | AB50: =SUM(AB46:AB49) -> 1 | AC50: =SUM(AC46:AC49) -> 1 | AD50: =SUM(AD46:AD49) -> 1 | AE50: =SUM(AE46:AE49) -> 1
B53: Focalización | D53: 1 | H53: 2 | L53: 3 | P53: 4
V54: 1 | W54: 2 | X54: 3 | Y54: 4 | AB54: 1 | AC54: 2 | AD54: 3 | AE54: 4
B55: 1 | D55: 1 | E55: 1 | F55: 1 | H55: 2 | I55: 3 | J55: 4 | L55: 0.5 | M55: 1 | N55: 1 | P55: 2 | Q55: 3 | R55: 4 | U55: 1 | V55: =(4*E55+D55+F55)/6 -> 1 | W55: =(4*I55+H55+J55)/6 -> 3 | X55: =(4*M55+L55+N55)/6 -> 0.91666667 | Y55: =(4*Q55+P55+R55)/6 -> 3 | AA55: 1 | AB55: =V55/SUM($V$55:$V$58) -> 0.34951456 | AC55: =W55/SUM($W$55:$W$58) -> 0.40831758 | AD55: =X55/SUM($X$55:$X$58) -> 0.38071693 | AE55: =Y55/SUM($Y$55:$Y$58) -> 0.21428571 | AG55: 1 | AH55: =AVERAGE(AB55:AE55) -> 0.3382087 | AJ55: 1 | AK55: =V55*$AH$55+W55*$AH$56+X55*$AH$57+Y55*$AH$58 -> 1.4218054 | AM55: 1 | AN55: =AK55/AH55 -> 4.2039293 | AP55: =AVERAGE(AN55:AN58) -> 4.1761522 | AR55: =(AP55-4)/(4-1) -> 0.058717401 | AT55: 0.882 | AV55: =AR55/AT55 -> 0.066573017 | AX55: Indicadores de pobreza | AY55: =1/((SUM($F$55:$F$58)+SUM($J$55:$J$58)+SUM($N$55:$N$58)+SUM($R$55:$R$58))) -> 0.030150754 | AZ55: =1/(SUM($E$55:$E$58)+SUM($I$55:$I$58)+SUM($M$55:$M$58)+SUM($Q$55:$Q$58)) -> 0.037769784 | BA55: =1/(SUM($D$55:$D$58)+SUM($H$55:$H$58)+SUM($L$55:$L$58)+SUM($P$55:$P$58)) -> 0.048484848 | BC55: Indicadores de pobreza | BD55: =D55+H55+L55+P55 -> 5.5 | BE55: =E55+I55+M55+Q55 -> 8 | BF55: =F55+J55+N55+R55 -> 10 | BL55: Indicadores de pobreza | BM55: =AY55*BD55 -> 0.16582915 | BN55: =AZ55*BE55 -> 0.30215827 | BO55: =BA55*BF55 -> 0.48484848 | BQ55: Ind-nec | BR55: =IF((BN55>=BN56),1,(IF((BM56>BO55),"",((BM56-BO55)/((BN55-BO55)-(BN56-BM56)))))) -> 1 | BS55: nec-Ind | BT55: =IF((BN56>=BN55),1,(IF((BM55>BO56),"",((BM55-BO56)/((BN56-BO56)-(BN55-BM55)))))) -> 0.49836772 | BU55: cto-Ind | BV55: =IF((BN57>=BN55),1,(IF((BM55>BO57),"",((BM55-BO57)/((BN57-BO57)-(BN55-BM55)))))) -> 1 | BW55: tec-Ind | BX55: =IF((BN58>=BN55),1,(IF((BM55>BO58),"",((BM55-BO58)/((BN58-BO58)-(BN55-BM55)))))) | BZ55: Indicadores de pobreza | CA55: =MIN(BR55:BR57) -> 0.54823546 | CC55: Indicadores de pobreza | CD55: =CA55/SUM($CA$55:$CA$58) -> 0.2678758
B56: 2 | D56: 0.25 | E56: 0.33333333 | F56: 0.5 | H56: 1 | I56: 1 | J56: 1 | L56: 0.25 | M56: 0.33333333 | N56: 0.5 | P56: 2 | Q56: 3 | R56: 4 | U56: 2 | V56: =(4*E56+D56+F56)/6 -> 0.34722222 | W56: =(4*I56+H56+J56)/6 -> 1 | X56: =(4*M56+L56+N56)/6 -> 0.34722222 | Y56: =(4*Q56+P56+R56)/6 -> 3 | AA56: 2 | AB56: =V56/SUM($V$55:$V$58) -> 0.12135922 | AC56: =W56/SUM($W$55:$W$58) -> 0.13610586 | AD56: =X56/SUM($X$55:$X$58) -> 0.14421096 | AE56: =Y56/SUM($Y$55:$Y$58) -> 0.21428571 | AG56: 2 | AH56: =AVERAGE(AB56:AE56) -> 0.15399044 | AJ56: 2 | AK56: =V56*$AH$55+W56*$AH$56+X56*$AH$57+Y56*$AH$58 -> 0.64656369 | AM56: 2 | AN56: =AK56/AH56 -> 4.1987262 | AX56: Necesidad de la comunidad | AY56: =1/((SUM($F$55:$F$58)+SUM($J$55:$J$58)+SUM($N$55:$N$58)+SUM($R$55:$R$58))) -> 0.030150754 | AZ56: =1/(SUM($E$55:$E$58)+SUM($I$55:$I$58)+SUM($M$55:$M$58)+SUM($Q$55:$Q$58)) -> 0.037769784 | BA56: =1/(SUM($D$55:$D$58)+SUM($H$55:$H$58)+SUM($L$55:$L$58)+SUM($P$55:$P$58)) -> 0.048484848 | BC56: Necesidad de la comunidad | BD56: =D56+H56+L56+P56 -> 3.5 | BE56: =E56+I56+M56+Q56 -> 4.6666667 | BF56: =F56+J56+N56+R56 -> 6 | BL56: Necesidad de la comunidad | BM56: =AY56*BD56 -> 0.10552764 | BN56: =AZ56*BE56 -> 0.17625899 | BO56: =BA56*BF56 -> 0.29090909 | BQ56: Ind-cto | BR56: =IF((BN55>=BN57),1,(IF((BM57>BO55),"",((BM57-BO55)/((BN55-BO55)-(BN57-BM57)))))) -> 0.54823546 | BS56: nec-cto | BT56: =IF((BN56>=BN57),1,(IF((BM57>BO56),"",((BM57-BO56)/((BN56-BO56)-(BN57-BM57)))))) | BU56: cto-nec | BV56: =IF((BN57>=BN56),1,(IF((BM56>BO57),"",((BM56-BO57)/((BN57-BO57)-(BN56-BM56)))))) -> 1 | BW56: tec-nec | BX56: =IF((BN58>=BN56),1,(IF((BM56>BO58),"",((BM56-BO58)/((BN58-BO58)-(BN56-BM56)))))) | BZ56: Necesidad de la comunidad | CA56: =MIN(BT55:BT57) -> 0.49836772 | CC56: Necesidad de la comunidad | CD56: =CA56/SUM($CA$55:$CA$58) -> 0.2435097
B57: 3 | D57: 1 | E57: 1 | F57: 2 | H57: 2 | I57: 3 | J57: 4 | L57: 1 | M57: 1 | N57: 1 | P57: 6 | Q57: 7 | R57: 8 | U57: 3 | V57: =(4*E57+D57+F57)/6 -> 1.1666667 | W57: =(4*I57+H57+J57)/6 -> 3 | X57: =(4*M57+L57+N57)/6 -> 1 | Y57: =(4*Q57+P57+R57)/6 -> 7 | AA57: 3 | AB57: =V57/SUM($V$55:$V$58) -> 0.40776699 | AC57: =W57/SUM($W$55:$W$58) -> 0.40831758 | AD57: =X57/SUM($X$55:$X$58) -> 0.41532756 | AE57: =Y57/SUM($Y$55:$Y$58) -> 0.5 | AG57: 3 | AH57: =AVERAGE(AB57:AE57) -> 0.43285303 | AJ57: 3 | AK57: =V57*$AH$55+W57*$AH$56+X57*$AH$57+Y57*$AH$58 -> 1.814036 | AM57: 3 | AN57: =AK57/AH57 -> 4.190882 | AT57: 1.98 | AV57: =AR55/AT57 -> 0.029655253 | AX57: Costo beneficio | AY57: =1/((SUM($F$55:$F$58)+SUM($J$55:$J$58)+SUM($N$55:$N$58)+SUM($R$55:$R$58))) -> 0.030150754 | AZ57: =1/(SUM($E$55:$E$58)+SUM($I$55:$I$58)+SUM($M$55:$M$58)+SUM($Q$55:$Q$58)) -> 0.037769784 | BA57: =1/(SUM($D$55:$D$58)+SUM($H$55:$H$58)+SUM($L$55:$L$58)+SUM($P$55:$P$58)) -> 0.048484848 | BC57: Costo beneficio | BD57: =D57+H57+L57+P57 -> 10 | BE57: =E57+I57+M57+Q57 -> 12 | BF57: =F57+J57+N57+R57 -> 15 | BL57: Costo beneficio | BM57: =AY57*BD57 -> 0.30150754 | BN57: =AZ57*BE57 -> 0.45323741 | BO57: =BA57*BF57 -> 0.72727273 | BQ57: Ind-tec | BR57: =IF((BN55>=BN58),1,(IF((BM58>BO55),"",((BM58-BO55)/((BN55-BO55)-(BN58-BM58)))))) -> 1 | BS57: nec-tec | BT57: =IF((BN56>=BN58),1,(IF((BM58>BO56),"",((BM58-BO56)/((BN56-BO56)-(BN58-BM58)))))) -> 1 | BU57: cto-tec | BV57: =IF((BN57>=BN58),1,(IF((BM58>BO57),"",((BM58-BO57)/((BN57-BO57)-(BN58-BM58)))))) -> 1 | BW57: tec-cto | BX57: =IF((BN58>=BN57),1,(IF((BM57>BO58),"",((BM57-BO58)/((BN58-BO58)-(BN57-BM57)))))) | BZ57: Costo beneficio | CA57: =MIN(BV55:BV57) -> 1 | CC57: Costo beneficio | CD57: =CA57/SUM($CA$55:$CA$58) -> 0.48861451
B58: 4 | D58: 0.25 | E58: 0.33333333 | F58: 0.5 | H58: 0.25 | I58: 0.33333333 | J58: 0.5 | L58: 0.125 | M58: 0.14285714 | N58: 0.16666667 | P58: 1 | Q58: 1 | R58: 1 | U58: 4 | V58: =(4*E58+D58+F58)/6 -> 0.34722222 | W58: =(4*I58+H58+J58)/6 -> 0.34722222 | X58: =(4*M58+L58+N58)/6 -> 0.14384921 | Y58: =(4*Q58+P58+R58)/6 -> 1 | AA58: 4 | AB58: =V58/SUM($V$55:$V$58) -> 0.12135922 | AC58: =W58/SUM($W$55:$W$58) -> 0.047258979 | AD58: =X58/SUM($X$55:$X$58) -> 0.059744541 | AE58: =Y58/SUM($Y$55:$Y$58) -> 0.071428571 | AG58: 4 | AH58: =AVERAGE(AB58:AE58) -> 0.074947829 | AJ58: 4 | AK58: =V58*$AH$55+W58*$AH$56+X58*$AH$57+Y58*$AH$58 -> 0.30811587 | AM58: 4 | AN58: =AK58/AH58 -> 4.1110714 | AX58: Técnico | AY58: =1/((SUM($F$55:$F$58)+SUM($J$55:$J$58)+SUM($N$55:$N$58)+SUM($R$55:$R$58))) -> 0.030150754 | AZ58: =1/(SUM($E$55:$E$58)+SUM($I$55:$I$58)+SUM($M$55:$M$58)+SUM($Q$55:$Q$58)) -> 0.037769784 | BA58: =1/(SUM($D$55:$D$58)+SUM($H$55:$H$58)+SUM($L$55:$L$58)+SUM($P$55:$P$58)) -> 0.048484848 | BC58: Técnico | BD58: =D58+H58+L58+P58 -> 1.625 | BE58: =E58+I58+M58+Q58 -> 1.8095238 | BF58: =F58+J58+N58+R58 -> 2.1666667 | BL58: Técnico | BM58: =AY58*BD58 -> 0.048994975 | BN58: =AZ58*BE58 -> 0.068345324 | BO58: =BA58*BF58 -> 0.10505051 | BZ58: Técnico | CA58: =MIN(BX55:BX57) -> 0 | CC58: Técnico | CD58: =CA58/SUM($CA$55:$CA$58) -> 0
D59: =IF(AV55<=0.1,"MATRIZ CONSISTENTE","MATRIZ INCONSISTENTE") -> MATRIZ CONSISTENTE | AB59: =SUM(AB55:AB58) -> 1 | AC59: =SUM(AC55:AC58) -> 1 | AD59: =SUM(AD55:AD58) -> 1 | AE59: =SUM(AE55:AE58) -> 1
B62: Necesidad de la comunidad | D62: 1 | H62: 2 | L62: 3 | P62: 4
V63: 1 | W63: 2 | X63: 3 | Y63: 4 | AB63: 1 | AC63: 2 | AD63: 3 | AE63: 4
...

Sheet Valoración Gaviria
B5: MATRICES DE COMPARACIÓN POR PARES DE CRITERIOS
B7: Nivel Uno | U7: Matriz defuzzificada | AA7: Matriz normalizada | AG7: Vector prioridad | AJ7: Nuevo vector | AM7: Vector prueba | AP7: Lambda máx | AR7: IC | AT7: IA | AV7: CC
B9: Criterios | D9: Indicadores de pobreza | H9: Necesidad de la comunidad | L9: Costo beneficio | P9: Ténico | V9: Indicadores de pobreza | W9: Necesidad de la comunidad | X9: Costo beneficio | Y9: Ténico | AB9: Indicadores de pobreza | AC9: Necesidad de la comunidad | AD9: Costo beneficio | AE9: Ténico
W10: Necesidad de la comunidad | X10: Costo beneficio | Y10: Ténico | AC10: Necesidad de la comunidad | AD10: Costo beneficio | AE10: Ténico
B11: Indicadores de pobreza | D11: 1 | E11: 1 | F11: 1 | H11: 1 | I11: 1 | J11: 2 | L11: 0.25 | M11: 0.33333333 | N11: 0.5 | P11: 0.25 | Q11: 0.33333333 | R11: 0.5 | U11: Indicadores de pobreza | V11: =(4*E11+D11+F11)/6 -> 1 | W11: =(4*I11+H11+J11)/6 -> 1.1666667 | X11: =(4*M11+L11+N11)/6 -> 0.34722222 | Y11: =(4*Q11+P11+R11)/6 -> 0.34722222 | AA11: Indicadores de pobreza | AB11: =V11/SUM($V$11:$V$14) -> 0.12631579 | AC11: =W11/SUM($W$11:$W$14) -> 0.1147541 | AD11: =X11/SUM($X$11:$X$14) -> 0.073964497 | AE11: =Y11/SUM($Y$11:$Y$14) -> 0.18301611 | AG11: Indicadores de pobreza | AH11: =AVERAGE(AB11:AE11) -> 0.12451262 | AJ11: Indicadores de pobreza | AK11: =V11*$AH$11+W11*$AH$12+X11*$AH$13+Y11*$AH$14 -> 0.50942062 | AM11: Indicadores de pobreza | AN11: =AK11/AH11 -> 4.0913171 | AP11: =AVERAGE(AN11:AN14) -> 4.1693244 | AR11: =(AP11-4)/(4-1) -> 0.056441454 | AT11: 0.882 | AV11: =AR11/AT11 -> 0.063992579
B12: Necesidad de la comunidad | D12: 0.5 | E12: 1 | F12: 1 | H12: 1 | I12: 1 | J12: 1 | L12: 0.25 | M12: 0.33333333 | N12: 0.5 | P12: 0.16666667 | Q12: 0.2 | R12: 0.25 | U12: Necesidad de la comunidad | V12: =(4*E12+D12+F12)/6 -> 0.91666667 | W12: =(4*I12+H12+J12)/6 -> 1 | X12: =(4*M12+L12+N12)/6 -> 0.34722222 | Y12: =(4*Q12+P12+R12)/6 -> 0.20277778 | AA12: Necesidad de la comunidad | AB12: =V12/SUM($V$11:$V$14) -> 0.11578947 | AC12: =W12/SUM($W$11:$W$14) -> 0.098360656 | AD12: =X12/SUM($X$11:$X$14) -> 0.073964497 | AE12: =Y12/SUM($Y$11:$Y$14) -> 0.10688141 | AG12: Necesidad de la comunidad | AH12: =AVERAGE(AB12:AE12) -> 0.098749008 | AJ12: Necesidad de la comunidad | AK12: =V12*$AH$11+W12*$AH$12+X12*$AH$13+Y12*$AH$14 -> 0.40903203 | AM12: Necesidad de la comunidad | AN12: =AK12/AH12 -> 4.1421381
B13: Costo beneficio | D13: 2 | E13: 3 | F13: 4 | H13: 2 | I13: 3 | J13: 4 | L13: 1 | M13: 1 | N13: 1 | P13: 0.25 | Q13: 0.33333333 | R13: 0.5 | U13: Costo beneficio | V13: =(4*E13+D13+F13)/6 -> 3 | W13: =(4*I13+H13+J13)/6 -> 3 | X13: =(4*M13+L13+N13)/6 -> 1 | Y13: =(4*Q13+P13+R13)/6 -> 0.34722222 | AA13: Costo beneficio | AB13: =V13/SUM($V$11:$V$14) -> 0.37894737 | AC13: =W13/SUM($W$11:$W$14) -> 0.29508197 | AD13: =X13/SUM($X$11:$X$14) -> 0.21301775 | AE13: =Y13/SUM($Y$11:$Y$14) -> 0.18301611 | AG13: Costo beneficio | AH13: =AVERAGE(AB13:AE13) -> 0.2675158 | AJ13: Costo beneficio | AK13: =V13*$AH$11+W13*$AH$12+X13*$AH$13+Y13*$AH$14 -> 1.1141141 | AM13: Costo beneficio | AN13: =AK13/AH13 -> 4.1646665 | AT13: 1.98 | AV13: =AR11/AT13 -> 0.028505785
B14: Ténico | D14: 2 | E14: 3 | F14: 4 | H14: 4 | I14: 5 | J14: 6 | L14: 2 | M14: 3 | N14: 4 | P14: 1 | Q14: 1 | R14: 1 | U14: Ténico | V14: =(4*E14+D14+F14)/6 -> 3 | W14: =(4*I14+H14+J14)/6 -> 5 | X14: =(4*M14+L14+N14)/6 -> 3 | Y14: =(4*Q14+P14+R14)/6 -> 1 | AA14: Ténico | AB14: =V14/SUM($V$11:$V$14) -> 0.37894737 | AC14: =W14/SUM($W$11:$W$14) -> 0.49180328 | AD14: =X14/SUM($X$11:$X$14) -> 0.63905325 | AE14: =Y14/SUM($Y$11:$Y$14) -> 0.52708638 | AG14: Ténico | AH14: =AVERAGE(AB14:AE14) -> 0.50922257 | AJ14: Ténico | AK14: =V14*$AH$11+W14*$AH$12+X14*$AH$13+Y14*$AH$14 -> 2.1790529 | AM14: Ténico | AN14: =AK14/AH14 -> 4.2791757
D15: =IF(AV11<=0.1,"MATRIZ CONSISTENTE","MATRIZ INCONSISTENTE") -> MATRIZ CONSISTENTE | AB15: =SUM(AB11:AB14) -> 1 | AC15: =SUM(AC11:AC14) -> 1 | AD15: =SUM(AD11:AD14) -> 1 | AE15: =SUM(AE11:AE14) -> 1
B18: Nivel Dos
B20: Indicadores de pobreza | D20: Pertinencia | H20: Focalización | V20: Pertinencia | W20: Focalización | AB20: Pertinencia | AC20: Focalización
B22: Pertinencia | D22: 1 | E22: 1 | F22: 1 | H22: 1 | I22: 1 | J22: 2 | U22: Pertinencia | V22: 1 | W22: =(4*I22+H22+J22)/6 -> 1.1666667 | AA22: Pertinencia | AB22: =V22/($V$22+$V$23) -> 0.52173913 | AC22: =W22/($W$22+$W$23) -> 0.53846154 | AG22: Pertinencia | AH22: =AVERAGE(AB22:AC22) -> 0.53010033
B23: Focalización | D23: 1 | E23: 1 | F23: 0.5 | H23: 1 | I23: 1 | J23: 1 | U23: Focalización | V23: =(4*E23+D23+F23)/6 -> 0.91666667 | W23: 1 | AA23: Focalización | AB23: =V23/($V$22+$V$23) -> 0.47826087 | AC23: =W23/($W$22+$W$23) -> 0.46153846 | AG23: Focalización | AH23: =AVERAGE(AB23:AC23) -> 0.46989967
B25: Técnico | D25: Coordinación | H25: Eficacia | V25: Coordinación | W25: Eficacia | AB25: Pertinencia | AC25: Focalización
